BEGIN:VCALENDAR
VERSION:2.0
PRODID:-//Health Capital Helsinki - ECPv6.15.20//NONSGML v1.0//EN
CALSCALE:GREGORIAN
METHOD:PUBLISH
X-WR-CALNAME:Health Capital Helsinki
X-ORIGINAL-URL:https://healthcapitalhelsinki.fi
X-WR-CALDESC:Events for Health Capital Helsinki
REFRESH-INTERVAL;VALUE=DURATION:PT1H
X-Robots-Tag:noindex
X-PUBLISHED-TTL:PT1H
BEGIN:VTIMEZONE
TZID:Europe/Helsinki
BEGIN:DAYLIGHT
TZOFFSETFROM:+0200
TZOFFSETTO:+0300
TZNAME:EEST
DTSTART:20220327T010000
END:DAYLIGHT
BEGIN:STANDARD
TZOFFSETFROM:+0300
TZOFFSETTO:+0200
TZNAME:EET
DTSTART:20221030T010000
END:STANDARD
BEGIN:DAYLIGHT
TZOFFSETFROM:+0200
TZOFFSETTO:+0300
TZNAME:EEST
DTSTART:20230326T010000
END:DAYLIGHT
BEGIN:STANDARD
TZOFFSETFROM:+0300
TZOFFSETTO:+0200
TZNAME:EET
DTSTART:20231029T010000
END:STANDARD
BEGIN:DAYLIGHT
TZOFFSETFROM:+0200
TZOFFSETTO:+0300
TZNAME:EEST
DTSTART:20240331T010000
END:DAYLIGHT
BEGIN:STANDARD
TZOFFSETFROM:+0300
TZOFFSETTO:+0200
TZNAME:EET
DTSTART:20241027T010000
END:STANDARD
END:VTIMEZONE
BEGIN:VEVENT
DTSTART;VALUE=DATE:20230206
DTEND;VALUE=DATE:20230207
DTSTAMP:20260419T170049
CREATED:20221122T104002Z
LAST-MODIFIED:20221122T104002Z
UID:20847-1675641600-1675727999@healthcapitalhelsinki.fi
SUMMARY:SmiLe Bootcamp – Get your business idea investment-ready in 10 weeks
DESCRIPTION:Breaking into the life sciences market is difficult – but doable. In just 10 weeks\, SmiLe Bootcamp helps you get all the skills and insights you need to turn your brilliant idea into a scalable business. \nSmiLe Bootcamp is an intensive virtual development program designed to accelerate early-stage HealthTech\, MedTech and eHealth startups the point where they are investment-ready. They offer 8 selected participants online workshops\, 1:1 coaching and access industry experts\, all free of charge! \nRead more and apply by 6 February! The 10-week intensive program starts in March 2023.
URL:https://healthcapitalhelsinki.fi/event/smile-bootcamp/
CATEGORIES:Opportunities
ATTACH;FMTTYPE=image/jpeg:https://healthcapitalhelsinki.fi/wp-content/uploads/2022/11/SMILE-Bootcamp.jpg
END:VEVENT
BEGIN:VEVENT
DTSTART;TZID=Europe/Helsinki:20230207T080000
DTEND;TZID=Europe/Helsinki:20230207T090000
DTSTAMP:20260419T170049
CREATED:20230118T150256Z
LAST-MODIFIED:20230118T150256Z
UID:21106-1675756800-1675760400@healthcapitalhelsinki.fi
SUMMARY:Health Tuesday: Digitally supported wellbeing
DESCRIPTION:Organiser: Business Finland \nThree interesting cases and opportunity to learn more about digitally supported wellbeing – a growing sector\, covering areas such as mental wellbeing\, corporate wellness\, fitness and many more. \nCheck out the agenda & sign up!
URL:https://healthcapitalhelsinki.fi/event/health-tuesday-digitally-supported-wellbeing/
CATEGORIES:Events
ATTACH;FMTTYPE=image/png:https://healthcapitalhelsinki.fi/wp-content/uploads/2021/02/BF.png
END:VEVENT
BEGIN:VEVENT
DTSTART;TZID=Europe/Helsinki:20230214T140000
DTEND;TZID=Europe/Helsinki:20230214T170000
DTSTAMP:20260419T170049
CREATED:20230123T153840Z
LAST-MODIFIED:20230123T153840Z
UID:21122-1676383200-1676394000@healthcapitalhelsinki.fi
SUMMARY:New Nordics Health Innovation Demo Day
DESCRIPTION:Organiser: Health Founders\, Health Incubator Helsinki and DigitalWell Ventures \nWelcome to first New Nordics Health Innovation Demo Day\, showcasing the rising stars of the New Nordics health innovation ecosystem! In this online event\, 15 promising health tech startups from Estonia\, Finland\, Sweden and Norway will showcase their solutions. \nSee the agenda and sign up for the free online event
URL:https://healthcapitalhelsinki.fi/event/new-nordics-health-innovation-demo-day/
CATEGORIES:Events
ATTACH;FMTTYPE=image/png:https://healthcapitalhelsinki.fi/wp-content/uploads/2023/01/New-Nordics-Demo-Day-02-23.png
END:VEVENT
BEGIN:VEVENT
DTSTART;TZID=Europe/Helsinki:20230216T140000
DTEND;TZID=Europe/Helsinki:20230216T160000
DTSTAMP:20260419T170049
CREATED:20230131T092741Z
LAST-MODIFIED:20230131T092741Z
UID:21159-1676556000-1676563200@healthcapitalhelsinki.fi
SUMMARY:Meilahti Innovation Cheese ‘n’ Wine
DESCRIPTION:Organiser: University of Helsinki and Terkko Health Hub \nAre you a researcher\, student\, entrepreneur\, investor\, or corporate employee interested in health and pharma innovation? Do you want to hear more about how researchers bring their discoveries to society and the help they receive along the way? \nCheese \’n\’ Wine (CnW) is an open series of events where short speeches will be heard from innovative researchers\, students\, companies\, and possibly innovation funding bodies. The event has been organized in Viikki three times in 2022\, and from January 2023\, CnW events will be held approximately once a month\, alternating on all campuses. The first event taking place in Meilahti campus will be held in English at Terkko Health Hub on 16 February from 2 to 4 pm. \nSee the program and sign up by 13 February!
URL:https://healthcapitalhelsinki.fi/event/meilahti-innovation-cheese-n-wine/
CATEGORIES:Events
ATTACH;FMTTYPE=image/jpeg:https://healthcapitalhelsinki.fi/wp-content/uploads/2023/01/Meilahti-Cheese-n-Wine-160223-copy.jpg
END:VEVENT
BEGIN:VEVENT
DTSTART;VALUE=DATE:20230224
DTEND;VALUE=DATE:20230225
DTSTAMP:20260419T170049
CREATED:20230127T110847Z
LAST-MODIFIED:20230127T110847Z
UID:21144-1677196800-1677283199@healthcapitalhelsinki.fi
SUMMARY:90 Day Finn - Want to grow your business and explore life in Helsinki?
DESCRIPTION:Are you looking to take your business to the next level? The 90 Day Finn programme by Helsinki Partners is now accepting applications! Don\’t miss out on this exciting chance to fast-track your career in Helsinki\, the capital of the happiest country in the world. \nThe 90 Day Finn Programme brings together forward-thinking professionals from around the globe to Helsinki for 90 days. This unique opportunity is designed to help participants grow their businesses while experiencing life and work in Finland. The programme runs from August to October 2023. \nRead more and apply by 24 February!
URL:https://healthcapitalhelsinki.fi/event/90-day-finn-want-to-grow-your-business-and-explore-life-in-helsinki/
CATEGORIES:Opportunities
ATTACH;FMTTYPE=image/jpeg:https://healthcapitalhelsinki.fi/wp-content/uploads/2023/01/90DF_black_transp-copy.jpg
END:VEVENT
BEGIN:VEVENT
DTSTART;VALUE=DATE:20230228
DTEND;VALUE=DATE:20230301
DTSTAMP:20260419T170049
CREATED:20230109T110029Z
LAST-MODIFIED:20230109T110029Z
UID:21006-1677542400-1677628799@healthcapitalhelsinki.fi
SUMMARY:The Digital Health Industry Exhibition DMEA
DESCRIPTION:The Digital Health Industry Exhibition DMEA in Berlin is the largest gathering of digital healthcare and trade professionals in the DACH region. It is visited by administrative directors\, doctors and nurses from German\, Austrian and Swiss hospitals\, clinics and medical institutions. In 2022\, DMEA had more than 500 exhibitors and was visited by over 11\,000 healthcare professionals. In 2023\, DMEA takes place on 25–27 April. \nBusiness Finland is organising a Finland pavilion at DMEA.
URL:https://healthcapitalhelsinki.fi/event/the-digital-health-industry-exhibition-dmea-copy/
CATEGORIES:Opportunities
END:VEVENT
BEGIN:VEVENT
DTSTART;TZID=Europe/Helsinki:20230228T180000
DTEND;TZID=Europe/Helsinki:20230228T190000
DTSTAMP:20260419T170049
CREATED:20230220T100957Z
LAST-MODIFIED:20230220T100957Z
UID:21232-1677607200-1677610800@healthcapitalhelsinki.fi
SUMMARY:Webinar: Partner with Bayer
DESCRIPTION:Meet Bayer\’s EMEA Partnering Team: Collaborate To Cure Hub EMEA \nPassionate about bringing innovation to patients? Are you working on the next breakthrough project in healthcare? Are you researching and innovating in Cell & Gene Therapy\, Oncology\, Immunology\, Ophthalmology\, Cardiovascular Diseases\, Women’s Health\, Radiology\, or Digital Health? \nBayer wants to hear from you! Connect with Bayer\’s EMEA Partnering Team at one of their meet & greet partnering webinars hosted by the Bayer Collaborate to Cure Hub EMEA. \nChoose one of the dates: 28 February / 24 March / 20 April \nRegister\nBayer global partnering info
URL:https://healthcapitalhelsinki.fi/event/webinar-partner-with-bayer/
CATEGORIES:Opportunities
ATTACH;FMTTYPE=image/jpeg:https://healthcapitalhelsinki.fi/wp-content/uploads/2023/02/Meet-Bayer.jpg
END:VEVENT
BEGIN:VEVENT
DTSTART;VALUE=DATE:20230301
DTEND;VALUE=DATE:20230303
DTSTAMP:20260419T170049
CREATED:20230217T114136Z
LAST-MODIFIED:20230217T114136Z
UID:21229-1677628800-1677801599@healthcapitalhelsinki.fi
SUMMARY:UK Life Sciences Market Entry Virtual 1-2-1 Connector Workshop
DESCRIPTION:Organiser: GTM Global with partners \nExclusive Access to the UK Healthtech and Healthcare Markets \nWith an annual market of over £80 billion\, the UK is the perfect launch pad for ambitious Nordic medtech devices\, digital health\, pharma\, biopharma\, CRO and academic companies to expand internationally. Success in the UK is then often a platform to scale up in the US too! \nGTM Global is hosting a suite of Virtual Market Entry Lifesciences Workshops for Healthtech and Healthcare companies from Sweden\, Denmark\, Norway\, and Finland – to land and expand in the UK. \nReserve your virtual slot to get 1-to-1 connector meetings with specialist UK advisers from London\, Edinburgh\, Manchester\, Leeds\, Oxford\, Cambridge and Gloucester. \nRead more and register either for the workshop either on 1 eller 2 March. The cost is £99 per company. \n 
URL:https://healthcapitalhelsinki.fi/event/uk-life-sciences-market-entry-virtual-1-2-1-connector-workshop/
CATEGORIES:Opportunities
END:VEVENT
END:VCALENDAR