BEGIN:VCALENDAR
VERSION:2.0
PRODID:-//Health Capital Helsinki - ECPv6.15.20//NONSGML v1.0//EN
CALSCALE:GREGORIAN
METHOD:PUBLISH
X-ORIGINAL-URL:https://healthcapitalhelsinki.fi
X-WR-CALDESC:Events for Health Capital Helsinki
REFRESH-INTERVAL;VALUE=DURATION:PT1H
X-Robots-Tag:noindex
X-PUBLISHED-TTL:PT1H
BEGIN:VTIMEZONE
TZID:Europe/Helsinki
BEGIN:DAYLIGHT
TZOFFSETFROM:+0200
TZOFFSETTO:+0300
TZNAME:EEST
DTSTART:20210328T010000
END:DAYLIGHT
BEGIN:STANDARD
TZOFFSETFROM:+0300
TZOFFSETTO:+0200
TZNAME:EET
DTSTART:20211031T010000
END:STANDARD
BEGIN:DAYLIGHT
TZOFFSETFROM:+0200
TZOFFSETTO:+0300
TZNAME:EEST
DTSTART:20220327T010000
END:DAYLIGHT
BEGIN:STANDARD
TZOFFSETFROM:+0300
TZOFFSETTO:+0200
TZNAME:EET
DTSTART:20221030T010000
END:STANDARD
BEGIN:DAYLIGHT
TZOFFSETFROM:+0200
TZOFFSETTO:+0300
TZNAME:EEST
DTSTART:20230326T010000
END:DAYLIGHT
BEGIN:STANDARD
TZOFFSETFROM:+0300
TZOFFSETTO:+0200
TZNAME:EET
DTSTART:20231029T010000
END:STANDARD
END:VTIMEZONE
BEGIN:VEVENT
DTSTART;TZID=Europe/Helsinki:20221101T080000
DTEND;TZID=Europe/Helsinki:20221101T090000
DTSTAMP:20260419T214043
CREATED:20221011T112144Z
LAST-MODIFIED:20221011T112144Z
UID:20574-1667289600-1667293200@healthcapitalhelsinki.fi
SUMMARY:Health Tuesday: International growth by new ownership – three Finnish success stories in the field of life science
DESCRIPTION:Organiser: Business Finland \nInternational growth by new ownership – three Finnish success stories in the field of life science. \nAcquisition by a global corporation can be a fast track for international growth\, especially for companies that are located far away from the target growth markets. \nJoin Health Tuesday to hear the stories of three Finnish health companies – Mobidiag\, Forendo Pharma and Kaiku Health – that were acquired by large global corporations and how this impacted their business and growth.
URL:https://healthcapitalhelsinki.fi/event/health-tuesday-international-growth-by-new-ownership-three-finnish-success-stories-in-the-field-of-life-science/
CATEGORIES:Events
ATTACH;FMTTYPE=image/png:https://healthcapitalhelsinki.fi/wp-content/uploads/2021/02/BF.png
END:VEVENT
BEGIN:VEVENT
DTSTART;TZID=Europe/Helsinki:20221102T100000
DTEND;TZID=Europe/Helsinki:20221102T110000
DTSTAMP:20260419T214043
CREATED:20221010T105556Z
LAST-MODIFIED:20221010T105556Z
UID:20566-1667383200-1667386800@healthcapitalhelsinki.fi
SUMMARY:Health Talks: MDR Fast Track Service - How to enable medical device market entry
DESCRIPTION:Organiser: OuluHealth\, Innokas Medical and Terkko Health Hub \nJoin to hear an insider’s view on medical device market entry and find out more about an MDR Fast Track service by Innokas Medical. The service enables medtech companies to outsource the regulatory burden\, focus on their core\, and reach profitable and growing business faster than via the traditional route. You will learn how to navigate the industry’s complex regulatory environment in new ways and gain a deeper understanding of the service. \nThe event will take place online. Register now!
URL:https://healthcapitalhelsinki.fi/event/health-talks-mdr-fast-track-service-how-to-enable-medical-device-market-entry/
CATEGORIES:Events
ATTACH;FMTTYPE=image/jpeg:https://healthcapitalhelsinki.fi/wp-content/uploads/2022/10/Health-Talks-2.11.-banner.jpg
END:VEVENT
BEGIN:VEVENT
DTSTART;TZID=Europe/Helsinki:20221104T163000
DTEND;TZID=Europe/Helsinki:20221104T235900
DTSTAMP:20260419T214043
CREATED:20221005T122155Z
LAST-MODIFIED:20221005T122155Z
UID:20529-1667579400-1667606340@healthcapitalhelsinki.fi
SUMMARY:Terkko 5th Birthday & Terkko Health X Showcase
DESCRIPTION:Organiser: Terkko Health Hub \nAre you interested in finding out what the future of healthcare looks like? Do you want to network and celebrate with people from all health and life science ecosystem segments? \nThis year\, the Terkko Health X Showcase is not just a regular showcase but also Terkko\’s 5th Birthday Party filled with networking\, speeches\, music – and of course\, food and drinks! \nThe celebration takes place 4 November at Terkko Health Hub in Meilahti\, Helsinki. \nWhat\’s in it for you? \n\nStartups and founders: This is your opportunity to celebrate with your peers\, network with the health and life sciences ecosystem\, and meet your next investor.\nAcademia: Be inspired by all the fantastic things happening in the entrepreneurship home of the Meilahti campus.\nInvestors and health organisations: Get to know the innovative solutions and startups operating in Terkko Health Hub and the Meilahti campus. This is your chance to find the next team to invest in or collaborate with!\n\nCheck out the program and get your free tickets here!
URL:https://healthcapitalhelsinki.fi/event/terkko-5th-birthday-terkko-health-x-showcase/
CATEGORIES:Events
ATTACH;FMTTYPE=image/png:https://healthcapitalhelsinki.fi/wp-content/uploads/2022/10/Terkko-5th-birthday.png
END:VEVENT
BEGIN:VEVENT
DTSTART;TZID=Europe/Helsinki:20221110T090000
DTEND;TZID=Europe/Helsinki:20221110T103000
DTSTAMP:20260419T214043
CREATED:20220509T151934Z
LAST-MODIFIED:20220509T151934Z
UID:19826-1668070800-1668076200@healthcapitalhelsinki.fi
SUMMARY:Tekoäly töissä: Luovuus yhteiskehittämisessä\, luottamus ja sitoutuminen tekoälyekosysteemeissä (in Finnish)
DESCRIPTION:Järjestäjä: AI-TIE – Tekoälyinnovaatioekosysteemillä kilpailukykyä PK-yrityksille -hanke \nTekoäly töissä -webinaarisarjan tässä osassa pureudutaan keinoihin\, joilla tekoälyekosysteemeissä voidaan edistää yhteisymmärryksen syntyä ja sitoutumista jaettuun toimintaan. Ekosysteemien ytimessä on verkostomaisuus\, joka perustuu luottamukseen ja vastavuoroiseen yhteistyöhön eri organisaatioissa työskentelevien toimijoiden välillä.\nTilaisuuden alustajina ovat luovien menetelmien asiantuntija Teija Fontell ja ekosysteemityön asiantuntija Mikael Seppälä Laurea-ammattikorkeakoulusta. \nIlmoittaudu mukaan 8.11. mennessä! Tilaisuus on maksuton. \nTekoäly töissä on yrityksille suunnattu webinaarisarja\, jossa rakennetaan ymmärrystä tekoälyn mahdollisuuksista liiketoiminnan digitalisoinnissa\, toiminnan digitalisoinnin sujuvasta käyttöönotosta\, tekoälyyn ja dataan liittyvästä sääntelystä\, teknologiamurroksen johtamiseen.
URL:https://healthcapitalhelsinki.fi/event/tekoaly-luovuus/
CATEGORIES:Events
ATTACH;FMTTYPE=image/png:https://healthcapitalhelsinki.fi/wp-content/uploads/2021/11/Nayttokuva-2021-11-02-kello-11.59.20.png
END:VEVENT
BEGIN:VEVENT
DTSTART;VALUE=DATE:20221116
DTEND;VALUE=DATE:20221117
DTSTAMP:20260419T214043
CREATED:20221011T111353Z
LAST-MODIFIED:20221011T111353Z
UID:20570-1668556800-1668643199@healthcapitalhelsinki.fi
SUMMARY:AI Day 2022
DESCRIPTION:Organiser: Finnish Center for Artificial Intelligence FCAI and Finnish Artificial Intelligence Society with support from Helsinki Institute for Information Technology HIIT \nAI Day is the biggest annual event highlighting the leading AI research in Finland. The event\, this year on 16 November\, brings together researchers\, companies\, students and the public sector involved in the fast-developing field of AI. AI Day promotes matchmaking\, information sharing\, and cross-border collaboration. \nRegister now!
URL:https://healthcapitalhelsinki.fi/event/ai-day-2022/
CATEGORIES:Events
ATTACH;FMTTYPE=image/jpeg:https://healthcapitalhelsinki.fi/wp-content/uploads/2022/10/AI-Day-2022.jpg
END:VEVENT
BEGIN:VEVENT
DTSTART;TZID=Europe/Helsinki:20221116T140000
DTEND;TZID=Europe/Helsinki:20221116T170000
DTSTAMP:20260419T214043
CREATED:20221102T140255Z
LAST-MODIFIED:20221102T140255Z
UID:20697-1668607200-1668618000@healthcapitalhelsinki.fi
SUMMARY:Pre-Slush UK afternoon: Scale your business to international success
DESCRIPTION:Organiser: UK Department for International Trade (DIT) \nUK Department for International Trade (DIT) welcome you to for an afternoon with Finnish and British VCs\, like-minded entrepreneurs and companies\, and various UK-based stakeholders to hear more about international expansion and the UK as a place to grow and scale your business. You will also have the chance to connect with strategic partners supporting companies\’ international growth. \nRead more and register by 13 November! Participation is free of charge but seats are limited.
URL:https://healthcapitalhelsinki.fi/event/pre-slush-uk-afternoon-scale-your-business-to-international-success/
CATEGORIES:Events
ATTACH;FMTTYPE=image/jpeg:https://healthcapitalhelsinki.fi/wp-content/uploads/2022/11/PreSlush-UK-afternoon-scaled-1.jpeg
END:VEVENT
BEGIN:VEVENT
DTSTART;TZID=Europe/Helsinki:20221116T160000
DTEND;TZID=Europe/Helsinki:20221116T200000
DTSTAMP:20260419T214043
CREATED:20221027T103207Z
LAST-MODIFIED:20221027T103207Z
UID:20645-1668614400-1668628800@healthcapitalhelsinki.fi
SUMMARY:Match XR – the biggest XR & emerging tech event in the Nordics
DESCRIPTION:Organiser: Helsinki XR Center \nMatch XR is an annual Slush pre-event focusing on extended reality (XR)\, Web3\, gaming and everything in between and beyond. The event creates an overview of the current Finnish XR & emerging tech scene\, and\, first and foremost\, brings fresh start-ups\, industry veterans\, investors\, students and other tech enthusiasts together! \nAt Match XR you get to experience 50+ cutting-edge applications & solutions at the Expo Area\, meet Finnish XR & emerging tech professionals over pre-organized 1-on-1 sessions\, network casually with hundreds of fellow XR & new tech enthusiasts\, and\, of course: enjoy great drinks\, snacks and music. \nRead more and get your free tickets now!
URL:https://healthcapitalhelsinki.fi/event/match-xr-the-biggest-xr-emerging-tech-event-in-the-nordics/
CATEGORIES:Events
ATTACH;FMTTYPE=image/png:https://healthcapitalhelsinki.fi/wp-content/uploads/2022/10/2022_11_MatchXR2022_somepost_matchxriscoming_FB-POST.png
END:VEVENT
BEGIN:VEVENT
DTSTART;TZID=Europe/Helsinki:20221117T170000
DTEND;TZID=Europe/Helsinki:20221117T200000
DTSTAMP:20260419T214043
CREATED:20221010T104515Z
LAST-MODIFIED:20221010T104515Z
UID:20562-1668704400-1668715200@healthcapitalhelsinki.fi
SUMMARY:Unicorner – An official side event of Slush
DESCRIPTION:Organiser: Helsinki Innovation Services and University of Helsinki \nWhen science meets & greets entrepreneurship \nTopics discussed: Science-Based Innovations and Spinouts\, Deeptech\, Impact Investment \nThere are three scenarios that we believe in: science-based innovations will change the world\, science-based spinouts have the proven potential to become hugely successful businesses\, and the future may be changed by those who believe and back them early on. \nIn the event\, we break out many inspiring research cases and share insights on how to make science-based innovations flourish for the benefit of the world.
URL:https://healthcapitalhelsinki.fi/event/unicorner-an-official-side-event-of-slush/
CATEGORIES:Events
ATTACH;FMTTYPE=image/jpeg:https://healthcapitalhelsinki.fi/wp-content/uploads/2022/10/Unicorner-2022.jpeg
END:VEVENT
BEGIN:VEVENT
DTSTART;TZID=Europe/Helsinki:20221117T173000
DTEND;TZID=Europe/Helsinki:20221117T230000
DTSTAMP:20260419T214043
CREATED:20221104T145107Z
LAST-MODIFIED:20221104T145107Z
UID:20719-1668706200-1668726000@healthcapitalhelsinki.fi
SUMMARY:Future of Healthcare
DESCRIPTION:Organiser: Vertical \nJoin the discussion to shape the future of healthcare in Finland. Healthcare is becoming increasingly expensive and the system overburdened. The direction we are heading today needs correction and new ways of working. We need to begin making decisions with longer time horizons and with the proper involvement of relevant industry stakeholders. At Future of Healthcare\, you\’re invited to participate in planning and crafting solutions of tomorrow. \nAfter a world-class keynote by Tony Estrella and panel discussion\, the evening continues with networking\, good beats\, light food\, and a glass or two. \nRead more and register by 8 November 2022
URL:https://healthcapitalhelsinki.fi/event/future-of-healthcare/
CATEGORIES:Events
ATTACH;FMTTYPE=image/jpeg:https://healthcapitalhelsinki.fi/wp-content/uploads/2022/11/Future-of-Healthcare.jpeg
END:VEVENT
BEGIN:VEVENT
DTSTART;VALUE=DATE:20221118
DTEND;VALUE=DATE:20221119
DTSTAMP:20260419T214043
CREATED:20221021T111044Z
LAST-MODIFIED:20221021T111044Z
UID:20635-1668729600-1668815999@healthcapitalhelsinki.fi
SUMMARY:Digital Health Team Finland visit to Paris\, France
DESCRIPTION:The Team Finland network will organize a business delegation visit to Paris\, France on 18-20 January 2023. \nThe objective of the delegation visit to France is to familiarize Finnish digital health companies with the French healthcare system\, to visit and meet with leading hospitals and digital health companies\, gain insights on the current status of digitalization in healthcare and demand\, and to connect with high-level stakeholders in the French digital health ecosystem. \nThe visit will give companies the opportunity to meet and discuss with potential customers and business partners and to explore related business opportunities and French market entry. \nThe visit is aimed at Finnish companies offering following solutions/products: Digital healthcare technologies and IT solutions; Hospital software and digital solutions; AI\, data & analytics; Remote health and care solutions; Home care solutions; Elderly care technologies; and Preventive care solutions. \nRead more & register by 18 November!
URL:https://healthcapitalhelsinki.fi/event/digital-health-team-finland-visit-to-paris-france/
CATEGORIES:Opportunities
ATTACH;FMTTYPE=image/jpeg:https://healthcapitalhelsinki.fi/wp-content/uploads/2021/03/Team-finland.jpeg
END:VEVENT
BEGIN:VEVENT
DTSTART;TZID=Europe/Helsinki:20221118T100000
DTEND;TZID=Europe/Helsinki:20221118T113000
DTSTAMP:20260419T214043
CREATED:20221031T105551Z
LAST-MODIFIED:20221031T105551Z
UID:20673-1668765600-1668771000@healthcapitalhelsinki.fi
SUMMARY:Japan visiting: Fukuoka x Helsinki – Promising and dynamic changes in health care market
DESCRIPTION:Organiser: Helsinki Partners and Fukuoka City \nRecent couple of years\, digital transformation has been brought attention in various businesses around the world. In Japan\, for example\, a diversity of working style triggers those more interested in individual well-being\, corporate health management\, and technology-based healthcare. Fukuoka City\, known as the most energetic city in Japan\, and Helsinki will cohost this event to present mutual case studies and startup pitches. \nRegister now for the free event! The event takes place in Helsinki Partners\’ Lounge at Messukeskus\, Helsinki. Access to the lounge is free because it’s located outside the Slush venue. \nProgram:\n10:00 Opening remarks by Fukuoka City Government/Helsinki\n10:05-10:15 A huge potential of healthcare in Japan\n10:15-10:25 Healthcare market in Helsinki\n10:25-10:40 Fukuoka-city Healthcare project presented by Industry-Academia-Government-Citizens Collaboration\n10:40-10:50 Fukuoka – the most dynamic and famous startup hub in Japan\n10:50-11:05 Pitches by 3 startups\n11:05-11:30 Networking
URL:https://healthcapitalhelsinki.fi/event/japan-visiting-fukuoka-x-helsinki-promising-and-dynamic-changes-in-health-care-market/
CATEGORIES:Events
ATTACH;FMTTYPE=image/jpeg:https://healthcapitalhelsinki.fi/wp-content/uploads/2022/10/Helsinki-x-Fukuoka-Slush-22.jpeg
END:VEVENT
BEGIN:VEVENT
DTSTART;VALUE=DATE:20221120
DTEND;VALUE=DATE:20221121
DTSTAMP:20260419T214043
CREATED:20221027T154145Z
LAST-MODIFIED:20221027T154145Z
UID:20655-1668902400-1668988799@healthcapitalhelsinki.fi
SUMMARY:Health Proof Helsinki: Productization workshop
DESCRIPTION:Entrepreneur in the health sector\, want to co-create productization path for your idea/product/service with experts? \nWelcome to participate in the first Health Proof Helsinki company workshop! Experts from Business Finland\, Health Capital Helsinki\, Health Incubator Helsinki and Health Proof Helsinki can exchange ideas with you on topics such as: funding\, regulation\, ethical guidelines/research permits\, growth potential and international potential\, test and research environments\, discussing your idea… \nIn addition\, you have a unique opportunity to visit the simulation hospital facilities at Metropolia University of Applied Sciences. \nSign up for the free-of-charge workshop by 20 November. Selected companies will be informed on 22 November. The workshop is held at Metropolia University of Applied Sciences\’ Myllypuro campus in Helsinki.
URL:https://healthcapitalhelsinki.fi/event/health-proof-helsinki-tuotteistamisen-workshop-yrityksille-in-finnish/
CATEGORIES:Opportunities
ATTACH;FMTTYPE=image/jpeg:https://healthcapitalhelsinki.fi/wp-content/uploads/2022/10/Health-Proof-Helsinki-Tuotteistamisen-workshop.jpeg
END:VEVENT
BEGIN:VEVENT
DTSTART;VALUE=DATE:20221124
DTEND;VALUE=DATE:20221125
DTSTAMP:20260419T214043
CREATED:20220929T125758Z
LAST-MODIFIED:20220929T125758Z
UID:20510-1669248000-1669334399@healthcapitalhelsinki.fi
SUMMARY:Terveyden 5G/6G sovellukset – pohjoisesta puhaltaa (in Finnish)
DESCRIPTION:Järjestäjä: Oulun yliopiston 6GESS ja DigiHealth\, Lapin AMK \nKorona-pandemia on nopeuttanut maailmanlaajuista siirtymistä 5G-verkkoteknologiaan\, mikä tuo tullessaan nopeat\, viiveettömät ja suuren kapasiteetin mobiiliyhteydet. Tämä mahdollistaa etämonitoroinnin ja etävastaanoton sekä uudet innovatiiviset tavat tuottaa ja välittää terveyspalveluita sekä tukea ennaltaehkäisyä. Älykkäät etäratkaisut edistävät terveyspalveluiden tasapuolista saavutettavuutta. \nMaksuttomassa seminaarissa monialaiset huippuasiantuntijat valottavat terveyden 5G/6G sovelluksien nykytilaa ja tulevaisuutta mielenkiintoisella tavalla eri näkökulmista. \nTapahtumaan voi osallistua myös Teams yhteydellä. \nTutustu ohjelmaan ja ilmoittaudu 15.11.2022 mennessä!
URL:https://healthcapitalhelsinki.fi/event/terveyden-5g-6g-sovellukset-pohjoisesta-puhaltaa-in-finnish/
CATEGORIES:Events
END:VEVENT
BEGIN:VEVENT
DTSTART;TZID=Europe/Helsinki:20221128T103000
DTEND;TZID=Europe/Helsinki:20221128T123000
DTSTAMP:20260419T214043
CREATED:20221028T102358Z
LAST-MODIFIED:20221028T102358Z
UID:20669-1669631400-1669638600@healthcapitalhelsinki.fi
SUMMARY:Advancing the secondary use of health data – insights across Europe and globally
DESCRIPTION:Organiser: The National Initiatives Network\, a network that gathers experts in data-driven health to discuss how countries are developing better use well-being data \nThe National Initiatives Network invites experts and pioneers in data-driven health to join an online event on 28 November to learn best practices and recent developments in using health and social data in various countries. Metadata\, synthetic data and mydata will have a central role in the programme. \nRead more & register
URL:https://healthcapitalhelsinki.fi/event/advancing-the-secondary-use-of-health-data-insights-across-europe-and-globally/
CATEGORIES:Events
END:VEVENT
BEGIN:VEVENT
DTSTART;TZID=Europe/Helsinki:20221129T150000
DTEND;TZID=Europe/Helsinki:20221129T180000
DTSTAMP:20260419T214043
CREATED:20221104T132548Z
LAST-MODIFIED:20221104T132548Z
UID:20713-1669734000-1669744800@healthcapitalhelsinki.fi
SUMMARY:Nordic AMPlify 2023 program: Accelerated US market entry
DESCRIPTION:Nordic AMPlify\’s 2023 Program offers Swedish\, Icelandic\, Finnish\, Norwegian\, and Danish digital health and medtech companies the opportunity to significantly shorten their time to market with exposure to 4 US health systems representing 1\,300+ healthcare facilities and 5 leading early-stage VCs. \nJoin the free\, virtual launch event on 29 November! During the webinar\, US investors and healthcare leaders will present an insider’s perspective on current opportunities in US healthcare and cover essential topics on market entry and value proposition. The workshop will prepare and qualify you to apply for the program. \nRead more and register
URL:https://healthcapitalhelsinki.fi/event/nordic-amplify-2023-program-accelerated-us-market-entry/
CATEGORIES:Opportunities
ATTACH;FMTTYPE=image/png:https://healthcapitalhelsinki.fi/wp-content/uploads/2022/11/Nordic-AMPlify-2023.png
END:VEVENT
END:VCALENDAR