BEGIN:VCALENDAR
VERSION:2.0
PRODID:-//Health Capital Helsinki - ECPv6.15.20//NONSGML v1.0//EN
CALSCALE:GREGORIAN
METHOD:PUBLISH
X-ORIGINAL-URL:https://healthcapitalhelsinki.fi
X-WR-CALDESC:Events for Health Capital Helsinki
REFRESH-INTERVAL;VALUE=DURATION:PT1H
X-Robots-Tag:noindex
X-PUBLISHED-TTL:PT1H
BEGIN:VTIMEZONE
TZID:Europe/Helsinki
BEGIN:DAYLIGHT
TZOFFSETFROM:+0200
TZOFFSETTO:+0300
TZNAME:EEST
DTSTART:20210328T010000
END:DAYLIGHT
BEGIN:STANDARD
TZOFFSETFROM:+0300
TZOFFSETTO:+0200
TZNAME:EET
DTSTART:20211031T010000
END:STANDARD
BEGIN:DAYLIGHT
TZOFFSETFROM:+0200
TZOFFSETTO:+0300
TZNAME:EEST
DTSTART:20220327T010000
END:DAYLIGHT
BEGIN:STANDARD
TZOFFSETFROM:+0300
TZOFFSETTO:+0200
TZNAME:EET
DTSTART:20221030T010000
END:STANDARD
BEGIN:DAYLIGHT
TZOFFSETFROM:+0200
TZOFFSETTO:+0300
TZNAME:EEST
DTSTART:20230326T010000
END:DAYLIGHT
BEGIN:STANDARD
TZOFFSETFROM:+0300
TZOFFSETTO:+0200
TZNAME:EET
DTSTART:20231029T010000
END:STANDARD
END:VTIMEZONE
BEGIN:VEVENT
DTSTART;VALUE=DATE:20221004
DTEND;VALUE=DATE:20221006
DTSTAMP:20260419T230556
CREATED:20220812T124016Z
LAST-MODIFIED:20220812T124016Z
UID:20214-1664841600-1665014399@healthcapitalhelsinki.fi
SUMMARY:4th Digital Health Society Summit 2022
DESCRIPTION:Organiser: Digital Health Society (DHS) \nThe 2-Day free Virtual Summit promotes the latest thought leadership of the DHS\, showcases innovation\, research\, European funded projects and addresses the latest digital and data challenges facing digital health. \nThe Summit will focus on the topic “Data & Digital services to support the recovery of health systems across the globe” which is one of the 3 themes of the Global Health Connector Partnership Flagship events in 2022 in the US (Boston\, Las Vegas and Washington)\, India (New Delhi)\, Africa (Kenya)\, Spain (Barcelona) and Switzerland. The DHS Summit will build on almost 1000 registrations from 68 countries across the globe.
URL:https://healthcapitalhelsinki.fi/event/4th-digital-health-society-summit-2022/
CATEGORIES:Events
ATTACH;FMTTYPE=image/png:https://healthcapitalhelsinki.fi/wp-content/uploads/2022/08/DHSS-22.png
END:VEVENT
BEGIN:VEVENT
DTSTART;TZID=Europe/Helsinki:20221004T080000
DTEND;TZID=Europe/Helsinki:20221004T090000
DTSTAMP:20260419T230556
CREATED:20220913T111228Z
LAST-MODIFIED:20220913T111228Z
UID:20436-1664870400-1664874000@healthcapitalhelsinki.fi
SUMMARY:Health Tuesday: Boosting growth with Team Finland funding
DESCRIPTION:Organiser: Business Finland \nSeveral governmental organizations provide public funding for growth companies. Are you familiar with the possibilities provided by these organizations? Do you know the differences between their services? \nJoin next Health Tuesday and learn how ELY centers\, Finnvera and Business Finland can support companies on their way towards growth and internationalization.
URL:https://healthcapitalhelsinki.fi/event/health-tuesday-boosting-growth-with-team-finland-funding/
CATEGORIES:Events
END:VEVENT
BEGIN:VEVENT
DTSTART;TZID=Europe/Helsinki:20221004T143000
DTEND;TZID=Europe/Helsinki:20221004T160000
DTSTAMP:20260419T230556
CREATED:20220908T114039Z
LAST-MODIFIED:20220908T114039Z
UID:20400-1664893800-1664899200@healthcapitalhelsinki.fi
SUMMARY:Founder\, Entrepreneur\, Licensee: Comparing alternative paths toward commercializing research results
DESCRIPTION:Organiser: Aalto University\, HiLIFE (the University of Helsinki) and Terkko Health Hub \nWelcome to the next event from the Health Talks series\, comparing alternative paths toward commercializing research results. \nOftentimes\, scientists may believe that participating in research commercialization and entrepreneurship means giving up one’s research career. However\, this does not need to be so. \nIn the event\, you will hear the story of three experienced scientists who took alternative paths to commercialize their promising research results. \nSpeakers: \n\nRisto Ilmoniemi – Distinguished Professor at Aalto University and founder and former CEO of Nexstim\nVincenzo Cerullo – Professor at the Faculty of Pharmacy of the University of Helsinki and founder of Valo Therapeutics\nJussi Hepojoki – Docent and Academy Research Fellow at the Faculty of Medicine of the University of Helsinki\n\nThe event is free of charge and is organised as hybrid: both at Terkko Health Hub and online. \nRegister here! For more info check the Health Talks website.
URL:https://healthcapitalhelsinki.fi/event/founder-entrepreneur-licensee-comparing-alternative-paths-toward-commercializing-research-results/
CATEGORIES:Events
ATTACH;FMTTYPE=image/jpeg:https://healthcapitalhelsinki.fi/wp-content/uploads/2022/09/Health-Talks-Oct-2022.jpg
END:VEVENT
BEGIN:VEVENT
DTSTART;TZID=Europe/Helsinki:20221006T090000
DTEND;TZID=Europe/Helsinki:20221006T103000
DTSTAMP:20260419T230556
CREATED:20220509T151404Z
LAST-MODIFIED:20220509T151404Z
UID:19820-1665046800-1665052200@healthcapitalhelsinki.fi
SUMMARY:Tekoäly töissä: Tekoäly markkinoinnin ja myynnin tukena (in Finnish)
DESCRIPTION:Järjestäjä: AI-TIE – Tekoälyinnovaatioekosysteemillä kilpailukykyä PK-yrityksille -hanke \nTekoäly työssä -sarjan viidennessä webinaarissa on aiheena Tekoäly myynnissä ja markkinoinnissa\, mitä kaikkea kone voisi tehdä puolestasi? \n\n\n\n\n\n\nVoisiko tekoäly ohjata markkinoinnin ja myynnin data-analytiikkaa ja kertoa markkinoinnille\, mitkä sisällöt toimivat ja hienosäätää omaa toimintaansa jatkuvasti? Voisiko tekoäly analysoida myynnin dataa ja valmentaa myyjiä siihen\, milloin ja miten liidejä kannattaa lähestyä sekä lisäksi auttaa myyjää ennakoimaan liidien tarpeita? \n\n\n\n\n\n\nIlmoittaudu mukaan 4.10. mennessä! Tilaisuus on maksuton. \nTekoäly töissä on yrityksille suunnattu webinaarisarja\, jossa rakennetaan ymmärrystä tekoälyn mahdollisuuksista liiketoiminnan digitalisoinnissa\, toiminnan digitalisoinnin sujuvasta käyttöönotosta\, tekoälyyn ja dataan liittyvästä sääntelystä\, teknologiamurroksen johtamiseen.
URL:https://healthcapitalhelsinki.fi/event/tekoaly-markkinoinnin-tukena/
CATEGORIES:Events
ATTACH;FMTTYPE=image/png:https://healthcapitalhelsinki.fi/wp-content/uploads/2021/11/Nayttokuva-2021-11-02-kello-11.59.20.png
END:VEVENT
BEGIN:VEVENT
DTSTART;VALUE=DATE:20221011
DTEND;VALUE=DATE:20221013
DTSTAMP:20260419T230556
CREATED:20220805T142529Z
LAST-MODIFIED:20220805T142529Z
UID:20179-1665446400-1665619199@healthcapitalhelsinki.fi
SUMMARY:Nordic Deep Tech Business Summit
DESCRIPTION:Organiser: ArcticStartup in partnership with Aalto University and City of Espoo \nNordic Deep Tech Business Summit in Espoo\, Finland\, is the most effective business and commercialization oriented event for deep tech in Europe. The focus is on quality networking and discovering opportunities for collaboration between academia\, private and public sectors. The 2-day event brings together a focused international crowd of startups\, research teams\, research institutions\, investors\, corporates\, media and influencers. \nTickets available now!
URL:https://healthcapitalhelsinki.fi/event/nordic-deep-tech-business-summit/
CATEGORIES:Events
END:VEVENT
BEGIN:VEVENT
DTSTART;TZID=Europe/Helsinki:20221014T090000
DTEND;TZID=Europe/Helsinki:20221014T113000
DTSTAMP:20260419T230556
CREATED:20220923T105304Z
LAST-MODIFIED:20220923T105304Z
UID:20477-1665738000-1665747000@healthcapitalhelsinki.fi
SUMMARY:AI Webinar & Ideathon on Preventive Health Care
DESCRIPTION:Organiser: DT4Regions – network and Helsinki-Uusimaa Regional Council \nSmart use of AI powered health data contents is a great opportunity to improve public health system efficacy. For preventive healthcare\, AI can improve the accuracy and quality of treatment\, or slower the development of disease or even prevent some health issues occurring. \nTo find the new solutions for preventive healthcare we need the power of crows and cocreation. Join the movement\, be part of the solution for future health! \nBy the initiative of The European Parliament\, DT4Regions – network and Helsinki-Uusimaa Regional Council organises four ideathon session on Artificial Intelligence Potential in Preventive Healthcare: \n14 October 9-11.30 EET At DIAK University of Applied Sciences in Helsinki. The event is hybrid\, you can participate in-house or via Teams. \nThe ideas we be recycled and combined with new ones during the following sprint series: \n\n25 October 9-11.30 CET Online only\, focus in Denmark.\n28 October 9-11.30 CET Online only\, focus in Sweden.\n31 October 9-11.30 CET Online only\, focus in Norway.
URL:https://healthcapitalhelsinki.fi/event/ai-webinar-ideathon-on-preventive-health-care/
CATEGORIES:Events
END:VEVENT
BEGIN:VEVENT
DTSTART;TZID=Europe/Helsinki:20221014T090000
DTEND;TZID=Europe/Helsinki:20221014T120000
DTSTAMP:20260419T230556
CREATED:20220929T114636Z
LAST-MODIFIED:20220929T114636Z
UID:20502-1665738000-1665748800@healthcapitalhelsinki.fi
SUMMARY:Helsingin info ikäihmisten liikkumisen ja hyvinvoinnin parissa toimiville yrityksille (in Finnish)
DESCRIPTION:Järjestäjä: Helsingin kaupunki \nHelsingin kaupunki kutsuu ikäihmisten liikkumisen ja hyvinvoinnin parissa toimivia yrityksiä ja muita aiheesta kiinnostuneita kuulemaan ja keskustelemaan kaupungin tarjoamista yrityspalveluista ja kokeilutoiminnasta 14.10. \nEsittelyssä ovat Helsingin kaupungin liikkumisohjelma\, Testbed-kokeilualustatoiminta sekä NewCo Helsingin kasvuyritystiimin palvelut. Lisäksi tilaisuudessa kuullaan esityksiä kokeiluja toteuttaneilta yrityksiltä. \nIlmoittaudu nyt mukaan tapaamaan asiantuntijoita ja verkostoitumaan muiden toimijoiden kanssa!
URL:https://healthcapitalhelsinki.fi/event/infotilaisuus-ikaihmisten-liikkumisen-ja-hyvinvoinnin-parissa-toimiville-yrityksille-in-finnish/
CATEGORIES:Events
ATTACH;FMTTYPE=image/png:https://healthcapitalhelsinki.fi/wp-content/uploads/2018/04/Helsinki-logo-black_small-02-02-1-scaled.png
END:VEVENT
BEGIN:VEVENT
DTSTART;VALUE=DATE:20221021
DTEND;VALUE=DATE:20221022
DTSTAMP:20260419T230556
CREATED:20220805T091449Z
LAST-MODIFIED:20220805T091449Z
UID:20160-1666310400-1666396799@healthcapitalhelsinki.fi
SUMMARY:AI-TIE micro accelerator program for companies in Southern Finland
DESCRIPTION:Are you an SME from Uusimaa or Kymenlaakso region\, operating in the field of healthcare\, wellness or health tech tech? If you are taking the first steps in the area of artificial intelligence\, or want to broaden the knowledge you already have\, check out the popular AI accelerator\, AI-TIE! The AI-TIE Southern Finland micro accelerator program takes place from November 2022 until January 2023. \nLearn more (in Finnish) and apply latest by 21 October!
URL:https://healthcapitalhelsinki.fi/event/ai-tie-southern-finland/
CATEGORIES:Opportunities
ATTACH;FMTTYPE=image/jpeg:https://healthcapitalhelsinki.fi/wp-content/uploads/2022/02/ai-tie-medical-eu.jpeg
END:VEVENT
BEGIN:VEVENT
DTSTART;VALUE=DATE:20221021
DTEND;VALUE=DATE:20221022
DTSTAMP:20260419T230556
CREATED:20221005T115810Z
LAST-MODIFIED:20221005T115810Z
UID:20525-1666310400-1666396799@healthcapitalhelsinki.fi
SUMMARY:NOME Startup Competition 2022
DESCRIPTION:Five Nordic startups are selected to pitch in the NOME (The Nordic Mentor Network for Entrepreneurship)  Startup Competition at the NOME Annual Meeting to an audience of leading life science experts. The most promising startups will win access to the 24-month elite mentoring program\, a global network\, a US boot camp and a team of US subject-matter mentors\, and the NOME prize of 50 000 DKK! \nApplications are open for Nordic startups working in enabling technologies\, industrial biotech\, healthtech\, medtech and biotech. Apply by 21 October! \nThe NOME Startup Competition 2022 takes place during the NOME Annual Meeting on November 11 in Copenhagen.
URL:https://healthcapitalhelsinki.fi/event/nome-startup-competition-2022/
CATEGORIES:Opportunities
ATTACH;FMTTYPE=image/jpeg:https://healthcapitalhelsinki.fi/wp-content/uploads/2022/10/Nome-Startup-Competition-2022_crop.jpg
END:VEVENT
BEGIN:VEVENT
DTSTART;VALUE=DATE:20221024
DTEND;VALUE=DATE:20221025
DTSTAMP:20260419T230556
CREATED:20220929T130909Z
LAST-MODIFIED:20220929T130909Z
UID:20514-1666569600-1666655999@healthcapitalhelsinki.fi
SUMMARY:Team Finland visit to the UK
DESCRIPTION:Team Finland network is organizing a delegation visit to the United Kingdom on 21-24 November 2022 with the focus on digital health and hospitals. \nThis visit offers an excellent opportunity for Finnish companies to network and build relationships with UK stakeholders. The emphasis in digital health has been significantly increasing during the Covid-19 pandemic in the UK. In addition\, there is the “largest in decades” investment programme in hospitals in the country. \nRead more and register by 24 October!
URL:https://healthcapitalhelsinki.fi/event/team-finland-visit-to-the-uk/
CATEGORIES:Opportunities
ATTACH;FMTTYPE=image/jpeg:https://healthcapitalhelsinki.fi/wp-content/uploads/2018/08/Team-Finland-logo.jpg
END:VEVENT
BEGIN:VEVENT
DTSTART;VALUE=DATE:20221025
DTEND;VALUE=DATE:20221026
DTSTAMP:20260419T230556
CREATED:20220629T150844Z
LAST-MODIFIED:20220629T150844Z
UID:20123-1666656000-1666742399@healthcapitalhelsinki.fi
SUMMARY:Sales and marketing training for healthtech companies
DESCRIPTION:Pro Growth Consulting Oy and Healthtech Finland are organizing sales and marketing training program for healthtech companies aiming for growth. \nThe program includes \n\nbest practices for sales and marketing for healthtech companies\nbest practices for solution sales\, digital sales and channel sales\ncreating a growth plan for your company with a growth consultant\nnetworking with other healthtech professionals\nLessons Learnt presentations from successful healthtech professionals\n\nThis program is for you\, if you are \n\nlooking to grow your healthtech company\nplanning to venture into the international market\nlooking to grow a bigger network among healthtech professionals\n\nThe program includes 12 training days (9.00–12.30) every three to four weeks\, starting in November 2022 and ending in May 2023. \nThe program is subvented by ELY center\, see prices and more information here (in Finnish). \nThere are still a few slots open – sign up now or latest by 25 October!
URL:https://healthcapitalhelsinki.fi/event/sales-and-marketing-training-for-healthtech-companies/
CATEGORIES:Opportunities
ATTACH;FMTTYPE=image/png:https://healthcapitalhelsinki.fi/wp-content/uploads/2022/06/THM-kuvituskuva.png
END:VEVENT
BEGIN:VEVENT
DTSTART;VALUE=DATE:20221031
DTEND;VALUE=DATE:20221101
DTSTAMP:20260419T230556
CREATED:20220822T122518Z
LAST-MODIFIED:20220822T122518Z
UID:20268-1667174400-1667260799@healthcapitalhelsinki.fi
SUMMARY:Business Finland offers several US entry opportunities
DESCRIPTION:Nordic AMPlify Cohort 3 launch this fall  \nThe results of the first two cohorts have been most successful: 8 companies invited to co-develop at 2 health systems\, 1 company funded\, 2 companies accepted for pilots\, and 1 company opened its US office in Winston-Salem NC. The feedback on the program from the VC\, health systems\, mentors\, and strategic partners has established AMPlify as one of the best US healthcare entry programs. \nBusiness Finland will accept 16 companies into Cohort 3. Five health systems are participating\, along with 100+ mentors from Winston Starts\, 7 VC\, and a national network of key opinion leaders and industry experts. In additional to AMPlify\, three of the health systems have agreed to open slots based on their unmet needs – a reverse pitch program that Business Finland is working on. \nMore information \nMayo Clinic Innovation Exchange   \nBusiness Finland has agreed with the Mayo Clinic Innovation Exchange that 8 Finnish companies would be accepted into their program. Three slots have been taken. This is a 12-month program that can be attended live\, virtual\, or hybrid. Accepted companies will have full access to Mayo clinicians\, staff\, venture group\, and others. Accenture and Holland & Knight will also provide mentoring and guidance. This has been announced but there are still openings. \nApply now \nRegenerative medicine\, precision medicine\, and clinical trials/pilots   \nBusiness Finland is working with the Wake Forest Institute of Regenerative Medicine and its test bed\, ReMDO. One Finnish company is in pilot and WFIRM and two others are in discussion for clinical trials.  WFIRM is the global leader in this space. \nContact Val Kratzman for an introduction.\nMore information: Wake Forest Institute of Regenerative Medicine and ReMDO \nNordic American Life Science Conference\, 7-8 December  \nThis year\, the focus will be on life sciences and digital health.  There are 5-6 slots for more advanced (not start-ups) companies to present to US investors and corporate business development executives.  The event will be live\, but Business Finland is exploring the possibilities of video pitching. \nContact Val Kratzman if you are interested.\nMore information \n12-month program with Northeastern University\, Maine Health\, Northern Light Health\, and the state of Maine \nThe final opportunity is with a new organization that has taken a unique and very focused approach to integrate research\, education\, and entrepreneurship. They will be announcing their next cohort for healthcare in the fall. This is also a 12-month program but requires companies to be present. It is a joint venture between Northeastern University\, Maine Health\, Northern Light Health\, and the state of Maine. Selected companies will be mentored and guided by the two health systems and a mentor network. Each company will be awarded USD 25\,000 for living expenses and have full access to Maine’s two health systems\, all the US companies involved in the Northeastern University Co-Op program\, and numerous mentors and VCs. Only 12 companies will be invited into the program. The focus will be defined based on the health systems key needs. Finland and Maine have an MOU and Business Finland is hoping they can add healthcare to that agenda. \nContact Val Kratzman for more information.\nMore information
URL:https://healthcapitalhelsinki.fi/event/business-finland-offers-several-us-entry-opportunities/
CATEGORIES:Opportunities
ATTACH;FMTTYPE=image/png:https://healthcapitalhelsinki.fi/wp-content/uploads/2021/10/Nayttokuva-2021-10-15-kello-10.20.27.png
END:VEVENT
BEGIN:VEVENT
DTSTART;VALUE=DATE:20221031
DTEND;VALUE=DATE:20221101
DTSTAMP:20260419T230556
CREATED:20220907T112644Z
LAST-MODIFIED:20220907T112644Z
UID:20372-1667174400-1667260799@healthcapitalhelsinki.fi
SUMMARY:International intern for your company?
DESCRIPTION:INOV Contacto International Internships offers your company young graduates up to the age of 29 who are looking for their first job and willing to work abroad. The INOV Contacto team handles the selection and brokers contacts with these highly qualified graduates. In addition\, INOV Contacto has set up an online networking platform to allow past and current participants to keep in touch and share knowledge as well as to encourage partnerships between companies. INOV Contacto was first introduced in 1997\, has accomplished more than 6\,000 internships in over 1385 companies all over the world. \nThe program is managed by AICEP Portugal Global\, a Portuguese government agency. AICEP guarantees the interns the necessary income/grants. \nIs your organisation interested? Find all the needed information here and apply by 31 October.
URL:https://healthcapitalhelsinki.fi/event/international-intern-for-your-company/
CATEGORIES:Opportunities
ATTACH;FMTTYPE=image/png:https://healthcapitalhelsinki.fi/wp-content/uploads/2022/09/Screenshot-2022-09-07-at-11.25.20.png
END:VEVENT
BEGIN:VEVENT
DTSTART;VALUE=DATE:20221031
DTEND;VALUE=DATE:20221101
DTSTAMP:20260419T230556
CREATED:20221021T110640Z
LAST-MODIFIED:20221021T110640Z
UID:20632-1667174400-1667260799@healthcapitalhelsinki.fi
SUMMARY:Finland-China Digital Therapeutics online matchmaking
DESCRIPTION:One of the top 10 business tracks in the Chinese healthcare industry\, digital therapeutics (DTx)\, experienced exponential growth in 2021. Since then\, DTx has attracted strong attention from Chinese investors\, industry players\, healthcare professionals\, and academics and they have been working together to build up a DTx industry eco-system in China. \nBusiness Finland China together with Smart Life Finland program invite Finnish digital health tech companies interested in the Chinese DTx market to participate in online matchmaking event on Friday 18 November\, 2022 at 07:30 – 11:30 (EET Finland) / 13:30 – 17:30 (CST China). \nThe goal is to promote Finnish offerings in digital health industry and enable matchmaking with key authorities and leading industry companies in the sector. \nAttendance to the online event is free of charge\, however\, requires a pre-registration by 31 October. Kindly indicate in the registration if you are interested to give a company pitch or participate as audience. \nBusiness Finland will inform the registered companies if they have been selected by the Chinese counterpart to give a company pitch. All interested participants are welcome to join the event as audience.
URL:https://healthcapitalhelsinki.fi/event/finland-china-digital-therapeutics-online-matchmaking/
CATEGORIES:Opportunities
ATTACH;FMTTYPE=image/png:https://healthcapitalhelsinki.fi/wp-content/uploads/2021/02/BF.png
END:VEVENT
END:VCALENDAR