BEGIN:VCALENDAR
VERSION:2.0
PRODID:-//Health Capital Helsinki - ECPv6.15.20//NONSGML v1.0//EN
CALSCALE:GREGORIAN
METHOD:PUBLISH
X-WR-CALNAME:Health Capital Helsinki
X-ORIGINAL-URL:https://healthcapitalhelsinki.fi
X-WR-CALDESC:Events for Health Capital Helsinki
REFRESH-INTERVAL;VALUE=DURATION:PT1H
X-Robots-Tag:noindex
X-PUBLISHED-TTL:PT1H
BEGIN:VTIMEZONE
TZID:Europe/Helsinki
BEGIN:DAYLIGHT
TZOFFSETFROM:+0200
TZOFFSETTO:+0300
TZNAME:EEST
DTSTART:20210328T010000
END:DAYLIGHT
BEGIN:STANDARD
TZOFFSETFROM:+0300
TZOFFSETTO:+0200
TZNAME:EET
DTSTART:20211031T010000
END:STANDARD
BEGIN:DAYLIGHT
TZOFFSETFROM:+0200
TZOFFSETTO:+0300
TZNAME:EEST
DTSTART:20220327T010000
END:DAYLIGHT
BEGIN:STANDARD
TZOFFSETFROM:+0300
TZOFFSETTO:+0200
TZNAME:EET
DTSTART:20221030T010000
END:STANDARD
BEGIN:DAYLIGHT
TZOFFSETFROM:+0200
TZOFFSETTO:+0300
TZNAME:EEST
DTSTART:20230326T010000
END:DAYLIGHT
BEGIN:STANDARD
TZOFFSETFROM:+0300
TZOFFSETTO:+0200
TZNAME:EET
DTSTART:20231029T010000
END:STANDARD
END:VTIMEZONE
BEGIN:VEVENT
DTSTART;VALUE=DATE:20220710
DTEND;VALUE=DATE:20220711
DTSTAMP:20260420T031758
CREATED:20220531T143425Z
LAST-MODIFIED:20220531T143425Z
UID:20021-1657411200-1657497599@healthcapitalhelsinki.fi
SUMMARY:Up2B Market Discovery
DESCRIPTION:Are you an international B2B #startup with an industry tech focus and want to expand to the German market? Well in that case\, MARKET DISCOVERY might be the right step for you! \nMARKET DISCOVERY was developed especially for international B2B startups that have already succeeded abroad and are planning to enter the German market – preferably from the field of IT\, digital\, industry and deep tech. \nThe program takes place 19-23 September 2022 in Mannheim and Heidelberg and is free of charge. \nRead more and apply by 10 July!
URL:https://healthcapitalhelsinki.fi/event/up2b-market-discovery/
CATEGORIES:Opportunities
ATTACH;FMTTYPE=image/jpeg:https://healthcapitalhelsinki.fi/wp-content/uploads/2022/05/Up2B.jpeg
END:VEVENT
END:VCALENDAR