BEGIN:VCALENDAR
VERSION:2.0
PRODID:-//Health Capital Helsinki - ECPv6.15.20//NONSGML v1.0//EN
CALSCALE:GREGORIAN
METHOD:PUBLISH
X-ORIGINAL-URL:https://healthcapitalhelsinki.fi
X-WR-CALDESC:Events for Health Capital Helsinki
REFRESH-INTERVAL;VALUE=DURATION:PT1H
X-Robots-Tag:noindex
X-PUBLISHED-TTL:PT1H
BEGIN:VTIMEZONE
TZID:Europe/Helsinki
BEGIN:DAYLIGHT
TZOFFSETFROM:+0200
TZOFFSETTO:+0300
TZNAME:EEST
DTSTART:20210328T010000
END:DAYLIGHT
BEGIN:STANDARD
TZOFFSETFROM:+0300
TZOFFSETTO:+0200
TZNAME:EET
DTSTART:20211031T010000
END:STANDARD
BEGIN:DAYLIGHT
TZOFFSETFROM:+0200
TZOFFSETTO:+0300
TZNAME:EEST
DTSTART:20220327T010000
END:DAYLIGHT
BEGIN:STANDARD
TZOFFSETFROM:+0300
TZOFFSETTO:+0200
TZNAME:EET
DTSTART:20221030T010000
END:STANDARD
BEGIN:DAYLIGHT
TZOFFSETFROM:+0200
TZOFFSETTO:+0300
TZNAME:EEST
DTSTART:20230326T010000
END:DAYLIGHT
BEGIN:STANDARD
TZOFFSETFROM:+0300
TZOFFSETTO:+0200
TZNAME:EET
DTSTART:20231029T010000
END:STANDARD
END:VTIMEZONE
BEGIN:VEVENT
DTSTART;TZID=Europe/Helsinki:20220602T140000
DTEND;TZID=Europe/Helsinki:20220602T153000
DTSTAMP:20260420T045233
CREATED:20220509T134324Z
LAST-MODIFIED:20220509T134324Z
UID:19816-1654178400-1654183800@healthcapitalhelsinki.fi
SUMMARY:Tekoäly töissä: Investointitrendit - Tekoäly Health & Med Tech -alalla (in Finnish)
DESCRIPTION:Järjestäjä: AI-TIE – Tekoälyinnovaatioekosysteemillä kilpailukykyä PK-yrityksille -hanke \nTekoäly töissä -webinaarisarjan kevään kolmannessa osassa tutustutaan siihen\, minkälaisiin tekoälyratkaisuihin investoidaan HealthTech-alalla? Mitkä ovat alan tulevaisuuden trendit ja mihin investointeja kohdistetaan globaalisti? Entä mitä investointien perusteella voi päätellä alan tulevaisuudesta? \nIlmoittaudu mukaan 31.5. mennessä! Tilaisuus on maksuton. \nTekoäly töissä on yrityksille suunnattu webinaarisarja\, jossa rakennetaan ymmärrystä tekoälyn mahdollisuuksista liiketoiminnan digitalisoinnissa\, toiminnan digitalisoinnin sujuvasta käyttöönotosta\, tekoälyyn ja dataan liittyvästä sääntelystä\, teknologiamurroksen johtamiseen.
URL:https://healthcapitalhelsinki.fi/event/tekoaly-health-tech-alalla/
CATEGORIES:Events
ATTACH;FMTTYPE=image/png:https://healthcapitalhelsinki.fi/wp-content/uploads/2021/11/Nayttokuva-2021-11-02-kello-11.59.20.png
END:VEVENT
BEGIN:VEVENT
DTSTART;VALUE=DATE:20220607
DTEND;VALUE=DATE:20220609
DTSTAMP:20260420T045233
CREATED:20220408T115920Z
LAST-MODIFIED:20220408T115920Z
UID:19660-1654560000-1654732799@healthcapitalhelsinki.fi
SUMMARY:Arctic15 2022
DESCRIPTION:Organiser: ArcticStartup \nJoin the key matchmaking startup conference in the Nordics and Baltics for startups\, investors\, corporates and media!  \nOn the afternoon of Tuesday June 7th there will be HealthTech Track by Takeda where various top industry experts\, founders and investors will discuss topics like data driving the healthcare transformation or investing in scaling capabilities. \nCome meet your next investor or partner at Arctic15\, the hottest startup conference of the spring!
URL:https://healthcapitalhelsinki.fi/event/arctic15-2022/
CATEGORIES:Events
ATTACH;FMTTYPE=image/png:https://healthcapitalhelsinki.fi/wp-content/uploads/2022/04/Nayttokuva-2022-04-08-kello-11.58.42.png
END:VEVENT
BEGIN:VEVENT
DTSTART;TZID=Europe/Helsinki:20220607T080000
DTEND;TZID=Europe/Helsinki:20220607T101500
DTSTAMP:20260420T045233
CREATED:20220511T093700Z
LAST-MODIFIED:20220511T093700Z
UID:19868-1654588800-1654596900@healthcapitalhelsinki.fi
SUMMARY:Health Tuesday: AgeTech solutions for independent living and active ageing
DESCRIPTION:Organiser: Business Finland \nJoin the June edition of Health Tuesday to hear more about high-tech solutions targeted for the ageing population\, so called AgeTech\, technology that allows for a more independent and active life at an advanced age. \nBusiness Finland is active in several related programs in order to support the development of services for the elderly. In addition\, Finnish companies are offering various solutions for active independent living and AgeTech generally. \nDuring the event\, you will hear about the Finnish offering as well as get a brief overview of Business Finland\’s international market studies and plans in this field. \nA roundtable discussion will follow to highlight the AgeTech market in Japan\, the country with the huge business potential in this sector.
URL:https://healthcapitalhelsinki.fi/event/health-tuesday-agetech-solutions-for-independent-living-and-active-ageing/
CATEGORIES:Events
END:VEVENT
BEGIN:VEVENT
DTSTART;VALUE=DATE:20220612
DTEND;VALUE=DATE:20220613
DTSTAMP:20260420T045233
CREATED:20220531T152857Z
LAST-MODIFIED:20220531T152857Z
UID:20026-1654992000-1655078399@healthcapitalhelsinki.fi
SUMMARY:Vita Accelerator
DESCRIPTION:Are you looking for business opportunities for your Health company in Italy? \nIf yes\, this program is for you! Healthware Group has launched a novel startup acceleration program in Italy\, in collaboration with CDP Venture Capital and Accelerace. \nVita Accelerator will be the leading digital health acceleration program in Italy as it will benefit from the vast digital health expertise of the partners\, connections to the Italian hospitals\, patient associations\, corporate partners\, and up to 2M€ cumulative follow-on investments (after the first investment of 110K € of which 50K€ in cash) of equity investment. \nThe accelerator is accepting submissions from digital health startups either based in Italy or foreign startups willing to do business in Italy. \nRead more and apply by 12 June!
URL:https://healthcapitalhelsinki.fi/event/20026/
CATEGORIES:Opportunities
ATTACH;FMTTYPE=image/jpeg:https://healthcapitalhelsinki.fi/wp-content/uploads/2022/05/Vita-w800.jpg
END:VEVENT
BEGIN:VEVENT
DTSTART;VALUE=DATE:20220614
DTEND;VALUE=DATE:20220617
DTSTAMP:20260420T045233
CREATED:20210409T141939Z
LAST-MODIFIED:20210409T141939Z
UID:16618-1655164800-1655423999@healthcapitalhelsinki.fi
SUMMARY:The 2022 HIMMS & Health 2.0 European Health Conference
DESCRIPTION:Organiser: HIMSS with Finnish partners \nThe 2022 HIMSS European Health Conference & Exhibition brings the European healthcare community back together in Helsinki\, Finland. It will feature HIMSS\’s knowledge\, expertise and thought leadership in healthcare digitisation\, and Accelerate Health’s network of entrepreneurs and investors showcasing the latest and most innovative health tech solutions. \nThe Finnish Pavilion\, organised by the Finnish partners of the congress\, will present Finnish companies and program\, highlighting Finland’s pioneering role in accelerating digital change. \nJoin the European healthcare community for inspiration\, innovation\, and unrivalled networking opportunities for future collaborations! \nRegister here! Use Health Capital Helsinki\’s code HEPT1 and get a 15% discount for the tickets.
URL:https://healthcapitalhelsinki.fi/event/himms-health-2-0-european-health-conference-exhibition-copy/
CATEGORIES:Events
ATTACH;FMTTYPE=image/jpeg:https://healthcapitalhelsinki.fi/wp-content/uploads/2021/04/web_xs-HIMSS22_EU_logo_shortDate_white.jpg
END:VEVENT
BEGIN:VEVENT
DTSTART;TZID=Europe/Helsinki:20220614T134500
DTEND;TZID=Europe/Helsinki:20220614T154500
DTSTAMP:20260420T045233
CREATED:20220408T112842Z
LAST-MODIFIED:20220408T112842Z
UID:19647-1655214300-1655221500@healthcapitalhelsinki.fi
SUMMARY:HIMSS 2022 Side Event: Fingenious Ecosystem Offers More
DESCRIPTION:Organiser: Finnish Biobanks – FINBB and Finnish Institute for Health and Welfare (THL) in partnership with the Ministry of Social Affairs and Health\, Business Finland\, Findata and Pharma Industry Finland (PIF) \nThis HIMMS 2022 side event will offer you insight into how companies are using the unique Finnish data ecosystem to: \n\n conduct decentralized clinical trials\,\n improve patient finding and profiling\, and\n generate high-quality\, real-world evidence that is accepted by regulators and payers.\n\nIn addition\, you will also learn more about Fingerious Ecosystem which helps you to plan and conduct a project by providing a one-stop service.  \nThe event\, free of charge\, is designed especially for pharma and biotech companies\, RWE experts and service providers as well as Fingerious Ecosystem partners. Register for the event here. \n 
URL:https://healthcapitalhelsinki.fi/event/fingerious-ecosystem/
CATEGORIES:Events
END:VEVENT
BEGIN:VEVENT
DTSTART;TZID=Europe/Helsinki:20220614T190000
DTEND;TZID=Europe/Helsinki:20220614T210000
DTSTAMP:20260420T045233
CREATED:20220516T140005Z
LAST-MODIFIED:20220516T140005Z
UID:19913-1655233200-1655240400@healthcapitalhelsinki.fi
SUMMARY:Digital follow-up of patients in Finnish homes
DESCRIPTION:Organiser: The Norwegian embassy in Helsinki\, Innovation Norway and Business Finland \nWelcome to the event \”Digital follow-up of patients in Finnish homes\” during HIMSS 2022 week! The event kicks off with a keynote speech and a concrete case of cooperation between Norwegian and Finnish companies. There will be plenty of time at the event to network with potential Norwegian and Finnish partners. This is a unique platform for Norwegian and Finnish companies to build networks and explore cooperation opportunities. \nRegister by 6 June!
URL:https://healthcapitalhelsinki.fi/event/digital-follow-up-of-patients-in-finnish-homes/
CATEGORIES:Events
END:VEVENT
BEGIN:VEVENT
DTSTART;VALUE=DATE:20220615
DTEND;VALUE=DATE:20220616
DTSTAMP:20260420T045233
CREATED:20220211T105805Z
LAST-MODIFIED:20220211T105805Z
UID:19312-1655251200-1655337599@healthcapitalhelsinki.fi
SUMMARY:MedFIT 2022 Pitch Sessions
DESCRIPTION:Are you searching for the perfect place to present your innovative project or technology? Don’t miss your opportunity to pitch your innovation in front of the right audience in the MedTech\, Diagnostic and Digital Health sectors at the MedFit Pitch Sessions held on September 20–21\, 2022! \nThe selected companies will get: \n\nA 5-minute presentation timeslot in front of a jury of experts and an audience\nSpeed-mentoring from experts to boost the development of your project\nEnhanced visibility among potential partners and investors\nDedicated meeting space at the heart of the MedFIT exhibition area\nA presentation of your project on the event website and in the print programme\nThe opportunity to win and be recognised as the most innovative project in the sector\n\nFind out which pitching session is the right fit for you here and send your application by June 15th. \n 
URL:https://healthcapitalhelsinki.fi/event/medfit-pitch-sessions-2022/
CATEGORIES:Opportunities
ATTACH;FMTTYPE=image/png:https://healthcapitalhelsinki.fi/wp-content/uploads/2022/02/Nayttokuva-2022-02-11-kello-10.57.00.png
END:VEVENT
BEGIN:VEVENT
DTSTART;TZID=Europe/Helsinki:20220615T100000
DTEND;TZID=Europe/Helsinki:20220615T113000
DTSTAMP:20260420T045233
CREATED:20220607T141810Z
LAST-MODIFIED:20220607T141810Z
UID:20070-1655287200-1655292600@healthcapitalhelsinki.fi
SUMMARY:Health Talks: Planetary Health Innovation
DESCRIPTION:Organisers: HiLIFE\, INAR\, and Health Talks \nWelcome to the next event from the Health Talks series on Planetary Health. \nThe concept of planetary health is calling us to tackle the Global Challenges of the environment\, climate and human health as one interlinked whole. The health of humanity cannot thrive in an ill environment. In this Health Talks event\, we bring together science innovators who are offering solutions for clean air\, water and a resilient biodiversity\, for a healthy planet and us. \nSpeakers:\nAndrew Rebeiro-Hargrave – Chief Technology Officer of MegaSense\nDalial Freitak – Founder & Chief Science Officer of Dalan Animal Health\nMari Granström – Founder & Chief Science Activist of Origin by Ocean
URL:https://healthcapitalhelsinki.fi/event/health-talks-planetary-health-innovation/
CATEGORIES:Events
ATTACH;FMTTYPE=image/png:https://healthcapitalhelsinki.fi/wp-content/uploads/2022/06/Screenshot-2022-06-07-at-14.16.59.png
END:VEVENT
BEGIN:VEVENT
DTSTART;VALUE=DATE:20220626
DTEND;VALUE=DATE:20220630
DTSTAMP:20260420T045233
CREATED:20220429T103521Z
LAST-MODIFIED:20220429T103521Z
UID:19783-1656201600-1656547199@healthcapitalhelsinki.fi
SUMMARY:SelectUSA Investment Summit
DESCRIPTION:Organiser: U.S. Department of Commerce \nPlanning to expand your business to the USA? Join the annual SelectUSA Investment Summit and form valuable partnerships\, learn from industry experts and make your investments deal happen! This year the largest event dedicated to promoting foreign direct investment (FDI) in the United States will be held on June 26–29 in a hybrid format.  \nAre you an early-stage MedTech startup? SelectUSA Tech program will offer you an exciting opportunity to exhibit at branded booths\, upload a product and service demo video\, pitch in from of a panel of judges\, and much more. Read more here. \nGlobalWomen in Tech Mentorship Network (SGWIT) program\, aimed at international female founders\, entrepreneurs\, and executives in the technology sector will match participants with experienced\, successful mentors. You can send your application here.  \nRead more about the SelectUSA Investment Summit here.  \n 
URL:https://healthcapitalhelsinki.fi/event/selectusa-investment-summit/
CATEGORIES:Events
END:VEVENT
BEGIN:VEVENT
DTSTART;VALUE=DATE:20220629
DTEND;VALUE=DATE:20220630
DTSTAMP:20260420T045233
CREATED:20220509T160020Z
LAST-MODIFIED:20220509T160020Z
UID:19839-1656460800-1656547199@healthcapitalhelsinki.fi
SUMMARY:Consumable Classification Challenge
DESCRIPTION:Start-ups\, scale-ups\, innovative SMEs worldwide\, take part for free in the Consumable Classification Challenge\, a brand-new special prize of the Innovation World Cup® Series! It is the chance to implement your technology into a large quantity of consumer products\, and scale up with the world’s no.1 ecosystem in the Internet of Things\, Wearables and DeepTech. \nImagine a consumable device like a coffee capsule machine or a pharmaceutical product like a pill dispenser or a diabetes care device. The aim of this challenge is to implement a technology in the device detecting different supplements (or consumables) on the go. The size of the solution shall be suitable for a small handheld device. \nBecome the winner of the Consumable Classification Challenge and benefit from: \n\nMultiplying your technology in mass consumable products\nSpeaking slots and exhibition opportunities at global leading events such as MEDICA\, WT | Wearable Technologies Conferences\, and many more\n\nAll solutions on a lab or go-to-market level are eligible for the competition.
URL:https://healthcapitalhelsinki.fi/event/consumable-classification-challenge/
CATEGORIES:Opportunities
ATTACH;FMTTYPE=image/jpeg:https://healthcapitalhelsinki.fi/wp-content/uploads/2022/05/2022_IWC_Consumable-Classification-Challenge.jpg
END:VEVENT
END:VCALENDAR