BEGIN:VCALENDAR
VERSION:2.0
PRODID:-//Health Capital Helsinki - ECPv6.15.20//NONSGML v1.0//EN
CALSCALE:GREGORIAN
METHOD:PUBLISH
X-WR-CALNAME:Health Capital Helsinki
X-ORIGINAL-URL:https://healthcapitalhelsinki.fi
X-WR-CALDESC:Events for Health Capital Helsinki
REFRESH-INTERVAL;VALUE=DURATION:PT1H
X-Robots-Tag:noindex
X-PUBLISHED-TTL:PT1H
BEGIN:VTIMEZONE
TZID:Europe/Helsinki
BEGIN:DAYLIGHT
TZOFFSETFROM:+0200
TZOFFSETTO:+0300
TZNAME:EEST
DTSTART:20210328T010000
END:DAYLIGHT
BEGIN:STANDARD
TZOFFSETFROM:+0300
TZOFFSETTO:+0200
TZNAME:EET
DTSTART:20211031T010000
END:STANDARD
BEGIN:DAYLIGHT
TZOFFSETFROM:+0200
TZOFFSETTO:+0300
TZNAME:EEST
DTSTART:20220327T010000
END:DAYLIGHT
BEGIN:STANDARD
TZOFFSETFROM:+0300
TZOFFSETTO:+0200
TZNAME:EET
DTSTART:20221030T010000
END:STANDARD
BEGIN:DAYLIGHT
TZOFFSETFROM:+0200
TZOFFSETTO:+0300
TZNAME:EEST
DTSTART:20230326T010000
END:DAYLIGHT
BEGIN:STANDARD
TZOFFSETFROM:+0300
TZOFFSETTO:+0200
TZNAME:EET
DTSTART:20231029T010000
END:STANDARD
END:VTIMEZONE
BEGIN:VEVENT
DTSTART;TZID=Europe/Helsinki:20220201T080000
DTEND;TZID=Europe/Helsinki:20220201T090000
DTSTAMP:20260420T102110
CREATED:20220121T100003Z
LAST-MODIFIED:20220121T100003Z
UID:19198-1643702400-1643706000@healthcapitalhelsinki.fi
SUMMARY:Health Tuesday: BrainBreak
DESCRIPTION:Organiser: Business Finland \nFinnish research in neurosciences and product development are renowned and on par with international high standards. A high-quality education system\, excellence in technology\, “research-friendly” citizens and decades worth of registered data are among the factors contributing to the success of Finnish neuroscience research. \nThe next event of the Health Talks series by Business Finland will focus on current and groundbreaking projects in the Finnish neuroscience field. Register for the free online event here. \n 
URL:https://healthcapitalhelsinki.fi/event/health-tuesday-brainbreak/
CATEGORIES:Events
ATTACH;FMTTYPE=image/png:https://healthcapitalhelsinki.fi/wp-content/uploads/2022/01/Nayttokuva-2022-01-21-kello-9.58.05.png
END:VEVENT
BEGIN:VEVENT
DTSTART;TZID=Europe/Helsinki:20220203T140000
DTEND;TZID=Europe/Helsinki:20220203T150000
DTSTAMP:20260420T102110
CREATED:20220128T102859Z
LAST-MODIFIED:20220128T102859Z
UID:19240-1643896800-1643900400@healthcapitalhelsinki.fi
SUMMARY:Webinar series: Gain insight into the Nordic markets – Denmark
DESCRIPTION:Organiser: NorCare collaboration consisting of Danish Life Science Cluster\, Norwegian Smart Care Cluster\, Business Region Gothenburg and OuluHealth \nGet the latest knowledge and insights on the Nordic hospital and care markets! \nThis webinar series will provide you with a broad overview of the structure of the Nordic countries’ healthcare systems as well as valuable information on how to create relationships and sell to the various players in these markets. \nSign up for the free webinar to learn more about the hospital and care market in Denmark. The event will consist of approximately 30 minutes presentations followed by Q&A sessions.
URL:https://healthcapitalhelsinki.fi/event/gain-insight-into-the-nordic-markets-denmark/
CATEGORIES:Events
END:VEVENT
BEGIN:VEVENT
DTSTART;TZID=Europe/Helsinki:20220203T150000
DTEND;TZID=Europe/Helsinki:20220203T163000
DTSTAMP:20260420T102110
CREATED:20220131T150252Z
LAST-MODIFIED:20220131T150252Z
UID:19262-1643900400-1643905800@healthcapitalhelsinki.fi
SUMMARY:HIMSS22 Europe stakeholder meeting
DESCRIPTION:HIMSS22 European Health Conference & Exhibition is organised in Helsinki on 14–16 June\, 2022. HIMSS and the organising partners welcome all Finnish stakeholders to a virtual stakeholder meeting on Thursday 3 February at 15–16.30 EET/14-15:30 CET. Register and join the event if you are curious to learn about the plans! \nAgenda: \n\nIs data the lifeblood of Europe’s Next Generation Health Systems?\nDr Charles Alessi\, Chief Clinical Officer\, HIMSS\, United Kingdom\nFireside chat with Minna Hendolin\, Leading Specialist\, Health data 2030\, Sitra Finland\nFocus on HIMSS22 in Helsinki – 14-16 June 2022: Briefing on the Programme\, Community and Partner Delegations\, Sponsorship Opportunities and Exhibition.
URL:https://healthcapitalhelsinki.fi/event/himss22-europe-stakeholder-meeting/
CATEGORIES:Events
ATTACH;FMTTYPE=image/jpeg:https://healthcapitalhelsinki.fi/wp-content/uploads/2021/04/web_xs-HIMSS22_EU_logo_shortDate_white.jpg
END:VEVENT
BEGIN:VEVENT
DTSTART;VALUE=DATE:20220206
DTEND;VALUE=DATE:20220207
DTSTAMP:20260420T102110
CREATED:20211220T134533Z
LAST-MODIFIED:20211220T134533Z
UID:19124-1644105600-1644191999@healthcapitalhelsinki.fi
SUMMARY:90 Day Finn programme
DESCRIPTION:Hey investors\, founders\, and techies\, apply to become a 90 Day Finn by 6 February 2022! The popular program\, organised by Helsinki Partners\, is now open for applications. \nExperience life and work in Helsinki\, the capital of the world’s happiest country. Take this chance to immerse yourself in one of the most innovative business ecosystems and one of the most sustainable cities on the planet. \nHelsinki Partners will choose fifteen participants to move to Helsinki in August 2022. Read more and apply now!
URL:https://healthcapitalhelsinki.fi/event/90-day-finn-programme/
CATEGORIES:Opportunities
ATTACH;FMTTYPE=image/jpeg:https://healthcapitalhelsinki.fi/wp-content/uploads/2021/12/H365_2019_0469_Jussi_Hellsten-w1000.jpg
END:VEVENT
BEGIN:VEVENT
DTSTART;TZID=Europe/Helsinki:20220209T080000
DTEND;TZID=Europe/Helsinki:20220209T093000
DTSTAMP:20260420T102110
CREATED:20211119T144822Z
LAST-MODIFIED:20211119T144822Z
UID:18971-1644393600-1644399000@healthcapitalhelsinki.fi
SUMMARY:Huipputeknologia ja digitalisaatio terveydenhuollossa: vaikuttavuuden hankinta (In Finnish)
DESCRIPTION:Järjestäjä: Health Capital Helsinki\, Helsinki Partners ja Sailab – MedTech Finland ry \nMiten terveysteknologian vaikuttavuutta voidaan mitata? Miten vaikuttavuudesta viestitään niin\, että sitä voidaan käyttää pätevänä mittarina julkisissa hankinnoissa? Mihin tulee kiinnittää erityishuomiota\, kun tehdään vaikuttavuuteen perustuvia hankintoja?  \nTervetuloa keskustelemaan julkisista hankinnoista ja niiden kehittämisestä kaikille avoimeen ja maksuttomaan seminaarin 9.2.2022 klo 8.00! Tilaisuuden puhujina toimivat Laura Pitkänen (Valtiovarainministeriö)\, Petra Falkenbach (FinCCHTA)  ja Minna Väänänen (Fresenius Medical Care). \nTapahtuma on osa Health Capital Helsingin\, Helsinki Partnersin ja Sailab – MedTech Finland ry:n syksyllä 2021 alkanutta seminaarisarjaa. \nTilaisuus on avoin kaikille kiinnostuneille. Liity mukaan tilaisuuteen linkistä Sailabin sivuilta (ei ennakkoilmoittautumista).
URL:https://healthcapitalhelsinki.fi/event/huipputeknologia-ja-digitalisaatio-terveydenhuollossa-vaikuttavuuden-hankinta/
CATEGORIES:Events
ATTACH;FMTTYPE=image/png:https://healthcapitalhelsinki.fi/wp-content/uploads/2021/11/Nayttokuva-2021-11-19-kello-14.50.17.png
END:VEVENT
BEGIN:VEVENT
DTSTART;TZID=Europe/Helsinki:20220210T140000
DTEND;TZID=Europe/Helsinki:20220210T150000
DTSTAMP:20260420T102110
CREATED:20220128T103754Z
LAST-MODIFIED:20220128T103754Z
UID:19243-1644501600-1644505200@healthcapitalhelsinki.fi
SUMMARY:Webinar series: Gain insight into the Nordic markets – Finland
DESCRIPTION:Organiser: NorCare collaboration consisting of Danish Life Science Cluster\, Norwegian Smart Care Cluster\, Business Region Gothenburg and OuluHealth \nGet the latest knowledge and insights on the Nordic hospital and care markets! \nThis webinar series will provide you with a broad overview of the structure of the Nordic countries’ healthcare systems as well as valuable information on how to create relationships and sell to the various players in these markets. \nSign up for the final section of the series to learn more about the hospital and care market in Finland. The event is free of charge\, and it will consist of approximately 30 minutes presentations followed by Q&A sessions.
URL:https://healthcapitalhelsinki.fi/event/webinar-series-gain-insight-into-the-nordic-markets-finland/
CATEGORIES:Events
END:VEVENT
BEGIN:VEVENT
DTSTART;VALUE=DATE:20220211
DTEND;VALUE=DATE:20220212
DTSTAMP:20260420T102110
CREATED:20220121T105307Z
LAST-MODIFIED:20220121T105307Z
UID:19206-1644537600-1644623999@healthcapitalhelsinki.fi
SUMMARY:New Nordic Leads Startup Investment Readiness Program 2022
DESCRIPTION:Are you an early-stage startup ready to raise investment or currently starting to raise funding? EstBAN\, FiBAN and Central Baltic Interregis are calling for committed teams with a connection to the Nordic-Baltic region to apply to the 4th batch of Startup Investment Readiness Program\, kicking off in March 2022! \nDuring the program\, you will: \n\nGet 8 weeks of hands-on investment readiness training and top-notch mentoring from the leading angel investors in the region\nGrow your network of cross-border investors and fellow startup founders\n\nThe top teams will also get an opportunity to pitch at the EstBAN or FiBAN pitch event to a panel of potential investors. \nThe application period will end on February 11\, 2022.
URL:https://healthcapitalhelsinki.fi/event/new-nordic-leads-startup-investment-readiness-program-2022/
CATEGORIES:Opportunities
END:VEVENT
BEGIN:VEVENT
DTSTART;VALUE=DATE:20220211
DTEND;VALUE=DATE:20220212
DTSTAMP:20260420T102110
CREATED:20220124T150630Z
LAST-MODIFIED:20220124T150630Z
UID:19227-1644537600-1644623999@healthcapitalhelsinki.fi
SUMMARY:The City of Helsinki Innovation Challenge: Increasing the physical activity of young people
DESCRIPTION:The City of Helsinki has launched an innovation challenge aimed at companies to promote the physical activity of young people. Through the challenge\, the City is looking for innovative ways to increase the physical activity of upper secondary students and comprehensively promote well-being. \nProposals are not expected to be complete commercial solutions\, but rather products that can be developed and tested during the challenge in collaboration with users and City experts. Proposed solutions should have business potential and present an innovative approach to the challenge. \nRead more and apply by 11 February!
URL:https://healthcapitalhelsinki.fi/event/the-city-of-helsinki-innovation-challenge-increasing-the-physical-activity-of-young-people/
CATEGORIES:Opportunities
ATTACH;FMTTYPE=image/jpeg:https://healthcapitalhelsinki.fi/wp-content/uploads/2022/01/nuorisopalvelut-26042021-kuva-jussi-hellsten-1137-e1643012733831-2048x1014-1.jpeg
END:VEVENT
BEGIN:VEVENT
DTSTART;VALUE=DATE:20220214
DTEND;VALUE=DATE:20220215
DTSTAMP:20260420T102110
CREATED:20220202T091343Z
LAST-MODIFIED:20220202T091343Z
UID:19265-1644796800-1644883199@healthcapitalhelsinki.fi
SUMMARY:Digital brochure: The Finnish agetech offering
DESCRIPTION:Business Finland is publishing a digital brochure to present Finnish strengths in the field of agetech and inviting Finnish companies with relevant offering or innovations to be featured in the brochure. \nIn order to be included in the brochure\, your offering should be targeted for the international markets. By participating\, you will get an excellent opportunity to promote your field of innovation and expertise to a global audience. \nIf you are interested in getting featured in the brochure\, please contact Kenneth Sandström at kenneth.sandstrom (at) nhg.fi for further instructions by 14 February\, 2022.
URL:https://healthcapitalhelsinki.fi/event/digital-brochure-the-finnish-agetech-offering/
CATEGORIES:Opportunities
ATTACH;FMTTYPE=image/jpeg:https://healthcapitalhelsinki.fi/wp-content/uploads/2021/10/chinaiv.jpeg
END:VEVENT
BEGIN:VEVENT
DTSTART;VALUE=DATE:20220216
DTEND;VALUE=DATE:20220217
DTSTAMP:20260420T102110
CREATED:20220211T113808Z
LAST-MODIFIED:20220211T113808Z
UID:19325-1644969600-1645055999@healthcapitalhelsinki.fi
SUMMARY:Gateway to the NHS & UK Health Sector Competition
DESCRIPTION:Are you ready to enter the UK market and present your business to a leading expert panel from the UK healthcare sector and the NHS for guidance and advice? The Department for International Trade\’s Global Entrepreneur Programme is looking to support innovative HealthTech companies! \nQualifying criteria: \n\nYour company is in the scale-up phase\, with proven traction in your home market \nYou are a team with exceptional founders\nYou must be considering an operational presence in the UK\nHave ambitions to grow globally\nHave innovative and applicable solutions for the UK Health care sector (e.g.\, digital therapeutics\, diagnostics\, integrated healthcare systems)\n\nPlease submit your application by midnight\, Wednesday 16 February 2022.
URL:https://healthcapitalhelsinki.fi/event/global-entrepreneur-programme/
CATEGORIES:Opportunities
END:VEVENT
BEGIN:VEVENT
DTSTART;TZID=Europe/Helsinki:20220218T100000
DTEND;TZID=Europe/Helsinki:20220218T110000
DTSTAMP:20260420T102110
CREATED:20220211T111105Z
LAST-MODIFIED:20220211T111105Z
UID:19317-1645178400-1645182000@healthcapitalhelsinki.fi
SUMMARY:Health Talks webinar – Lab Testing: Facilities and Environments
DESCRIPTION:Organiser: Aalto University\, Health Design\, Health Hub Tampere\, HealthTurku\, HiLIFE\, Kuopio Health\, OuluHealth\, Terkko Health Hub\, Upgraded – Health Startup Association of Finland\, Laurea Entrepreneurship Society\, Metropolia Entrepreneurship Society and Xes Helsinki \nWhat are the lab testing environments where today’s challenges are solved? During the next Health Talks webinar\, this time hosted by Kuopio Health and HiLIFE\, you will learn about some of the infrastructure supporting and providing opportunities for cutting-edge research. Olli Silvennoinen from Biocenter Finland\, Katja Kivinen from HiLIFE and Matti Iso-Mustajärvi from the Microsurgery Center of Eastern Finland will present to you the facilities that enable innovation.  \nJoin the event – free of charge – online on February 18 at 10–11! \n 
URL:https://healthcapitalhelsinki.fi/event/health-talks-lab-testing/
CATEGORIES:Events
ATTACH;FMTTYPE=image/jpeg:https://healthcapitalhelsinki.fi/wp-content/uploads/2022/02/Health-Talks_Lab-testing.jpeg
END:VEVENT
BEGIN:VEVENT
DTSTART;VALUE=DATE:20220224
DTEND;VALUE=DATE:20220225
DTSTAMP:20260420T102110
CREATED:20211109T100928Z
LAST-MODIFIED:20211109T100928Z
UID:18830-1645660800-1645747199@healthcapitalhelsinki.fi
SUMMARY:Venture Lab Program
DESCRIPTION:Are you a newly established life science startup looking for funding and professional guidance? BioInnovation Institute has opened the call for the new Venture Lab program\, which includes a EUR 500\,000 risk-free convertible loan. \nDuring the program\, you will conduct key experiments to reach initial proof of concept and receive valuable help to make a business plan and set a team that will allow you to progress rapidly towards the market. Your startup will also get a scientific advisor\, a leadership coach and a BII anchor person that will closely follow the company’s development. \nThe application period for the Venture Lab program ends on February 24.  \n 
URL:https://healthcapitalhelsinki.fi/event/venture-lab-program/
CATEGORIES:Opportunities
ATTACH;FMTTYPE=image/jpeg:https://healthcapitalhelsinki.fi/wp-content/uploads/2021/11/Venture-Lab.jpeg
END:VEVENT
BEGIN:VEVENT
DTSTART;VALUE=DATE:20220228
DTEND;VALUE=DATE:20220301
DTSTAMP:20260420T102110
CREATED:20220216T100933Z
LAST-MODIFIED:20220216T100933Z
UID:19343-1646006400-1646092799@healthcapitalhelsinki.fi
SUMMARY:HIMSS22Europe calls for startups to showcase
DESCRIPTION:HIMSS is looking for new and innovative technologies from startups to showcase within the programme of the 2022 HIMSS European Health Conference & Exhibition\, taking place 14-16 June 2022 in Helsinki\, Finland. \nHave you got an innovative technology to showcase? This is a unique opportunity to gain valuable exposure across the healthcare ecosystem. Submission deadline is 28 February\, so act fast! \nHIMSS22 Europe is the can’t-miss health information and technology event of the year\, where professionals throughout the European health ecosystem get connected. Read more.
URL:https://healthcapitalhelsinki.fi/event/himss22europe-calls-for-startups-to-showcase/
CATEGORIES:Opportunities
ATTACH;FMTTYPE=image/jpeg:https://healthcapitalhelsinki.fi/wp-content/uploads/2022/02/HIMSS22-calling-startups.jpeg
END:VEVENT
END:VCALENDAR