BEGIN:VCALENDAR
VERSION:2.0
PRODID:-//Health Capital Helsinki - ECPv6.15.20//NONSGML v1.0//EN
CALSCALE:GREGORIAN
METHOD:PUBLISH
X-WR-CALNAME:Health Capital Helsinki
X-ORIGINAL-URL:https://healthcapitalhelsinki.fi
X-WR-CALDESC:Events for Health Capital Helsinki
REFRESH-INTERVAL;VALUE=DURATION:PT1H
X-Robots-Tag:noindex
X-PUBLISHED-TTL:PT1H
BEGIN:VTIMEZONE
TZID:Europe/Helsinki
BEGIN:DAYLIGHT
TZOFFSETFROM:+0200
TZOFFSETTO:+0300
TZNAME:EEST
DTSTART:20210328T010000
END:DAYLIGHT
BEGIN:STANDARD
TZOFFSETFROM:+0300
TZOFFSETTO:+0200
TZNAME:EET
DTSTART:20211031T010000
END:STANDARD
BEGIN:DAYLIGHT
TZOFFSETFROM:+0200
TZOFFSETTO:+0300
TZNAME:EEST
DTSTART:20220327T010000
END:DAYLIGHT
BEGIN:STANDARD
TZOFFSETFROM:+0300
TZOFFSETTO:+0200
TZNAME:EET
DTSTART:20221030T010000
END:STANDARD
BEGIN:DAYLIGHT
TZOFFSETFROM:+0200
TZOFFSETTO:+0300
TZNAME:EEST
DTSTART:20230326T010000
END:DAYLIGHT
BEGIN:STANDARD
TZOFFSETFROM:+0300
TZOFFSETTO:+0200
TZNAME:EET
DTSTART:20231029T010000
END:STANDARD
END:VTIMEZONE
BEGIN:VEVENT
DTSTART;VALUE=DATE:20220110
DTEND;VALUE=DATE:20220111
DTSTAMP:20260420T114055
CREATED:20211220T124913Z
LAST-MODIFIED:20211220T124913Z
UID:19099-1641772800-1641859199@healthcapitalhelsinki.fi
SUMMARY:Helsinki Female Tech Founder Frontrunner
DESCRIPTION:Are you a female founder or entrepreneur ready to kick-start your business in 2022? \nThe Helsinki Female Tech Founder Frontrunner program is aimed at highly motivated women in the digital/tech space\, with an entrepreneurial and growth mindset\, passion and drive to bring their business ideas to life and/or grow their digital/tech startups/scaleups. Specifically\, it is for current and planned female tech founders in Helsinki/Finland. \nThe 6-month high-impact program\, starting in February 2022\, includes hands-on mentoring\, skills development\, and access to experts and networks. \nRead more and apply by 10 January 2022!
URL:https://healthcapitalhelsinki.fi/event/helsinki-female-tech-founder-frontrunner/
CATEGORIES:Opportunities
ATTACH;FMTTYPE=image/jpeg:https://healthcapitalhelsinki.fi/wp-content/uploads/2021/12/FinTrangleCompressed-1.jpeg
END:VEVENT
BEGIN:VEVENT
DTSTART;TZID=Europe/Helsinki:20220112T080000
DTEND;TZID=Europe/Helsinki:20220112T093000
DTSTAMP:20260420T114055
CREATED:20210903T095031Z
LAST-MODIFIED:20210903T095031Z
UID:18181-1641974400-1641979800@healthcapitalhelsinki.fi
SUMMARY:Huipputeknologia ja digitalisaatio terveydenhuollossa: hankinta uudessa sotessa (in Finnish)
DESCRIPTION:Järjestäjä: Sailab – MedTech Finland ry\, Helsinki Business Hub\, Health Capital Helsinki \nHuipputeknologia ja digitalisaatio terveydenhuollossa -seminaarisarja jatkuu keskiviikkona 12.1.2022 kello 8.00! \nMiten SOTE-uudistus vaikuttaa julkisiin hankintoihin? Miltä tilanne näyttää eri alueiden hankintaorganisaatioiden näkökulmasta? Entä mitä tapahtuu lainvalmistelun saralla? \nMonet julkisin hankintoihin liittyvät kysymykset ovat vielä avoimia\, mutta tammikuussa niihin pyritään vastaamaan senhetkisen tiedon mukaan. \nTilaisuudessa lainsäädännön näkökulmaa esittelee johtava asiantuntija Riikka Hietanen (Työ- ja elinkeinoministeriö). Hankintayksiköiden näkemyksiä kuullaan erityisvastuualueiden hankintajohdolta. \nTilaisuus on avoin kaikille kiinnostuneille. Liity mukaan tilaisuuteen linkistä Sailabin sivuilta (ei ennakkoilmoittautumista).
URL:https://healthcapitalhelsinki.fi/event/hankinta-uudessa-sotessa/
CATEGORIES:Events
ATTACH;FMTTYPE=image/png:https://healthcapitalhelsinki.fi/wp-content/uploads/2021/09/Nayttokuva-2021-09-03-kello-9.17.52.png
END:VEVENT
BEGIN:VEVENT
DTSTART;VALUE=DATE:20220119
DTEND;VALUE=DATE:20220120
DTSTAMP:20260420T114055
CREATED:20211221T102342Z
LAST-MODIFIED:20211221T102342Z
UID:19127-1642550400-1642636799@healthcapitalhelsinki.fi
SUMMARY:Information Technology Master\'s Programme\, Medical Technology specialisation
DESCRIPTION:Interested in Medical Technology? Get a Master of Engineering degree! \nInformation Technology Master’s Programme in Metropolia University of Applied Sciences offers Medical Technology specialisation path that focuses on medical devices. Now you have a possibility to learn more about medical technology and gain a highly valued Master’s degree! \nThe focus is on regulatory requirements and standards\, medical devices and their environments of use\, medical device life cycle and innovations processes\, and safety related usability. \nThere is a shortage of expertise in this field! Application period is 5-19 January\, 2022. Studies start in August 2022.
URL:https://healthcapitalhelsinki.fi/event/information-technology-masters-programme-medical-technology-specialisation/
CATEGORIES:Opportunities
ATTACH;FMTTYPE=image/jpeg:https://healthcapitalhelsinki.fi/wp-content/uploads/2021/12/Metropolia-MedTech-degree.jpeg
END:VEVENT
BEGIN:VEVENT
DTSTART;TZID=Europe/Helsinki:20220119T090000
DTEND;TZID=Europe/Helsinki:20220119T103000
DTSTAMP:20260420T114055
CREATED:20211215T135740Z
LAST-MODIFIED:20211215T135740Z
UID:19078-1642582800-1642588200@healthcapitalhelsinki.fi
SUMMARY:Kiitorata terveysteknologian alalle -webinaari (in Finnish)
DESCRIPTION:Järjestäjä: Clinipower Finland Oy \nTerveysteknologia – mitä se on ja miksi alan vaatimuksiin kannattaa perehtyä? \nMaksuton webinaari tarjoaa ytimekkään esittelyn terveysteknologian alasta ja sen tärkeistä aihepiireistä\, kuten määritelmistä\, tuotteen kehitysvaiheista ja lainsäädännön vaatimusten vaikutuksesta organisaatioon. \nWebinaari järjestetään alkuvuodesta samansisältöisenä kaksi kertaa: \n\nKe 19.1.2022 klo 9–10.30 – ilmoittaudu mukaan täällä\nKe 26.1.2022 klo 9–10.30 – ilmoittaudu mukaan täällä
URL:https://healthcapitalhelsinki.fi/event/kiitorata-terveysteknologian-alalle-webinaari/
CATEGORIES:Events
ATTACH;FMTTYPE=image/jpeg:https://healthcapitalhelsinki.fi/wp-content/uploads/2021/12/Kiitorata_2022_1920px.jpg
END:VEVENT
BEGIN:VEVENT
DTSTART;VALUE=DATE:20220125
DTEND;VALUE=DATE:20220126
DTSTAMP:20260420T114055
CREATED:20211109T143342Z
LAST-MODIFIED:20211109T143342Z
UID:18859-1643068800-1643155199@healthcapitalhelsinki.fi
SUMMARY:Swiss Nordic Bio 2022
DESCRIPTION:Organiser: Business Finland\, Business Sweden\, Embassy of Norway and Swiss Innovation agency  \nAre you a biotech or medtech company looking for investors or partners? Join Swiss Nordic Bio! A one-day event with a seminar\, 1-1 meetings and optional pitching will bring life science professionals from Switzerland and the Nordic countries under one roof on January 25\, 2022. \nThe registration ends on January 21. Business Finland offers a 50 % promotion code for Finnish companies.
URL:https://healthcapitalhelsinki.fi/event/swiss-nordic-bio-2022/
CATEGORIES:Events
END:VEVENT
BEGIN:VEVENT
DTSTART;TZID=Europe/Helsinki:20220127T110000
DTEND;TZID=Europe/Helsinki:20220127T150000
DTSTAMP:20260420T114055
CREATED:20220114T112022Z
LAST-MODIFIED:20220114T112022Z
UID:19173-1643281200-1643295600@healthcapitalhelsinki.fi
SUMMARY:Funding journey: From research to commercialization
DESCRIPTION:Organiser: Health Capital Helsinki and BioInnovation Institute \nWhat the key players of the Nordic life science ecosystem has to offer in terms of programs\, funding and collaboration? What do the funding institutions look for when they explore which early-stage life science projects to fund? \nThese questions will be addressed in a free online event\, organised by Health Capital Helsinki and BioInnovation Institute\, based in Denmark on 27 January\, 11:00-15:00 (EET). In addition to listening to inspiring presentations and case stories\, you have a unique opportunity to book 1:1 meetings with representatives of Novo Nordisk Foundation\, BioInnovation Institute and Eir Ventures. \nSign up for presentations here and for 1:1 meetings here. \nPlease make sure to sign up for both parts separately.
URL:https://healthcapitalhelsinki.fi/event/funding-journey-event/
CATEGORIES:Events
END:VEVENT
BEGIN:VEVENT
DTSTART;VALUE=DATE:20220131
DTEND;VALUE=DATE:20220201
DTSTAMP:20260420T114055
CREATED:20210524T120319Z
LAST-MODIFIED:20210524T120319Z
UID:17125-1643587200-1643673599@healthcapitalhelsinki.fi
SUMMARY:MedPhab - Photonics pilot line for medical diagnostics
DESCRIPTION:Photonics Solutions at Pilot Scale for Accelerated Medical Device Development \nMedPhab\, Europe’s first pilot line for photonics-based medical devices\, is launching an Open Call for the external companies developing medical products. The objective of the Open Call is to provide technology development services for the companies that are adopting advanced photonics technologies in the medical diagnostics solutions. \nThe Call is open from March 2021 to December 2022\, and applicants will be able to apply anytime. The cut-off dates for the pre-screening stage are 15 July 2021\, 31 January 2022\, and 15 July 2022.
URL:https://healthcapitalhelsinki.fi/event/medphab-photonics-pilot-line-for-medical-diagnostics/
END:VEVENT
BEGIN:VEVENT
DTSTART;VALUE=DATE:20220131
DTEND;VALUE=DATE:20220201
DTSTAMP:20260420T114055
CREATED:20211214T140001Z
LAST-MODIFIED:20211214T140001Z
UID:19063-1643587200-1643673599@healthcapitalhelsinki.fi
SUMMARY:MedTech Pitch Day 2022
DESCRIPTION:A German seed investor firm High-Tech Gründerfond in collaboration with B.Braun\, Dräger and Philips Health Innovation Port is organising the 8th MedTech Pitch Day on March 9\, 2022\, in Berlin. In addition to presentations and keynote speeches\, the event gives founders a great opportunity to present their technology to leading MedTech investors and corporate decision-makers. \nInterested in securing a pitching slot for your company? Please send your applications including a non-confidential executive summary or presentation of your start-up or project by January 31\, 2022.
URL:https://healthcapitalhelsinki.fi/event/medtech-pitch-day-2022/
CATEGORIES:Opportunities
ATTACH;FMTTYPE=image/png:https://healthcapitalhelsinki.fi/wp-content/uploads/2021/12/Nayttokuva-2021-12-14-kello-13.46.55.png
END:VEVENT
BEGIN:VEVENT
DTSTART;VALUE=DATE:20220131
DTEND;VALUE=DATE:20220201
DTSTAMP:20260420T114055
CREATED:20211214T150405Z
LAST-MODIFIED:20211214T150405Z
UID:19074-1643587200-1643673599@healthcapitalhelsinki.fi
SUMMARY:Orion Health Camp
DESCRIPTION:Does your startup have health solutions for active retirees or for families with small children? Orion Pharma\, a globally operating Finnish pharmaceutical company is looking to team up with your company! \nFill out the contact form and join forces with Orion to: \n\nGet access to a wider customer group through Orion\’s channels \nIncrease traction for your solution\nProvide more holistic health services and true value for customers
URL:https://healthcapitalhelsinki.fi/event/orion-health-camp/
CATEGORIES:Opportunities
ATTACH;FMTTYPE=image/png:https://healthcapitalhelsinki.fi/wp-content/uploads/2021/12/Orion-431x236-1.png
END:VEVENT
END:VCALENDAR