BEGIN:VCALENDAR
VERSION:2.0
PRODID:-//Health Capital Helsinki - ECPv6.15.20//NONSGML v1.0//EN
CALSCALE:GREGORIAN
METHOD:PUBLISH
X-WR-CALNAME:Health Capital Helsinki
X-ORIGINAL-URL:https://healthcapitalhelsinki.fi
X-WR-CALDESC:Events for Health Capital Helsinki
REFRESH-INTERVAL;VALUE=DURATION:PT1H
X-Robots-Tag:noindex
X-PUBLISHED-TTL:PT1H
BEGIN:VTIMEZONE
TZID:Europe/Helsinki
BEGIN:DAYLIGHT
TZOFFSETFROM:+0200
TZOFFSETTO:+0300
TZNAME:EEST
DTSTART:20200329T010000
END:DAYLIGHT
BEGIN:STANDARD
TZOFFSETFROM:+0300
TZOFFSETTO:+0200
TZNAME:EET
DTSTART:20201025T010000
END:STANDARD
BEGIN:DAYLIGHT
TZOFFSETFROM:+0200
TZOFFSETTO:+0300
TZNAME:EEST
DTSTART:20210328T010000
END:DAYLIGHT
BEGIN:STANDARD
TZOFFSETFROM:+0300
TZOFFSETTO:+0200
TZNAME:EET
DTSTART:20211031T010000
END:STANDARD
BEGIN:DAYLIGHT
TZOFFSETFROM:+0200
TZOFFSETTO:+0300
TZNAME:EEST
DTSTART:20220327T010000
END:DAYLIGHT
BEGIN:STANDARD
TZOFFSETFROM:+0300
TZOFFSETTO:+0200
TZNAME:EET
DTSTART:20221030T010000
END:STANDARD
END:VTIMEZONE
BEGIN:VEVENT
DTSTART;VALUE=DATE:20210809
DTEND;VALUE=DATE:20210814
DTSTAMP:20260420T181647
CREATED:20210409T135640Z
LAST-MODIFIED:20210409T135640Z
UID:16613-1628467200-1628899199@healthcapitalhelsinki.fi
SUMMARY:HIMSS21 Global Health Conference & Exhibition
DESCRIPTION:Organiser: HIMSS \nHIMSS21 is the can’t-miss health information and technology event of the year\, where professionals connect for education\, innovation and collaboration. The event will be organised both in-person in Las Vegas\, the US\, and digitally.
URL:https://healthcapitalhelsinki.fi/event/himss21-global-health-conference-exhibition/
CATEGORIES:Events
ATTACH;FMTTYPE=image/png:https://healthcapitalhelsinki.fi/wp-content/uploads/2021/04/Screenshot-2021-04-09-at-13.55.21.png
END:VEVENT
BEGIN:VEVENT
DTSTART;VALUE=DATE:20210815
DTEND;VALUE=DATE:20210816
DTSTAMP:20260420T181647
CREATED:20210630T100035Z
LAST-MODIFIED:20210630T100035Z
UID:17770-1628985600-1629071999@healthcapitalhelsinki.fi
SUMMARY:HealthBIO 2021 Pitching Competition
DESCRIPTION:HealthBIO Seminar and Get together\, 15 September\nThe 15th HealthBIO event will be arranged on-site at Presidentti auditorium\, BioCity\, and Get-together at Visitor and Innovation Centre Joki\, Turku. \nThe program includes an overview of the newest trends and successful companies will share their latest insights on the development of the life-science business environment. The program also introduces the most significant projects in the life-science field: CancerIO and InFlames. CancerIO is coordinated by the University of Helsinki and focuses on immuno-oncology\, while InFlames is a joint flagship project of the University of Turku and Åbo Akademi University and focuses on immunology. \nHealthBIO 2021 Partnering Event\, 16 September\nThe HealthBIO 2021 Partnering Day and Pitching Competition will be arranged on at SparkUp in ElektroCity\, Turku. \nApply for the pitching competition by sending a short abstract of your 5 min presentation to tero.piispanen@turkubusinessregion.com by 15 August 2021.
URL:https://healthcapitalhelsinki.fi/event/healthbio-2021-pitching-competition/
CATEGORIES:Opportunities
END:VEVENT
BEGIN:VEVENT
DTSTART;VALUE=DATE:20210818
DTEND;VALUE=DATE:20210819
DTSTAMP:20260420T181647
CREATED:20210630T103053Z
LAST-MODIFIED:20210630T103053Z
UID:17783-1629244800-1629331199@healthcapitalhelsinki.fi
SUMMARY:FinEst Twins Mini-Piloting Open Call
DESCRIPTION:Mini-Piloting is one of the piloting programmes within the EU-funded FinEst Twins project. The programme aims to improve the urban ecosystem by catalysing innovation from current research to create successful start-up companies. \nMini-Piloting is looking for research-based ideas and concepts that can be developed into profitable businesses or otherwise contribute to urban development. Health & Well-being is one of the topics in the piloting programme. \nThe call for tenders opens 18 June\, 2021 and closes 18 August\, 2021. During the autumn 2021 and spring 2022\, the selected proposals will be developed into functional prototypes and piloted in cooperation with cities.
URL:https://healthcapitalhelsinki.fi/event/finest-twins-mini-piloting-open-call/
CATEGORIES:Opportunities
ATTACH;FMTTYPE=image/jpeg:https://healthcapitalhelsinki.fi/wp-content/uploads/2021/06/FinEstTwins.jpeg
END:VEVENT
BEGIN:VEVENT
DTSTART;TZID=Europe/Helsinki:20210819T100000
DTEND;TZID=Europe/Helsinki:20210819T121500
DTSTAMP:20260420T181647
CREATED:20210805T131417Z
LAST-MODIFIED:20210805T131417Z
UID:17816-1629367200-1629375300@healthcapitalhelsinki.fi
SUMMARY:China health tech series II – An outlook of the impact of China\'s 14th five year plan on healthcare industry
DESCRIPTION:Organiser: Business Finland China\, Smart Life Finland Program \nChina’s 14th Five Year Plan (FYP)\, the Chinese government’s most important strategy to address its economic\, social\, and environmental challenges over the next five-year period from 2021 to 2025\, is focused on key national targets\, market access commitments\, and implications for international companies to do businesses in China. Therefore it is a crucial document to understand. \nBusiness Finland China together with Smart Life Finland program invites Finnish health tech companies interested in China to participate in the event on Thursday\, August 19\, 2021\, at 10:00–12:15. The purpose of the event is to promote a good understanding of China’s key regulatory updates\, share insights into market opportunities\, and enable Finnish companies to leverage policies priorities to generate a positive impact on business practice in China.  \nThe event is a part of the Business Finland event series that started with the Finland-China Joint Innovation Calls 2021 Launch in June 2021. \n 
URL:https://healthcapitalhelsinki.fi/event/china-health-tech-series/
CATEGORIES:Events
ATTACH;FMTTYPE=image/png:https://healthcapitalhelsinki.fi/wp-content/uploads/2021/08/Nayttokuva-2021-08-05-kello-13.13.43.png
END:VEVENT
BEGIN:VEVENT
DTSTART;VALUE=DATE:20210820
DTEND;VALUE=DATE:20210821
DTSTAMP:20260420T181647
CREATED:20210506T103550Z
LAST-MODIFIED:20210506T103550Z
UID:17039-1629417600-1629503999@healthcapitalhelsinki.fi
SUMMARY:BioFinland Pitching Competition
DESCRIPTION:The aim of the competition is to encourage students to take a more positive stand towards biobusiness and entrepreneurship. Finnish Bioindustries invites all the students in Finnish universities and universities of applied sciences (bachelor\, master\, doctoral\, graduate school students) to participate in the competition. \nApply by 20 August! The Pitching Competition Final takes place 1 October 2021.
URL:https://healthcapitalhelsinki.fi/event/biofinland-pitching-competition/
CATEGORIES:Opportunities
END:VEVENT
BEGIN:VEVENT
DTSTART;VALUE=DATE:20210831
DTEND;VALUE=DATE:20210901
DTSTAMP:20260420T181647
CREATED:20210617T143908Z
LAST-MODIFIED:20210617T143908Z
UID:17643-1630368000-1630454399@healthcapitalhelsinki.fi
SUMMARY:Prevention Accelerator: Calling startups with digital solutions to obesity
DESCRIPTION:Are you a start-up that can utilise digital solutions to predict and/or prevent the rise of obesity? \nNovo Nordisk is inviting startups developing digital solutions that enable individuals and/or societies to predict and/or prevent the rise of obesity to join The Prevention Accelerator. Apply by 31 August! \nWhy participate? \n\n100\,000 USD start-up funding (~81\,000 EUR / ~600\,000 DKK) to test your idea and implement a pilot together with Novo Nordisk\nNetwork connections with other organisations and investors through our partner PlugnPlay Creasphere\nMentoring and support from our experts during the pilot implementation\nOffice space at Health Tech Hub Copenhagen\, our partner and the hottest digital healthcare start-up location in the city (COVID-19 restrictions may apply)
URL:https://healthcapitalhelsinki.fi/event/prevention-accelerator-calling-startups-with-digital-solutions-to-obesity/
CATEGORIES:Opportunities
ATTACH;FMTTYPE=image/png:https://healthcapitalhelsinki.fi/wp-content/uploads/2021/06/Screenshot-2021-06-17-at-14.37.29.png
END:VEVENT
BEGIN:VEVENT
DTSTART;TZID=Europe/Helsinki:20210831T160000
DTEND;TZID=Europe/Helsinki:20210831T173000
DTSTAMP:20260420T181647
CREATED:20210825T132753Z
LAST-MODIFIED:20210825T132753Z
UID:18047-1630425600-1630431000@healthcapitalhelsinki.fi
SUMMARY:Resistomap’s antibiotic resistance monitoring service
DESCRIPTION:Organiser: Resistomap \nTogether with Resistomap’s esteemed scientific advisor Prof. James Tiedje we will discuss the science behind Resistomap\’s antibiotic resistance monitoring service. \nWe will also take a look at some of the problematic ARGs and its prevalence in the environment. In addition\, we will introduce Resistomap’s service to monitor ARGs from different types of environmental samples and a few examples of projects that we conducted with our customers. \nThe presentations will be followed by a roundtable discussion with the opportunity for the audience to ask questions.
URL:https://healthcapitalhelsinki.fi/event/resistomaps-antibiotic-resistance-monitoring-service/
CATEGORIES:Events
ATTACH;FMTTYPE=image/png:https://healthcapitalhelsinki.fi/wp-content/uploads/2021/08/Resistomap-webinar.png
END:VEVENT
END:VCALENDAR