BEGIN:VCALENDAR
VERSION:2.0
PRODID:-//Health Capital Helsinki - ECPv6.15.20//NONSGML v1.0//EN
CALSCALE:GREGORIAN
METHOD:PUBLISH
X-WR-CALNAME:Health Capital Helsinki
X-ORIGINAL-URL:https://healthcapitalhelsinki.fi
X-WR-CALDESC:Events for Health Capital Helsinki
REFRESH-INTERVAL;VALUE=DURATION:PT1H
X-Robots-Tag:noindex
X-PUBLISHED-TTL:PT1H
BEGIN:VTIMEZONE
TZID:Europe/Helsinki
BEGIN:DAYLIGHT
TZOFFSETFROM:+0200
TZOFFSETTO:+0300
TZNAME:EEST
DTSTART:20200329T010000
END:DAYLIGHT
BEGIN:STANDARD
TZOFFSETFROM:+0300
TZOFFSETTO:+0200
TZNAME:EET
DTSTART:20201025T010000
END:STANDARD
BEGIN:DAYLIGHT
TZOFFSETFROM:+0200
TZOFFSETTO:+0300
TZNAME:EEST
DTSTART:20210328T010000
END:DAYLIGHT
BEGIN:STANDARD
TZOFFSETFROM:+0300
TZOFFSETTO:+0200
TZNAME:EET
DTSTART:20211031T010000
END:STANDARD
BEGIN:DAYLIGHT
TZOFFSETFROM:+0200
TZOFFSETTO:+0300
TZNAME:EEST
DTSTART:20220327T010000
END:DAYLIGHT
BEGIN:STANDARD
TZOFFSETFROM:+0300
TZOFFSETTO:+0200
TZNAME:EET
DTSTART:20221030T010000
END:STANDARD
END:VTIMEZONE
BEGIN:VEVENT
DTSTART;VALUE=DATE:20210715
DTEND;VALUE=DATE:20210716
DTSTAMP:20260420T193945
CREATED:20210630T100935Z
LAST-MODIFIED:20210630T100935Z
UID:17780-1626307200-1626393599@healthcapitalhelsinki.fi
SUMMARY:MedPhab - Photonics pilot line for medical diagnostics  Copy
DESCRIPTION:Photonics Solutions at Pilot Scale for Accelerated Medical Device Development \nMedPhab\, Europe’s first pilot line for photonics-based medical devices\, is launching an Open Call for the external companies developing medical products. The objective of the Open Call is to provide technology development services for the companies that are adopting advanced photonics technologies in the medical diagnostics solutions. \nThe Call is open from March 2021 to December 2022\, and applicants will be able to apply anytime. The cut-off dates for the pre-screening stage are 15 July 2021\, 31 January 2022\, and 15 July 2022.
URL:https://healthcapitalhelsinki.fi/event/medphab-photonics-pilot-line-for-medical-diagnostics-copy/
END:VEVENT
BEGIN:VEVENT
DTSTART;VALUE=DATE:20210722
DTEND;VALUE=DATE:20210723
DTSTAMP:20260420T193945
CREATED:20210610T130746Z
LAST-MODIFIED:20210610T130746Z
UID:17552-1626912000-1626998399@healthcapitalhelsinki.fi
SUMMARY:COVID-X acceleration program
DESCRIPTION:Join an exclusive acceleration program funded by the European Commission as part of the response plan to defeat COVID-19 with data-driven technology! \n\nThe program will grant EU companies with 100K€ in equity-free funding to validate their data solutions in one of the clinical partners from Italy\, Spain or Sweden. If the company brings in a Healthcare Provider that can validate the solution\, the financial support will go up to 150K€. The focus will be on clinical challenges related to diagnosis\, prognosis or follow-up of COVID-19 patients\, or on a new open challenge. \n\nThe selected solutions will join the 10-months acceleration program to boost a quick market uptake. The plan of action will include technical support\, ethical validation\, and business coaching. In addition\, participants deploy the COVID-X Sandbox\, a one-stop platform to exploit COVID-19 data sources\, incorporating general information on data silos\, as well as the integration\, visualization\, and exploratory analysis for easy understanding. \n\nThe Open Call#2\, running now\, will select 15+ top-ranked solutions. The deadline for applications is 22.07.2021 at 17:00 CEST.
URL:https://healthcapitalhelsinki.fi/event/helseed-2021-programme-copy-copy/
CATEGORIES:Opportunities
ATTACH;FMTTYPE=image/png:https://healthcapitalhelsinki.fi/wp-content/uploads/2021/06/Nayttokuva-2021-06-10-kello-13.06.47.png
END:VEVENT
END:VCALENDAR