BEGIN:VCALENDAR
VERSION:2.0
PRODID:-//Health Capital Helsinki - ECPv6.15.20//NONSGML v1.0//EN
CALSCALE:GREGORIAN
METHOD:PUBLISH
X-ORIGINAL-URL:https://healthcapitalhelsinki.fi
X-WR-CALDESC:Events for Health Capital Helsinki
REFRESH-INTERVAL;VALUE=DURATION:PT1H
X-Robots-Tag:noindex
X-PUBLISHED-TTL:PT1H
BEGIN:VTIMEZONE
TZID:Europe/Helsinki
BEGIN:DAYLIGHT
TZOFFSETFROM:+0200
TZOFFSETTO:+0300
TZNAME:EEST
DTSTART:20200329T010000
END:DAYLIGHT
BEGIN:STANDARD
TZOFFSETFROM:+0300
TZOFFSETTO:+0200
TZNAME:EET
DTSTART:20201025T010000
END:STANDARD
BEGIN:DAYLIGHT
TZOFFSETFROM:+0200
TZOFFSETTO:+0300
TZNAME:EEST
DTSTART:20210328T010000
END:DAYLIGHT
BEGIN:STANDARD
TZOFFSETFROM:+0300
TZOFFSETTO:+0200
TZNAME:EET
DTSTART:20211031T010000
END:STANDARD
BEGIN:DAYLIGHT
TZOFFSETFROM:+0200
TZOFFSETTO:+0300
TZNAME:EEST
DTSTART:20220327T010000
END:DAYLIGHT
BEGIN:STANDARD
TZOFFSETFROM:+0300
TZOFFSETTO:+0200
TZNAME:EET
DTSTART:20221030T010000
END:STANDARD
END:VTIMEZONE
BEGIN:VEVENT
DTSTART;VALUE=DATE:20210601
DTEND;VALUE=DATE:20210603
DTSTAMP:20260420T211030
CREATED:20210423T113750Z
LAST-MODIFIED:20210423T113750Z
UID:16762-1622505600-1622678399@healthcapitalhelsinki.fi
SUMMARY:Arctic15 Helsinki
DESCRIPTION:Organiser: Arctic15 \nMatchmaking & networking event for startups\, businesses & investors \nAs the most efficient matchmaking event series in the Nordics\, Arctic15 is the platform for you to make your next move and to take the right steps forward. \nArctic15 startup event connects people with our traditional matchmaking and networking focused mindset and welcomes everyone who supports innovation and entrepreneurship\, to be part of it.
URL:https://healthcapitalhelsinki.fi/event/arctic15-helsinki/
CATEGORIES:Events
ATTACH;FMTTYPE=image/jpeg:https://healthcapitalhelsinki.fi/wp-content/uploads/2021/04/arctic15.jpeg
END:VEVENT
BEGIN:VEVENT
DTSTART;TZID=Europe/Helsinki:20210601T080000
DTEND;TZID=Europe/Helsinki:20210601T093000
DTSTAMP:20260420T211030
CREATED:20210512T104914Z
LAST-MODIFIED:20210512T104914Z
UID:17061-1622534400-1622539800@healthcapitalhelsinki.fi
SUMMARY:Health Tuesday: Leading Finnish health testbeds
DESCRIPTION:Organiser: Business Finland \nGet acquainted with the leading Finnish Health Testbeds \nCome and learn from the success of leading Finnish companies on how to boost your innovation and development activities by leveraging the real life testing opportunities offering by Finnish testbeds.
URL:https://healthcapitalhelsinki.fi/event/health-tuesday-leading-finnish-health-testbeds/
CATEGORIES:Events
ATTACH;FMTTYPE=image/jpeg:https://healthcapitalhelsinki.fi/wp-content/uploads/2021/05/BF-leading-testbeds.jpeg
END:VEVENT
BEGIN:VEVENT
DTSTART;TZID=Europe/Helsinki:20210601T160000
DTEND;TZID=Europe/Helsinki:20210601T171500
DTSTAMP:20260420T211030
CREATED:20210512T105259Z
LAST-MODIFIED:20210512T105259Z
UID:17065-1622563200-1622567700@healthcapitalhelsinki.fi
SUMMARY:Health Talks: Real-world Data as Enabler of Personalized Healthcare
DESCRIPTION:Organiser: Terkko Health Hub with partners \nHealthcare is becoming ever more personalized. Carrying out randomized clinical trials has become much harder as recruiting patients for certain rare condition focused trials could take decades. In the age of digitalization\, vast amounts of data is being collected to hospital information systems and elsewhere. Use of this real-world data has shown its promise to contribute to this problem e.g. as a virtual trial arm. Quality of the data is of utmost importance in order to generate relevant insights. Does Finland have quality data and how can it be used? How can anonymized data be used? Come and hear on 1 June at Health Talks.
URL:https://healthcapitalhelsinki.fi/event/health-talks-real-world-data-as-enabler-of-personalized-healthcare/
CATEGORIES:Events
ATTACH;FMTTYPE=image/png:https://healthcapitalhelsinki.fi/wp-content/uploads/2021/05/Real-world.png
END:VEVENT
BEGIN:VEVENT
DTSTART;TZID=Europe/Helsinki:20210602T130000
DTEND;TZID=Europe/Helsinki:20210602T163000
DTSTAMP:20260420T211030
CREATED:20210528T155224Z
LAST-MODIFIED:20210528T155224Z
UID:17237-1622638800-1622651400@healthcapitalhelsinki.fi
SUMMARY:Nordic Proof: E-health products\, regulatory strategy and clinical testing
DESCRIPTION:Organiser: Nordic Proof \nWhat does an e-health company need to know and consider from a regulatory and clinical perspective? \nWith the changes in the EU regulations many software companies are finding a regulatory strategy difficult to navigate. Clinical evaluation is a very important part of that strategy so understanding the basic is key to moving towards compliance. \nNordic Proof especially invites companies developing e-health medical devices\, but all medtech companies needing access to test facilities are much welcome.
URL:https://healthcapitalhelsinki.fi/event/nordic-proof-e-health-products-regulatory-strategy-and-clinical-testing/
CATEGORIES:Events
END:VEVENT
BEGIN:VEVENT
DTSTART;VALUE=DATE:20210607
DTEND;VALUE=DATE:20210610
DTSTAMP:20260420T211030
CREATED:20210224T132716Z
LAST-MODIFIED:20210224T132716Z
UID:15353-1623024000-1623283199@healthcapitalhelsinki.fi
SUMMARY:HIMMS & Health 2.0 European Health Conference
DESCRIPTION:Organiser: HIMSS \nFree early-bird registration until 24th May 2021 for employees of Healthcare Organisations (Providers\, Governments\, Non Profits and Universities) and students! \nHIMSS21 Europe will address the most pressing challenges in digital health\, featuring renowned experts\, real-world case studies and outcomes-focused best practices. \nThe educational programme will focus around Collaborations\, Sustainability and Precision: A New Agenda for Europe. \nWith healthcare organisations seeking to lock in the gains and progress made by the sudden and unprecedented transformation in the use of digital health services in response to COVID-19\, the event will cover 6 topics critical to the successful adoption and integration of technology in all healthcare settings: \n\nPandemic recovery and catching up on the backlog\nData collaboration and trust to underpin integrated care\nEffective digital public health to combat the ‘infodemic’\nCreating a digitally-enabled and informed workforce\nNew frontiers for AI\, data analytics and precision health\nHealth inequalities at the forefront of transformation\n\nYour online pass will give you access to over 40 hours of conference-level content with access to over 120 speakers\, topic-based driven Content Hubs with a line-up of innovative market suppliers and endless networking opportunities.
URL:https://healthcapitalhelsinki.fi/event/himms-health-2-0-european-health-conference-exhibition/
CATEGORIES:Events
ATTACH;FMTTYPE=image/png:https://healthcapitalhelsinki.fi/wp-content/uploads/2021/02/HIMSS21EU_SoMe-Image_Static_02_1200x630.png
END:VEVENT
BEGIN:VEVENT
DTSTART;TZID=Europe/Helsinki:20210615T110000
DTEND;TZID=Europe/Helsinki:20210615T123000
DTSTAMP:20260420T211030
CREATED:20210610T125033Z
LAST-MODIFIED:20210610T125033Z
UID:17541-1623754800-1623760200@healthcapitalhelsinki.fi
SUMMARY:Webinar: Digital health opportunities in Japan for Nordic companies
DESCRIPTION:Did you know that Japan has the 3rd largest healthcare market in the world? \nA hyper ageing society and the lagging in digitalisation is accelerating both the private and public sectors to look for new digital solutions. Nordic Innovation House – Tokyo has conducted a market research study with Innovation Norway and Business Sweden\, and is excited to share the results and the opportunities with you. \nJoin the webinar – free of charge – on June 15th\, 10:00-11:30 CEST to hear from opinion leaders in Japan\, learn more about the findings\, and listen to stories from Nordic health tech companies present in Japan. \nThe event is organised by Innovation Norway\, Business Sweden and Nordic Innovation House Tokyo\, as well as supported by Business Finland\, Business Iceland\, and the Royal Danish Embassy in Tokyo.
URL:https://healthcapitalhelsinki.fi/event/startups-against-coronavirus-copy/
CATEGORIES:Events
ATTACH;FMTTYPE=image/png:https://healthcapitalhelsinki.fi/wp-content/uploads/2021/06/Nayttokuva-2021-06-10-kello-12.54.31.png
END:VEVENT
BEGIN:VEVENT
DTSTART;TZID=Europe/Helsinki:20210617T130000
DTEND;TZID=Europe/Helsinki:20210617T143000
DTSTAMP:20260420T211030
CREATED:20210604T085357Z
LAST-MODIFIED:20210604T085357Z
UID:17420-1623934800-1623940200@healthcapitalhelsinki.fi
SUMMARY:Preparing for international business: The Power of Insight
DESCRIPTION:Organiser: Health Capital Helsinki \nAre you a health startup or a growth company with international ambitions? Are you wondering where to place your bets? This event is for you. Join us for an interactive workshop on Thursday\, 17 June! \nHealth Capital Helsinki presents Cetas Healthcare\, a global market intelligence agency\, that offers affordable market research\, customer insights and consulting to the medical device and diagnostics marketplace. \nIn a recent survey by Health Capital Helsinki and Upgraded\, health startups and growth companies told us that they would appreciate support in sales and marketing. We see an unmet need for market analysis services and want to introduce you with one potential service provider. \nSign up for the event by June 16.
URL:https://healthcapitalhelsinki.fi/event/preparing-for-international-business-the-power-of-insight/
CATEGORIES:Events
ATTACH;FMTTYPE=image/jpeg:https://healthcapitalhelsinki.fi/wp-content/uploads/2021/06/Preparing-for-international-business.jpeg
END:VEVENT
BEGIN:VEVENT
DTSTART;VALUE=DATE:20210620
DTEND;VALUE=DATE:20210621
DTSTAMP:20260420T211030
CREATED:20210423T105441Z
LAST-MODIFIED:20210423T105441Z
UID:16754-1624147200-1624233599@healthcapitalhelsinki.fi
SUMMARY:Bayer G4A partnerships 2021
DESCRIPTION:Bayer G4A partners with startups and healthcare technology companies that are developing innovative solutions in healthcare. You can now apply for our 2021 partnerships! \nThis year\, G4A is looking for digital health solutions in the fields of cardiometabolic and renal diseases\, women’s health care and mental health. Join the community of innovative digital health companies that strive to change the experience of health.
URL:https://healthcapitalhelsinki.fi/event/bayer-g4a-partnerships-2021/
CATEGORIES:Opportunities
ATTACH;FMTTYPE=image/jpeg:https://healthcapitalhelsinki.fi/wp-content/uploads/2021/04/G4A-partnerships.jpeg
END:VEVENT
BEGIN:VEVENT
DTSTART;VALUE=DATE:20210622
DTEND;VALUE=DATE:20210623
DTSTAMP:20260420T211030
CREATED:20210609T090909Z
LAST-MODIFIED:20210609T090909Z
UID:17495-1624320000-1624406399@healthcapitalhelsinki.fi
SUMMARY:French Digital Health online matchmaking event
DESCRIPTION:Organised by the ‘Invest in Paris region’ organisation\, this matchmaking event aims to connect large French health actors and corporates with foreign startups/scaleups that offer innovative technologies and solutions. \nThe event is on 8 July 2021. Deadline for registration is 22 June\, but please note that the number of participating startups is limited so early registration is highly recommended. \nMain selection criteria for the event: \n\nFrench corporates & actors participating in the event are looking for new innovative technologies that provide a real competitive advantage\nCorporates have a particular interest in promising startups that have yet to be widely recognised\, but have an operational solution that is already available (not at POC stage)\nParticipating startups must also have existing customers and have the intention and capability to expand internationally\nThe max. size of startups is 500 employees.
URL:https://healthcapitalhelsinki.fi/event/french-digital-health-online-matchmaking-event/
CATEGORIES:Opportunities
END:VEVENT
BEGIN:VEVENT
DTSTART;TZID=Europe/Helsinki:20210622T160000
DTEND;TZID=Europe/Helsinki:20210622T173000
DTSTAMP:20260420T211030
CREATED:20210428T131541Z
LAST-MODIFIED:20210428T131541Z
UID:16873-1624377600-1624383000@healthcapitalhelsinki.fi
SUMMARY:FIMM Meets Pharma: R&D for pre­ci­sion cancer medicine
DESCRIPTION:Organiser: FIMM in collaboration with Health Capital Helsinki \nThe Institute for Molecular Medicine Finland (FIMM) has close connections to the HUS Helsinki University Hospital and extensive experience with patient sample deep molecular profiling and machine-assisted analysis. In this webinar\, FIMM presents how they\’ve have been able to attract\, maintain and increase collaborations with several clinical stage pharmaceutical partners. \nSpeak­ers:\nResearch Director Caroline Heckman (FIMM)\, Professor Kimmo Porkka (HUS)\, and Executive Director\, Oncology Precision Medicine Celine Pallaud (Novartis)
URL:https://healthcapitalhelsinki.fi/event/fimm-meets-pharma-why-fimm-why-finland-copy-copy/
CATEGORIES:Events
ATTACH;FMTTYPE=image/png:https://healthcapitalhelsinki.fi/wp-content/uploads/2021/03/unnamed-5.png
END:VEVENT
BEGIN:VEVENT
DTSTART;VALUE=DATE:20210630
DTEND;VALUE=DATE:20210701
DTSTAMP:20260420T211030
CREATED:20210326T103345Z
LAST-MODIFIED:20210326T103345Z
UID:16453-1625011200-1625097599@healthcapitalhelsinki.fi
SUMMARY:Nordic Health Virtual Market Entry Programme - Singapore 2021
DESCRIPTION:Application deadline extended to 30 June! \nCalling all Nordic HealthTech and MedTech innovators! Are you seeking new market opportunities in Singapore and Southeast Asia? This September\, NIH-SG and partners from the Embassy of Finland\, Business Sweden\, Innovation Norway\, Business Iceland and the Embassy of Denmark in Singapore will continue to build more opportunities for Nordic tech companies operating under the Health theme. \nIf you have a health solution in the areas of Chronic Disease Prevention & Management (Diabetes\, Cancer\, Mental Health)\, Ageing\, Prevention & Early Intervention\, or Rehabilitation\, join the Nordic Health Virtual Market Entry Programme to co-create\, collaborate and find new business opportunities with local partners in Singapore. \n• Read more information\n• Apply by 30 June
URL:https://healthcapitalhelsinki.fi/event/nordic-health-virtual-market-entry-programme-singapore-2021/
CATEGORIES:Opportunities
ATTACH;FMTTYPE=image/jpeg:https://healthcapitalhelsinki.fi/wp-content/uploads/2021/03/NIH-SG-Nordic-Health-Virtual-Market-Entry-Programme.jpeg
END:VEVENT
END:VCALENDAR