BEGIN:VCALENDAR
VERSION:2.0
PRODID:-//Health Capital Helsinki - ECPv6.15.20//NONSGML v1.0//EN
CALSCALE:GREGORIAN
METHOD:PUBLISH
X-WR-CALNAME:Health Capital Helsinki
X-ORIGINAL-URL:https://healthcapitalhelsinki.fi
X-WR-CALDESC:Events for Health Capital Helsinki
REFRESH-INTERVAL;VALUE=DURATION:PT1H
X-Robots-Tag:noindex
X-PUBLISHED-TTL:PT1H
BEGIN:VTIMEZONE
TZID:Europe/Helsinki
BEGIN:DAYLIGHT
TZOFFSETFROM:+0200
TZOFFSETTO:+0300
TZNAME:EEST
DTSTART:20200329T010000
END:DAYLIGHT
BEGIN:STANDARD
TZOFFSETFROM:+0300
TZOFFSETTO:+0200
TZNAME:EET
DTSTART:20201025T010000
END:STANDARD
BEGIN:DAYLIGHT
TZOFFSETFROM:+0200
TZOFFSETTO:+0300
TZNAME:EEST
DTSTART:20210328T010000
END:DAYLIGHT
BEGIN:STANDARD
TZOFFSETFROM:+0300
TZOFFSETTO:+0200
TZNAME:EET
DTSTART:20211031T010000
END:STANDARD
BEGIN:DAYLIGHT
TZOFFSETFROM:+0200
TZOFFSETTO:+0300
TZNAME:EEST
DTSTART:20220327T010000
END:DAYLIGHT
BEGIN:STANDARD
TZOFFSETFROM:+0300
TZOFFSETTO:+0200
TZNAME:EET
DTSTART:20221030T010000
END:STANDARD
END:VTIMEZONE
BEGIN:VEVENT
DTSTART;VALUE=DATE:20210406
DTEND;VALUE=DATE:20210407
DTSTAMP:20260420T235259
CREATED:20210324T115500Z
LAST-MODIFIED:20210324T115500Z
UID:16439-1617667200-1617753599@healthcapitalhelsinki.fi
SUMMARY:Interested in creating new medical technology? Apply for Biodesign Innovation Online Course
DESCRIPTION:Biodesign Innovation Online Course (3 ECTS) in May 2021 is your opportunity to learn how need-driven innovation and commercialization of medical technology (medtech) works. During the course\, together with your interdisciplinary team\, you will create a concept and a business case for your own medical technology. Your solution addresses a real and validated need in healthcare\, based on direct observations of problems. By the end of the course\, you will pitch your concept and medtech business case to real investors in a “shark tank”. \nRead on eligibility for the course and apply by 6 April!
URL:https://healthcapitalhelsinki.fi/event/interested-in-creating-new-medical-technology-apply-for-biodesign-innovation-online-course/
CATEGORIES:Opportunities
ATTACH;FMTTYPE=image/png:https://healthcapitalhelsinki.fi/wp-content/uploads/2021/03/Biodesign-Innovation-Online-Course.png
END:VEVENT
BEGIN:VEVENT
DTSTART;TZID=Europe/Helsinki:20210406T080000
DTEND;TZID=Europe/Helsinki:20210406T100000
DTSTAMP:20260420T235259
CREATED:20210302T144005Z
LAST-MODIFIED:20210302T144005Z
UID:15618-1617696000-1617703200@healthcapitalhelsinki.fi
SUMMARY:Health Tuesday: Future of clinical trials
DESCRIPTION:Organiser: Business Finland \nHow to bring new innovative medicines faster for the patients? \nOne thing is to increase the speed of clinical trials through utilization of digital technologies and platforms together with data science\, AI\, virtual trials and new study designs. Can we improve the health outcomes and reduce the burden on patients\, health care providers and overall costs by digitalizing clinical trials? Come and discuss how Finland can play a key role in this transformation because of high-quality health data sources\, openness for data sharing\, AI as a national priority and innovative mindset towards smarter solutions.
URL:https://healthcapitalhelsinki.fi/event/health-tuesday-future-of-clinical-trials/
CATEGORIES:Events
ATTACH;FMTTYPE=image/png:https://healthcapitalhelsinki.fi/wp-content/uploads/2021/02/BF.png
END:VEVENT
BEGIN:VEVENT
DTSTART;VALUE=DATE:20210408
DTEND;VALUE=DATE:20210409
DTSTAMP:20260420T235259
CREATED:20210224T132135Z
LAST-MODIFIED:20210224T132135Z
UID:15346-1617840000-1617926399@healthcapitalhelsinki.fi
SUMMARY:Tahko Ski Lift Pitch
DESCRIPTION:Organiser: Kuopio Region Finncham \nEastern Finland’s biggest startup-event Tahko Ski Lift Pitch is the place to be for investors\, startups as well as growth companies in different business stages. Depending on your interests you can either apply for the pitching competition\, or if pitching is not your thing\, join in as a viewer!
URL:https://healthcapitalhelsinki.fi/event/tahko-ski-lift-pitch/
CATEGORIES:Events
ATTACH;FMTTYPE=image/jpeg:https://healthcapitalhelsinki.fi/wp-content/uploads/2021/02/TAHKO.jpg
END:VEVENT
BEGIN:VEVENT
DTSTART;VALUE=DATE:20210408
DTEND;VALUE=DATE:20210409
DTSTAMP:20260420T235259
CREATED:20210301T122303Z
LAST-MODIFIED:20210301T122303Z
UID:15563-1617840000-1617926399@healthcapitalhelsinki.fi
SUMMARY:Terveysteknologian käytettävyys -valmennus (in Finnish)
DESCRIPTION:Järjestäjä: USBIMED\nMaksullinen valmennus \nKäytännönläheinen valmennuskokonaisuus lääkinnällisten laitteiden (mukaan lukien ohjelmistot) käytettävyyssuunnittelusta regulaatiomausteella. Tavoitteena on auttaa tuoteyritystä\, tutkimushanketta tai valmistajan roolissa toimivaa terveydenhuollon ykskköä turvallisuuskriittisten laitteiden ja ohjelmistojen käyttöliittymä- ja käytettävyyssuunnittelun viranomaisvaatimusten ja erityispiirteiden tunnistamisessa sekä käytännön toteutuksessa. Valmennuspäivät: 8.4.\, 22.4. ja 6.5.
URL:https://healthcapitalhelsinki.fi/event/terveysteknologian-kaytettavyys-valmennus-in-finnish/
CATEGORIES:Events
ATTACH;FMTTYPE=image/png:https://healthcapitalhelsinki.fi/wp-content/uploads/2021/02/USBIMED.png
END:VEVENT
BEGIN:VEVENT
DTSTART;VALUE=DATE:20210409
DTEND;VALUE=DATE:20210410
DTSTAMP:20260420T235259
CREATED:20210224T134624Z
LAST-MODIFIED:20210224T134624Z
UID:15376-1617926400-1618012799@healthcapitalhelsinki.fi
SUMMARY:The Fair Health Data Challenge
DESCRIPTION:Does your organisation have a health and well-being solution based on data sharing and fair principles? \nWith The Fair Health Data Challenge\, The Finnish Innovation Fund Sitra is looking for examples from all over Europe to show the way to adopting shared rules for a fair data economy. The aim is to identify existing or soon-to-be-published health and well-being solutions that are based on data sharing and fair principles. Human-centricity is seen as an advantage in the solution. \nThe prize is the benefit of the expertise of an international jury with which the 10 most promising solutions will be developed to become even better. There will also be international visibility on offer. \nYou can register for the challenge until 9 April 2021.
URL:https://healthcapitalhelsinki.fi/event/the-fair-health-data-challenge/
CATEGORIES:Opportunities
ATTACH;FMTTYPE=image/jpeg:https://healthcapitalhelsinki.fi/wp-content/uploads/2021/02/SITRA.jpg
END:VEVENT
BEGIN:VEVENT
DTSTART;TZID=Europe/Helsinki:20210413T100000
DTEND;TZID=Europe/Helsinki:20210413T113000
DTSTAMP:20260420T235259
CREATED:20210312T095003Z
LAST-MODIFIED:20210312T095003Z
UID:16194-1618308000-1618313400@healthcapitalhelsinki.fi
SUMMARY:Health Talks: Business Finland services
DESCRIPTION:Organiser: Terkko Health Hub\, Aalto University\, Health Design\, Kuopio Health\, OuluHealth ecosystem\, and Upgraded \nCome hear what Business Finland can offer your organization and meet the experts in a virtual Q&A! \nBusiness Finland is the Finnish innovation funding\, trade\, investment\, and travel promotion organization. Business Finland is fully owned by the Finnish Government and employs 600 experts in 40 offices globally and in 20 regional offices around Finland. \n 
URL:https://healthcapitalhelsinki.fi/event/health-talks-startup-roundtable-how-to-raise-funding-copy/
CATEGORIES:Events
ATTACH;FMTTYPE=image/png:https://healthcapitalhelsinki.fi/wp-content/uploads/2021/03/Screenshot-2021-03-12-at-9.50.42.png
END:VEVENT
BEGIN:VEVENT
DTSTART;VALUE=DATE:20210414
DTEND;VALUE=DATE:20210415
DTSTAMP:20260420T235259
CREATED:20210224T111904Z
LAST-MODIFIED:20210224T111904Z
UID:15257-1618358400-1618444799@healthcapitalhelsinki.fi
SUMMARY:Nordea Investor Speed Dating
DESCRIPTION:Startups/scaleups\, check out Nordea Investor Speed Dating events and apply asap: \n14/4 Startups looking for funding (seed funding) \n5/5 Scaleups looking for funding (A-round and beyond)
URL:https://healthcapitalhelsinki.fi/event/nordea-investor-speed-dating/
CATEGORIES:Opportunities
ATTACH;FMTTYPE=image/png:https://healthcapitalhelsinki.fi/wp-content/uploads/2021/02/Screenshot-2021-02-19-at-14.39.09.png
END:VEVENT
BEGIN:VEVENT
DTSTART;VALUE=DATE:20210415
DTEND;VALUE=DATE:20210416
DTSTAMP:20260420T235259
CREATED:20210311T132426Z
LAST-MODIFIED:20210311T132426Z
UID:16147-1618444800-1618531199@healthcapitalhelsinki.fi
SUMMARY:Opportunity for mentoring for female-led health startups
DESCRIPTION:Calling female-led health startups! \nGlobal-EU Women Entrepreneurs & Innovators in Health Sector event connects startups with top mentors. It\’s a unique opportunity for global-EU women-led startups to participate in personal high-level mentoring sessions\, and an inspiring opening event for everyone interested in the topic of female entrepreneurship. \nSign up by 19 April for\n• An online event on the latest news on supporting global-EU Female entrepreneurship\, Finnish Health Tech female ecosystem and high-level mentoring: 27 April at 12-13.30 CET (14-15.30 Helsinki time). Register here. \nApply by 15 April for\n• One to one high-level mentoring session for global-EU female startups in health: 28 & 29 April. Limited places for 100 best candidates from around the world. Apply here. 
URL:https://healthcapitalhelsinki.fi/event/global-eu-women-entrepreneurs-innovators-in-health-sector-copy/
CATEGORIES:Opportunities
ATTACH;FMTTYPE=image/jpeg:https://healthcapitalhelsinki.fi/wp-content/uploads/2021/03/Global-StartupCities-event.jpg
END:VEVENT
BEGIN:VEVENT
DTSTART;TZID=Europe/Helsinki:20210415T150000
DTEND;TZID=Europe/Helsinki:20210415T154500
DTSTAMP:20260420T235259
CREATED:20210413T145251Z
LAST-MODIFIED:20210413T145251Z
UID:16628-1618498800-1618501500@healthcapitalhelsinki.fi
SUMMARY:EU funding for Health technologies
DESCRIPTION:Organiser: Spinverse \nAre you interested in the possibilities of Horizon Europe for healthcare funding? If your answer is yes\, join this webinar to learn about the growth opportunities for innovative health tech companies! In the 45-minute webinar\, Spinverse funding experts tell you about the opportunities of EU funding for health tech. You will also hear how Finnish health tech company Evondos Oy has boosted their growth with public funding.
URL:https://healthcapitalhelsinki.fi/event/eu-funding-for-health-technologies/
CATEGORIES:Events
ATTACH;FMTTYPE=image/png:https://healthcapitalhelsinki.fi/wp-content/uploads/2021/04/Screenshot-2021-04-13-at-14.51.38.png
END:VEVENT
BEGIN:VEVENT
DTSTART;VALUE=DATE:20210420
DTEND;VALUE=DATE:20210424
DTSTAMP:20260420T235259
CREATED:20210224T132423Z
LAST-MODIFIED:20210224T132423Z
UID:15350-1618876800-1619222399@healthcapitalhelsinki.fi
SUMMARY:NLSDays Digital 2021
DESCRIPTION:Organiser: SwedenBIO\nParticipation: Fee \nNordic Life Science Days is the largest Nordic partnering conference dedicated to the life science industry. The event offers excellent opportunities for digital face-to-face meetings\, and for presenting your company to investors and potential partners. The partnering platform is open and waiting for you to start sending meeting requests. \nThe virtual format enables the delivery of 2 days of live and on-demand educational content (20-21 April) as well as 4 days of partnering (20-23 April). \nHealth Capital Helsinki has the opportunity to offer a discount code for for attending NLSDays 2021. Interested? Contact: kaisu.sutinen@healthcapitalhelsinki.fi.
URL:https://healthcapitalhelsinki.fi/event/nlsdays-digital-2021/
CATEGORIES:Events
ATTACH;FMTTYPE=image/png:https://healthcapitalhelsinki.fi/wp-content/uploads/2021/02/logovenue_Landscape_Yellow_2021_digital.png
END:VEVENT
BEGIN:VEVENT
DTSTART;TZID=Europe/Helsinki:20210422T080000
DTEND;TZID=Europe/Helsinki:20210422T094500
DTSTAMP:20260420T235259
CREATED:20210224T124716Z
LAST-MODIFIED:20210224T124716Z
UID:15291-1619078400-1619084700@healthcapitalhelsinki.fi
SUMMARY:Miksi huipputeknologian ja digitalisaation innovaatioita pitää saada käyttöön ja miten se tehdään? (in Finnish)
DESCRIPTION:Järjestäjä: Health Capital Helsinki\, Helsinki Business Hub ja Sailab ‒ MedTech Finland ry \nHealth Capital Helsinki\, Helsinki Business Hub ja Sailab ‒ MedTech Finland ry yhdistävät voimansa avatakseen keskustelun terveysalan innovaatioista\, T&K-toiminnasta ja investoinneista. Me suomalaiset ja terveydenhuoltojärjestelmämme tarvitsemme uutta ajattelua. \nYhteistyössä järjestettävän seminaarisarjan kolmas osa\, Miksi huipputeknologian ja digitalisaation innovaatioita pitää saada käyttöön ja miten se tehdään?\, järjestetään torstaina 22.4.2021. \nKatso ohjelma tapahtumasivulta ja ilmoittaudu mukaan!
URL:https://healthcapitalhelsinki.fi/event/huipputeknologian-ja-digitalisaation-innovaatiot-kayttoon/
CATEGORIES:Events
ATTACH;FMTTYPE=image/jpeg:https://healthcapitalhelsinki.fi/wp-content/uploads/2021/02/Sailab-seminar-photo.jpg
END:VEVENT
BEGIN:VEVENT
DTSTART;TZID=Europe/Helsinki:20210422T100000
DTEND;TZID=Europe/Helsinki:20210422T120000
DTSTAMP:20260420T235259
CREATED:20210326T101812Z
LAST-MODIFIED:20210326T101812Z
UID:16449-1619085600-1619092800@healthcapitalhelsinki.fi
SUMMARY:Health DigiBooster: Smart hospitals seminar
DESCRIPTION:Organiser: OuluHealth with partners \nWould you like to know what a future hospital will look like and what technologies will be deployed to improve patient experience and the quality of care? Future healthcare is often defined as affordable\, personalized\, flexible and personalized. Will a future hospital meet these requirements? \nHealth DigiBooster aims at bringing the vision of a futuristic smart hospital a step closer. This event offers an opportunity to talk to healthcare professionals working in smart hospitals in the Netherlands and in Finland. Join the discussion\, ask your questions and learn about the most important practices that make a smart hospital.
URL:https://healthcapitalhelsinki.fi/event/health-digibooster-smart-hospitals-seminar/
CATEGORIES:Events
ATTACH;FMTTYPE=image/png:https://healthcapitalhelsinki.fi/wp-content/uploads/2021/03/Screenshot-2021-03-26-at-10.17.15.png
END:VEVENT
BEGIN:VEVENT
DTSTART;TZID=Europe/Helsinki:20210422T170000
DTEND;TZID=Europe/Helsinki:20210422T180000
DTSTAMP:20260420T235259
CREATED:20210330T124619Z
LAST-MODIFIED:20210330T124619Z
UID:16547-1619110800-1619114400@healthcapitalhelsinki.fi
SUMMARY:U.S. Reimbursement - Understanding Key Concepts to Maximize Business Succes
DESCRIPTION:Organiser: MedTechBridge \nUntil recently\, medical device companies were primarily focused on designing and earning regulatory clearance for their new technologies. While innovative design and FDA approval are important for market entry\, reimbursement is now a top concern for medical device executives\, their investors and other healthcare stakeholders. This presentation by Tom Hughes (Sr. Principal Advisor at Covance Medical Device & Diagnostics) will describe the key elements for reimbursement success; advice for developing an effective reimbursement strategy; and information about the importance of demonstrating clinical and economic value for new medical technology entering the U.S. market.
URL:https://healthcapitalhelsinki.fi/event/u-s-reimbursement-understanding-key-concepts-to-maximize-business-succes/
CATEGORIES:Events
ATTACH;FMTTYPE=image/jpeg:https://healthcapitalhelsinki.fi/wp-content/uploads/2020/12/MedtechBridge-180x180-1.jpg
END:VEVENT
BEGIN:VEVENT
DTSTART;TZID=Europe/Helsinki:20210427T130000
DTEND;TZID=Europe/Helsinki:20210427T143000
DTSTAMP:20260420T235259
CREATED:20210311T132359Z
LAST-MODIFIED:20210311T132359Z
UID:16143-1619528400-1619533800@healthcapitalhelsinki.fi
SUMMARY:Global-EU Women Entrepreneurs & Innovators in Health Sector
DESCRIPTION:Organiser: Global StartupCities\, City of Vantaa Vantaa\, 6Aika \nGlobal-EU Women Entrepreneurs & Innovators in Health Sector event connects startups with top mentors. It\’s a unique opportunity for global-EU women-led startups to participate in personal high-level mentoring sessions\, and an inspiring opening event for everyone interested in the topic of female entrepreneurship. \nSign up by 19 April for\n• An online event on the latest news on supporting global-EU Female entrepreneurship\, Finnish Health Tech female ecosystem and high-level mentoring: 27 April at 12-13.30 CET (14-15.30 Helsinki time). Register here. \nApply by 15 April for\n• One to one high-level mentoring session for global-EU female startups in health: 28 & 29 April. Limited places for 100 best candidates from around the world. Apply here.
URL:https://healthcapitalhelsinki.fi/event/global-eu-women-entrepreneurs-innovators-in-health-sector/
CATEGORIES:Events
ATTACH;FMTTYPE=image/jpeg:https://healthcapitalhelsinki.fi/wp-content/uploads/2021/03/Global-StartupCities-event.jpg
END:VEVENT
BEGIN:VEVENT
DTSTART;TZID=Europe/Helsinki:20210428T110000
DTEND;TZID=Europe/Helsinki:20210428T130000
DTSTAMP:20260420T235259
CREATED:20210323T151848Z
LAST-MODIFIED:20210323T151848Z
UID:16434-1619607600-1619614800@healthcapitalhelsinki.fi
SUMMARY:Finland x Malta – Fintech & Healthtech Opportunities
DESCRIPTION:Organiser: Helsinki Business Hub \nWhat does Malta have to offer for Finnish Fintech and Health companies? And why should investors from Malta take a closer look into Finland? \nIn this relaxed online event\, you’ll have an opportunity to have a quick dive into these two exciting ecosystems. We’ll be sharing valuable insights and presenting some of the most advanced companies from Finland. \nBeside fascinating presentations\, you have a chance to network and create relationships in a 1-to-1 networking session.
URL:https://healthcapitalhelsinki.fi/event/finland-x-malta-fintech-healthtech-opportunities/
CATEGORIES:Events
ATTACH;FMTTYPE=image/png:https://healthcapitalhelsinki.fi/wp-content/uploads/2021/03/Screenshot-2021-03-23-at-15.16.18.png
END:VEVENT
BEGIN:VEVENT
DTSTART;TZID=Europe/Helsinki:20210428T180000
DTEND;TZID=Europe/Helsinki:20210428T190000
DTSTAMP:20260420T235259
CREATED:20210326T112537Z
LAST-MODIFIED:20210326T112537Z
UID:16459-1619632800-1619636400@healthcapitalhelsinki.fi
SUMMARY:HCH Health TV: Cutting edge cancer research builds on the best data in the world
DESCRIPTION:Organisers: Health Capital Helsinki and iCAN \nHealth TV presents the innovative cancer research platform iCAN\, bringing you the next generation of precision cancer medicine. In the event you will learn: \n\nHow this new public-private flagship project connects the best longitudinal patient data and tumor molecular profiling in cancer research.\nHow you can benefit from iCAN competence cluster using the most advanced health datalake in the world.\nHow Finland has globally unique assets for combining precision cancer medicine and digital health. 
URL:https://healthcapitalhelsinki.fi/event/hch-health-tv-cutting-edge-cancer-research-builds-on-the-best-data-in-the-world/
CATEGORIES:Events
ATTACH;FMTTYPE=image/png:https://healthcapitalhelsinki.fi/wp-content/uploads/2021/03/Twitter_1024_512_28042021.png
END:VEVENT
END:VCALENDAR