BEGIN:VCALENDAR
VERSION:2.0
PRODID:-//Health Capital Helsinki - ECPv6.15.20//NONSGML v1.0//EN
CALSCALE:GREGORIAN
METHOD:PUBLISH
X-ORIGINAL-URL:https://healthcapitalhelsinki.fi
X-WR-CALDESC:Events for Health Capital Helsinki
REFRESH-INTERVAL;VALUE=DURATION:PT1H
X-Robots-Tag:noindex
X-PUBLISHED-TTL:PT1H
BEGIN:VTIMEZONE
TZID:Europe/Helsinki
BEGIN:DAYLIGHT
TZOFFSETFROM:+0200
TZOFFSETTO:+0300
TZNAME:EEST
DTSTART:20230326T010000
END:DAYLIGHT
BEGIN:STANDARD
TZOFFSETFROM:+0300
TZOFFSETTO:+0200
TZNAME:EET
DTSTART:20231029T010000
END:STANDARD
BEGIN:DAYLIGHT
TZOFFSETFROM:+0200
TZOFFSETTO:+0300
TZNAME:EEST
DTSTART:20240331T010000
END:DAYLIGHT
BEGIN:STANDARD
TZOFFSETFROM:+0300
TZOFFSETTO:+0200
TZNAME:EET
DTSTART:20241027T010000
END:STANDARD
BEGIN:DAYLIGHT
TZOFFSETFROM:+0200
TZOFFSETTO:+0300
TZNAME:EEST
DTSTART:20250330T010000
END:DAYLIGHT
BEGIN:STANDARD
TZOFFSETFROM:+0300
TZOFFSETTO:+0200
TZNAME:EET
DTSTART:20251026T010000
END:STANDARD
END:VTIMEZONE
BEGIN:VEVENT
DTSTART;VALUE=DATE:20240307
DTEND;VALUE=DATE:20240308
DTSTAMP:20260420T042531
CREATED:20231219T110719Z
LAST-MODIFIED:20231219T110719Z
UID:22891-1709769600-1709855999@healthcapitalhelsinki.fi
SUMMARY:Swiss Nordic Bio 2024
DESCRIPTION:Swiss Nordic Bio is a high-level partnering and investor conference aimed at connecting healthcare innovations\, investor and industry. \n\nThe conference is the number one platform that gathers life science professionals from Switzerland and the Nordic countries under one roof.\nThe conference is organised by the Nordic countries in cooperation with Swiss partners.\n\nRead more and register by 28 February\, OR go one step further: pitch your company’s innovation\, plans and objectives to the Swiss Nordic Bio audience. \n 
URL:https://healthcapitalhelsinki.fi/event/swiss-nordic-bio-2024/
CATEGORIES:Events
END:VEVENT
BEGIN:VEVENT
DTSTART;VALUE=DATE:20240318
DTEND;VALUE=DATE:20240321
DTSTAMP:20260420T042531
CREATED:20240226T115134Z
LAST-MODIFIED:20240226T115134Z
UID:23080-1710720000-1710979199@healthcapitalhelsinki.fi
SUMMARY:BIO-Europe Spring 2024
DESCRIPTION:Interested in engaging with over 3\,700 life science partners from around the world? Join BIO-Europe Spring\, taking place in Barcelona\, Spain\, to: \n\nShowcase your innovation to an audience of top-tier investors\, biopharma execs and potential partners\nMeet one-to-one with business leaders from more than 2\,000 unique companies\nFollow the Startup Spotlight pitching competition\n\n…and much more! \n  \n 
URL:https://healthcapitalhelsinki.fi/event/bio-europe-spring-2024/
CATEGORIES:Events
ATTACH;FMTTYPE=image/jpeg:https://healthcapitalhelsinki.fi/wp-content/uploads/2024/02/Bio-Europe-Spring-2024.jpg
END:VEVENT
BEGIN:VEVENT
DTSTART;TZID=Europe/Helsinki:20240326T100000
DTEND;TZID=Europe/Helsinki:20240326T110000
DTSTAMP:20260420T042531
CREATED:20240320T101057Z
LAST-MODIFIED:20240320T101057Z
UID:23158-1711447200-1711450800@healthcapitalhelsinki.fi
SUMMARY:Health Talks: Due Diligence for Medical Devices
DESCRIPTION:How to navigate the medical device industry\, known for its complex regulatory requirements? What role does due diligence play in investors\’ financing decisions? Join the next Health Talks webinar\, organised by OuluHealth and MSD Finland\, to learn about the methods and critical topics essential for assessing a medical device company\’s market readiness. \nYou can register for the event here.
URL:https://healthcapitalhelsinki.fi/event/due-diligence-for-medical-devices/
CATEGORIES:Events
ATTACH;FMTTYPE=image/jpeg:https://healthcapitalhelsinki.fi/wp-content/uploads/2024/03/Health-Talks-Due-Diligence-.jpeg
END:VEVENT
BEGIN:VEVENT
DTSTART;TZID=Europe/Helsinki:20240327T093000
DTEND;TZID=Europe/Helsinki:20240327T163000
DTSTAMP:20260420T042531
CREATED:20240105T095050Z
LAST-MODIFIED:20240105T095050Z
UID:22927-1711531800-1711557000@healthcapitalhelsinki.fi
SUMMARY:AI x PHARMA x HEALTH 2024
DESCRIPTION:Welcome to learn about artificial intelligence and its transformative impact on the pharmaceutical industry and healthcare at AI x PHARMA x HEALTH 2024! \nRegister for the hybrid event to: \n\nGain valuable knowledge from industry experts at the forefront of AI\, pharma and healthcare integration.\nConnect and exchange ideas in AI & RWE with industry experts\, colleagues and fellow participants in pharmaceutical industry and healthcare! 
URL:https://healthcapitalhelsinki.fi/event/ai-x-pharma-x-health-2024/
CATEGORIES:Events
ATTACH;FMTTYPE=image/jpeg:https://healthcapitalhelsinki.fi/wp-content/uploads/2024/01/AI-x-PHARMA-x-HEALTH-Pharmaca.jpg
END:VEVENT
BEGIN:VEVENT
DTSTART;VALUE=DATE:20240409
DTEND;VALUE=DATE:20240412
DTSTAMP:20260420T042531
CREATED:20240209T103907Z
LAST-MODIFIED:20240209T103907Z
UID:23024-1712620800-1712879999@healthcapitalhelsinki.fi
SUMMARY:DMEA 2024
DESCRIPTION:Welcome to Europe\’s leading digital healthcare fair DMEA! For three days\, everything revolves around healthcare digitalisation at the Berlin Exhibition Center. The fair provides a comprehensive view of the latest technologies in the field – and offers a unique opportunity to showcase Finland\’s leading technologies and connect with healthcare professionals from 40+ different countries! \nRead more and get your tickets here. \n 
URL:https://healthcapitalhelsinki.fi/event/dmea-2024/
CATEGORIES:Events
ATTACH;FMTTYPE=image/png:https://healthcapitalhelsinki.fi/wp-content/uploads/2024/02/dmea_png.png
END:VEVENT
BEGIN:VEVENT
DTSTART;TZID=Europe/Helsinki:20240409T080000
DTEND;TZID=Europe/Helsinki:20240409T091500
DTSTAMP:20260420T042531
CREATED:20240328T100054Z
LAST-MODIFIED:20240328T100054Z
UID:23163-1712649600-1712654100@healthcapitalhelsinki.fi
SUMMARY:Health Tuesday: Generative AI in Healthcare
DESCRIPTION:Generative AI is reshaping medical innovation\, offering cutting-edge solutions to enhance patient care and optimise healthcare operations. Register for the next Health Tuesday webinar for an insightful session that illuminates how Generative AI is being or could be integrated into healthcare!
URL:https://healthcapitalhelsinki.fi/event/health-tuesday-generative-ai-in-healthcare/
CATEGORIES:Events
ATTACH;FMTTYPE=image/jpeg:https://healthcapitalhelsinki.fi/wp-content/uploads/2024/03/shutterstock_637650853_edit__600x250.jpg
END:VEVENT
BEGIN:VEVENT
DTSTART;TZID=Europe/Helsinki:20240409T080000
DTEND;TZID=Europe/Helsinki:20240409T161500
DTSTAMP:20260420T042531
CREATED:20240319T094813Z
LAST-MODIFIED:20240319T094813Z
UID:23151-1712649600-1712679300@healthcapitalhelsinki.fi
SUMMARY:Valtakunnallinen terveydenhuollon hankintaforum
DESCRIPTION:Millainen on onnistunut julkinen hankinta? Mitä ajankohtaisia muutoksia lääkinnällisten laitteiden sääntelyssä on tapahtunut? Entä miltä Suomi näyttää sote-uudistuksen jälkeen?  \nOsallistu hankintakeskusteluun Sailab – MedTech Finland ry:n järjestämässä terveydenhuollon valtakunnallisessa hankintaseminaarissa! Tapahtuma on tarkoitettu terveysteknologiayrityksille\, hankintojen ammattilaisille ja muille aiheesta kiinnostuneille. Voit ilmoittautua mukaan täällä.
URL:https://healthcapitalhelsinki.fi/event/valtakunnallinen-terveydenhuollon-hankintaforum/
CATEGORIES:Events
ATTACH;FMTTYPE=image/jpeg:https://healthcapitalhelsinki.fi/wp-content/uploads/2024/03/Nayttokuva-2024-04-05-kello-10.04.09-1.jpg
END:VEVENT
BEGIN:VEVENT
DTSTART;VALUE=DATE:20240418
DTEND;VALUE=DATE:20240420
DTSTAMP:20260420T042531
CREATED:20230821T101917Z
LAST-MODIFIED:20230821T101917Z
UID:22192-1713398400-1713571199@healthcapitalhelsinki.fi
SUMMARY:EIT Health Summit
DESCRIPTION:On 18 and 19 April 2024\, members of Europe’s leading healthcare innovation community will commit to driving change and enabling solutions to the greatest healthcare challenges. This is your chance to take part in Europe\’s healthcare innovation. \nSave the dates!
URL:https://healthcapitalhelsinki.fi/event/eit-health-summit/
CATEGORIES:Events
ATTACH;FMTTYPE=image/jpeg:https://healthcapitalhelsinki.fi/wp-content/uploads/2021/02/eit-health.jpg
END:VEVENT
BEGIN:VEVENT
DTSTART;TZID=Europe/Helsinki:20240418T160000
DTEND;TZID=Europe/Helsinki:20240418T180000
DTSTAMP:20260420T042531
CREATED:20240401T102850Z
LAST-MODIFIED:20240401T102850Z
UID:23171-1713456000-1713463200@healthcapitalhelsinki.fi
SUMMARY:Puhujatilaisuus: Vuorovaikutustaidot terveydenhuoltoalalla
DESCRIPTION:Haluaisitko oppia lisää ihmisten kohtaamisesta ja erilaisten vuorovaikutustilanteiden hallinnasta terveydenhuoltoalalla? Helsinki Think Companyn järjestämässä maksuttomassa tilaisuudessa pääset syventymään aiheeseen kokeneiden ammattilaisten kanssa ja nappaamaan mukaan tärkeitä eväitä\, joita voit hyödyntää työsi lisäksi myös muilla elämäsi osa-alueilla.  \nTilaisuus on avoin kaikille – olit sitten lääketieteen tai hammaslääketieteen opiskelija\, sairaanhoitajaopiskelija\, logopedi\, psykologian opiskelija\, valmistunut tai muuten aiheesta kiinnostunut. Pääset ilmoittautumaan mukaan täällä.
URL:https://healthcapitalhelsinki.fi/event/puhujatilaisuus-vuorovaikutustaidot-terveydenhuoltoalalla/
CATEGORIES:Events
ATTACH;FMTTYPE=image/jpeg:https://healthcapitalhelsinki.fi/wp-content/uploads/2024/04/Nayttokuva-2024-04-01-kello-10.27.10.jpg
END:VEVENT
BEGIN:VEVENT
DTSTART;TZID=Europe/Helsinki:20240424T160000
DTEND;TZID=Europe/Helsinki:20240424T173000
DTSTAMP:20260420T042531
CREATED:20240408T093521Z
LAST-MODIFIED:20240408T093521Z
UID:23194-1713974400-1713979800@healthcapitalhelsinki.fi
SUMMARY:Health Founders: Reverse Pitch Match
DESCRIPTION:Health Founders invites you to the very first Reverse Pitch Match event: Hear it from Investors from health and life sciences space!  \nDive into this exclusive online event to: \n\nHear pitches from top health tech and life sciences venture capital funds and angel investor groups\nPose your burning questions to investors during the Q&A session\nCatapult your startup\’s ventures to the next level\n\nSecure your free spot here.
URL:https://healthcapitalhelsinki.fi/event/health-founders-reverse-pitch-match/
CATEGORIES:Events
ATTACH;FMTTYPE=image/jpeg:https://healthcapitalhelsinki.fi/wp-content/uploads/2024/04/Health-Founders-Reverse-Pitch-Match.jpeg
END:VEVENT
BEGIN:VEVENT
DTSTART;TZID=Europe/Helsinki:20240425T140000
DTEND;TZID=Europe/Helsinki:20240425T160000
DTSTAMP:20260420T042531
CREATED:20240416T123614Z
LAST-MODIFIED:20240416T123614Z
UID:23222-1714053600-1714060800@healthcapitalhelsinki.fi
SUMMARY:Cheese\'n\'Wine Innovation Talks: The journey from research to business
DESCRIPTION:Cheese\’n\’Wine Innovation Talks is an open series of events\, where short speeches will be heard from innovative researchers\, students\, companies\, and innovation funding bodies. This edition of Cheese \’n\’ Wine\, taking place at Meilahti campus\, is focused on the journey from research to business. \nCheck out the event agenda and secure your spot by 22 April! \n 
URL:https://healthcapitalhelsinki.fi/event/cheesenwine-innovation-talks-the-journey-from-research-to-business/
CATEGORIES:Events
ATTACH;FMTTYPE=image/jpeg:https://healthcapitalhelsinki.fi/wp-content/uploads/2024/04/1713259292381.jpeg
END:VEVENT
BEGIN:VEVENT
DTSTART;TZID=Europe/Helsinki:20240507T133000
DTEND;TZID=Europe/Helsinki:20240507T173000
DTSTAMP:20260420T042531
CREATED:20240411T140625Z
LAST-MODIFIED:20240411T140625Z
UID:23199-1715088600-1715103000@healthcapitalhelsinki.fi
SUMMARY:Workshop: Give your input to Business Finland’s Upcoming Health 360 program
DESCRIPTION:Business Finland is preparing a new health sector program \”Health 360\” to promote systemic digital transformation in the health and wellbeing sector. Welcome to the workshop to share your views and influence the content of the upcoming program!
URL:https://healthcapitalhelsinki.fi/event/workshop-give-your-input-to-business-finlands-upcoming-health-360-program/
CATEGORIES:Events
END:VEVENT
BEGIN:VEVENT
DTSTART;TZID=Europe/Helsinki:20240521T140000
DTEND;TZID=Europe/Helsinki:20240521T173000
DTSTAMP:20260420T042531
CREATED:20240319T092143Z
LAST-MODIFIED:20240319T092143Z
UID:23148-1716300000-1716312600@healthcapitalhelsinki.fi
SUMMARY:Cybersecure Health Tech Forum
DESCRIPTION:What are the cybersecurity requirements in health tech\, and how can compliance be ensured? Join a free educational seminar targeted at health tech startups and growth companies to gain a better understanding and learn about needed countermeasures brought to you by top experts. \nCybersecure Health Tech Forum is part of a free training program offered by Health Capital Helsinki and Helsinki-Uusimaa Regional Council and produced by Vertical Innovation Consultancy as a Radical Health Festival 2024 partner event. \nPlease note that attending does not require a Radical Health Festival ticket\, but registration is necessary due to limited seating.
URL:https://healthcapitalhelsinki.fi/event/cybersecucure-health-tech-forum-2/
CATEGORIES:Events
ATTACH;FMTTYPE=image/png:https://healthcapitalhelsinki.fi/wp-content/uploads/2024/03/Image-2.png
END:VEVENT
BEGIN:VEVENT
DTSTART;VALUE=DATE:20240522
DTEND;VALUE=DATE:20240524
DTSTAMP:20260420T042531
CREATED:20230109T145029Z
LAST-MODIFIED:20230109T145029Z
UID:21017-1716336000-1716508799@healthcapitalhelsinki.fi
SUMMARY:Radical Health Festival Helsinki 2024
DESCRIPTION:After a successful launch in 2023\, Radical Health Festival Helsinki returns in 2024 with the theme \”Deploying Precision and Prevention at Scale\”! \nRadical Health Festival Helsinki is a pan-European and truly cooperative conference bringing together the digital health community and increasing cooperation between companies\, researchers\, and the entire health sector. Whether you’re working in healthcare\, technology\, policy-making\, or you’re simply passionate about improving health for all\, this event is for you! \nThis year\, the Radical Health Festival will feature 185+ renowned speakers from the digital health sector. Check the continuously updated list of speakers here. \nTake a glance at the detailed programme – and get your tickets here!
URL:https://healthcapitalhelsinki.fi/event/radical-health-festival-helsinki/
CATEGORIES:Events
ATTACH;FMTTYPE=image/jpeg:https://healthcapitalhelsinki.fi/wp-content/uploads/2023/01/Radical-Health-Festival-logo-600x90-copy.jpg
END:VEVENT
BEGIN:VEVENT
DTSTART;VALUE=DATE:20240522
DTEND;VALUE=DATE:20240525
DTSTAMP:20260420T042531
CREATED:20240119T095120Z
LAST-MODIFIED:20240119T095120Z
UID:22953-1716336000-1716595199@healthcapitalhelsinki.fi
SUMMARY:Latitude59
DESCRIPTION:Join the unicorns of the North at Latitude59 2024! The flagship startup and tech event will take place in Tallinn\, Estonia\, on 22–24 May.  \nFor startups\, Latitude59 is the place to be\, offering a plethora of networking opportunities\, visibility\, and in-depth discussions with the top international players and investors. \nInvestors will gain access to the most promising and fastest-growing startups in the region.
URL:https://healthcapitalhelsinki.fi/event/latitude59-2/
CATEGORIES:Events
ATTACH;FMTTYPE=image/jpeg:https://healthcapitalhelsinki.fi/wp-content/uploads/2024/01/Latitude59-2024-1.jpeg
END:VEVENT
BEGIN:VEVENT
DTSTART;TZID=Europe/Helsinki:20240522T083000
DTEND;TZID=Europe/Helsinki:20240522T120000
DTSTAMP:20260420T042531
CREATED:20240502T092410Z
LAST-MODIFIED:20240502T092410Z
UID:23248-1716366600-1716379200@healthcapitalhelsinki.fi
SUMMARY:Tekoälyn hyödyntäminen pk-yrityksessä
DESCRIPTION:Haluaisitko hyödyntää tekoälyä tehokkaammin yrityksesi arjessa? \nTekoälyn hyödyntäminen pk-yrityksissä -tapahtuma avaa uusia mahdollisuuksia liiketoimintasi kehittämiseen. Tapahtumassa on luvassa puheenvuoroja mm. Microsoftilta ja Googlelta sekä käyttäjäkokemuksia tekoälystä paneelikeskustelun muodossa. Pääset myös verkostoitumaan muiden yritysten kanssa\, kuulemaan FAIR-hankkeen palveluista ja tutustumaan Metropolian opetustiloihin. \nTapahtuma on osa Finnish AI Region (FAIR) -hanketta. Ilmoittaudu mukaan maksuttomaan tilaisuuteen täällä! \n 
URL:https://healthcapitalhelsinki.fi/event/tekoalyn-hyodyntaminen-pk-yrityksessa/
CATEGORIES:Events
ATTACH;FMTTYPE=image/jpeg:https://healthcapitalhelsinki.fi/wp-content/uploads/2024/05/Nayttokuva-2024-05-02-kello-8.52.54.jpg
END:VEVENT
BEGIN:VEVENT
DTSTART;TZID=Europe/Helsinki:20240523T093000
DTEND;TZID=Europe/Helsinki:20240523T113000
DTSTAMP:20260420T042531
CREATED:20240521T094505Z
LAST-MODIFIED:20240521T094505Z
UID:23275-1716456600-1716463800@healthcapitalhelsinki.fi
SUMMARY:Webinar: AI for mental health
DESCRIPTION:Welcome to the forefront of intersection between AI and mental health\, a compelling online journey designed to explore the innovative ways in which AI is being integrated into mental health research\, diagnosis\, and treatment. Hosted by FCAI and Helsinki Brain & Mind\, this webinar brings together leading experts in applying AI for mental health and neuroscience\, to share their latest research findings and discuss the potential that these advancements hold for the future of mental health and wellbeing. \n  \n 
URL:https://healthcapitalhelsinki.fi/event/ai-for-mental-health/
CATEGORIES:Events
ATTACH;FMTTYPE=image/jpeg:https://healthcapitalhelsinki.fi/wp-content/uploads/2024/05/AI-for-mental-health.jpeg
END:VEVENT
BEGIN:VEVENT
DTSTART;TZID=Europe/Helsinki:20240529T160000
DTEND;TZID=Europe/Helsinki:20240529T170000
DTSTAMP:20260420T042531
CREATED:20240424T114454Z
LAST-MODIFIED:20240424T114454Z
UID:23238-1716998400-1717002000@healthcapitalhelsinki.fi
SUMMARY:Webinar: The National Institutes of Health as a Technology Development and Commercialization Partner in the US
DESCRIPTION:Join a webinar\, organised by Business Finland\, to get to know the National Institutes of Health (NIH)! The NIH is the world’s largest biomedical research institute and can offer valuable opportunities in ways you may not be aware of. In the webinar\, experts from the NIH will discuss the benefits of collaboration. \nRead more and register here.
URL:https://healthcapitalhelsinki.fi/event/webinar-the-national-institutes-of-health-as-a-technology-development-and-commercialization-partner-in-the-us/
CATEGORIES:Events
END:VEVENT
BEGIN:VEVENT
DTSTART;TZID=Europe/Helsinki:20240604T080000
DTEND;TZID=Europe/Helsinki:20240604T090000
DTSTAMP:20260420T042531
CREATED:20240527T103341Z
LAST-MODIFIED:20240527T103341Z
UID:23288-1717488000-1717491600@healthcapitalhelsinki.fi
SUMMARY:Health Tuesday: How leading Nordic hospitals work with innovation
DESCRIPTION:Join the next Business Finland’s Health Tuesday to explore how the top hospitals in the Nordics are transforming healthcare by improving health outcomes and patient experiences by embracing innovation. Whether you’re a healthcare professional\, an innovator\, or simply interested in the intersection of healthcare\, innovation and technology\, this webinar promises to be insightful!
URL:https://healthcapitalhelsinki.fi/event/health-tuesday-how-leading-nordic-hospitals-work-with-innovation/
CATEGORIES:Events
END:VEVENT
BEGIN:VEVENT
DTSTART;VALUE=DATE:20240605
DTEND;VALUE=DATE:20240607
DTSTAMP:20260420T042531
CREATED:20240314T142925Z
LAST-MODIFIED:20240314T142925Z
UID:23130-1717545600-1717718399@healthcapitalhelsinki.fi
SUMMARY:health.tech 2024
DESCRIPTION:Be part of the European movement shaping healthcare! The health.tech conference brings stakeholders from health tech innovators to pharma companies\, policymakers\, and investors under the same roof on 5–6 June in Munich\, Germany.
URL:https://healthcapitalhelsinki.fi/event/health-tech-2024/
CATEGORIES:Events
ATTACH;FMTTYPE=image/png:https://healthcapitalhelsinki.fi/wp-content/uploads/2024/03/65a579fabd01964fa656fdae_Health.tech_Keyvisual-2.png
END:VEVENT
BEGIN:VEVENT
DTSTART;VALUE=DATE:20240606
DTEND;VALUE=DATE:20240608
DTSTAMP:20260420T042531
CREATED:20240207T114633Z
LAST-MODIFIED:20240207T114633Z
UID:23016-1717632000-1717804799@healthcapitalhelsinki.fi
SUMMARY:Arctic15 Startup Conference
DESCRIPTION:Arctic15 is the most effective matchmaking startup event in Northern Europe. On 6–7 June\, the event brings together an international audience of startups\, investors\, corporates\, media\, and influencers\, with a key focus on facilitating deals and fostering quality networking.
URL:https://healthcapitalhelsinki.fi/event/arctic15-startup-conference-2/
CATEGORIES:Events
ATTACH;FMTTYPE=image/jpeg:https://healthcapitalhelsinki.fi/wp-content/uploads/2024/01/Nayttokuva-2024-2-7-kello-12.22.27.jpg
END:VEVENT
BEGIN:VEVENT
DTSTART;TZID=Europe/Helsinki:20240611T170000
DTEND;TZID=Europe/Helsinki:20240611T190000
DTSTAMP:20260420T042531
CREATED:20240610T102526Z
LAST-MODIFIED:20240610T102526Z
UID:23300-1718125200-1718132400@healthcapitalhelsinki.fi
SUMMARY:Keskustelutilaisuus: Terveysalan kansalliset osaamiskeskittymät
DESCRIPTION:Tervetuloa mukaan Sitran ja sosiaali- ja terveysministeriön järjestämään keskustelutilaisuuteen! Tapahtuma on osa keskustelusarjaa\, jossa teemana on tällä kertaa terveysalan kansalliset osaamiskeskittymät (Biopankkien osuuskunta Suomi – FINBB\, Neurokeskus\, Syöpäkeskus ja Lääkekehityskeskus Oy) ja tutkimusinfrastruktuurit. \nIlmoittaudu mukaan täällä.
URL:https://healthcapitalhelsinki.fi/event/keskustelutilaisuus-terveysalan-kansalliset-osaamiskeskittymat/
CATEGORIES:Events
ATTACH;FMTTYPE=image/jpeg:https://healthcapitalhelsinki.fi/wp-content/uploads/2024/06/Nayttokuva-2024-06-10-kello-9.57.07.jpg
END:VEVENT
BEGIN:VEVENT
DTSTART;VALUE=DATE:20240612
DTEND;VALUE=DATE:20240615
DTSTAMP:20260420T042531
CREATED:20240612T092354Z
LAST-MODIFIED:20240612T092354Z
UID:23308-1718150400-1718409599@healthcapitalhelsinki.fi
SUMMARY:The OECI Oncology Days
DESCRIPTION:The OECI Oncology Days serve as a dynamic forum for exchange\, creativity\, and collaboration – a space to present the OECI strategy and identify new key priorities. \nThe 46th Edition of the OECI Oncology Days will be hosted in Helsinki by the University Hospital Comprehensive Cancer Centre on 12–14 June. \nCheck the detailed programme and register here.
URL:https://healthcapitalhelsinki.fi/event/oeci-oncology-days/
CATEGORIES:Events
END:VEVENT
BEGIN:VEVENT
DTSTART;VALUE=DATE:20240617
DTEND;VALUE=DATE:20240621
DTSTAMP:20260420T042531
CREATED:20240311T093107Z
LAST-MODIFIED:20240311T093107Z
UID:23107-1718582400-1718927999@healthcapitalhelsinki.fi
SUMMARY:HLTH Europe 2024
DESCRIPTION:Focusing on health innovation and transformation\, HLTH Europe will unite the entire health ecosystem from government and providers to startups and investors in Amsterdam on 17–20 June. Join the event to showcase your products and services\, connect with the ecosystem and gain insights from healthcare leaders!
URL:https://healthcapitalhelsinki.fi/event/hlth-europe-2024/
CATEGORIES:Events
END:VEVENT
BEGIN:VEVENT
DTSTART;TZID=Europe/Helsinki:20240618T090000
DTEND;TZID=Europe/Helsinki:20240618T103000
DTSTAMP:20260420T042531
CREATED:20240603T165227Z
LAST-MODIFIED:20240603T165227Z
UID:23296-1718701200-1718706600@healthcapitalhelsinki.fi
SUMMARY:Health Talks: Addressing Unseen and Overlooked Health Challenges in Women’s Health
DESCRIPTION:This June\, Health Talks introduces Women’s Health Hub initiative in Turku which aims to highlight the unmet needs in women’s health\, foster collaboration among current stakeholders in the field and encourage new participants to join the conversation. \nYou can register for the event here.
URL:https://healthcapitalhelsinki.fi/event/addressing-unseen-and-overlooked-health-challenges-in-womens-health/
CATEGORIES:Events
ATTACH;FMTTYPE=image/jpeg:https://healthcapitalhelsinki.fi/wp-content/uploads/2024/06/Health-Talks-banner_Womens-Health-Hub-Turku.jpg
END:VEVENT
BEGIN:VEVENT
DTSTART;VALUE=DATE:20240822
DTEND;VALUE=DATE:20240824
DTSTAMP:20260420T042531
CREATED:20240412T105752Z
LAST-MODIFIED:20240412T105752Z
UID:23202-1724284800-1724457599@healthcapitalhelsinki.fi
SUMMARY:International Conference of Clinical Nursing Research 2024
DESCRIPTION:Join the 2nd International Conference of Clinical Nursing Research 2024\, demonstrating excellence in patient care! \nThe conference\, organised by HUS Helsinki University Hospital\, is targeted at nurse researchers\, leaders and managers\, experts and educators\, clinical nurses\, and all others interested in clinical nursing research and research-based development. \n  \n 
URL:https://healthcapitalhelsinki.fi/event/international-conference-of-clinical-nursing-research-2024/
CATEGORIES:Events
ATTACH;FMTTYPE=image/jpeg:https://healthcapitalhelsinki.fi/wp-content/uploads/2024/04/Nayttokuva-2024-04-12-kello-10.53.43.jpg
END:VEVENT
BEGIN:VEVENT
DTSTART;TZID=Europe/Helsinki:20240828T130000
DTEND;TZID=Europe/Helsinki:20240828T180000
DTSTAMP:20260420T042531
CREATED:20240527T104851Z
LAST-MODIFIED:20240527T104851Z
UID:23292-1724850000-1724868000@healthcapitalhelsinki.fi
SUMMARY:Healthtech Export Day 2024
DESCRIPTION:Business Finland\, Healthtech Finland\, and Sailab – Medtech Finland invite Finnish growth-minded health companies to join a day of knowledge sharing\, networking\, and collaboration\, focusing on international growth. \nDuring the event Finnish healthtech companies share their knowledge on: \n\nHow to get started with exports?\nHow to scale operations on existing markets?\nHow to find and manage partners and distributors?\nHow to get the first pilot and business case?\n\nRead more and register here.
URL:https://healthcapitalhelsinki.fi/event/healthtech-export-day-2024/
CATEGORIES:Events
END:VEVENT
BEGIN:VEVENT
DTSTART;VALUE=DATE:20240904
DTEND;VALUE=DATE:20240906
DTSTAMP:20260420T042531
CREATED:20240626T115408Z
LAST-MODIFIED:20240626T115408Z
UID:23338-1725408000-1725580799@healthcapitalhelsinki.fi
SUMMARY:HealthBIO 2024
DESCRIPTION:HealthBIO is Finland\’s largest annual life science event. Organised by Business Turku\, the event features a seminar day\, a get-together\, and a pitching competition. \nThis year\, confirmed speakers include: \n\nPekka Simula\, Innovestor Life Sciences Fund\nJoni Karsikas\, Finnish Industry Investment Tesi\nMaarit Merla\, Finnish Drug Discovery Center Ltd.\nTimo Lappalainen\, University of Turku\n\nRead more here. If you want to apply for the pitching competition\, please contact tero.piispanen@businessturku.fi by 9 August.
URL:https://healthcapitalhelsinki.fi/event/healthbio-2024/
CATEGORIES:Events
END:VEVENT
BEGIN:VEVENT
DTSTART;TZID=Europe/Helsinki:20240905T130000
DTEND;TZID=Europe/Helsinki:20240905T170000
DTSTAMP:20260420T042531
CREATED:20240624T104629Z
LAST-MODIFIED:20240624T104629Z
UID:23329-1725541200-1725555600@healthcapitalhelsinki.fi
SUMMARY:Cybersecure Health Tech Workshop
DESCRIPTION:As a follow-up to the well-received Cybersecure Health Tech Forum at the Radical Health Festival 2024\, Vertical\, Helsinki-Uusimaa Region\, and Health Capital Helsinki invite health tech startups to learn more about cybersecurity requirements\, regulations\, and standards\, and how to benefit from them in developing the startup’s business. The session is interactive\, supporting the sharing of learnings and experiences with peers and building connections. \nSign up for the event here.
URL:https://healthcapitalhelsinki.fi/event/cybersecure-health-tech-workshop/
CATEGORIES:Events
ATTACH;FMTTYPE=image/png:https://healthcapitalhelsinki.fi/wp-content/uploads/2024/06/Cybersecure-Health-Tech-Workshop.png
END:VEVENT
BEGIN:VEVENT
DTSTART;VALUE=DATE:20240916
DTEND;VALUE=DATE:20240921
DTSTAMP:20260420T042531
CREATED:20240828T172338Z
LAST-MODIFIED:20240828T172338Z
UID:23370-1726444800-1726876799@healthcapitalhelsinki.fi
SUMMARY:LSI Europe 2024
DESCRIPTION:Partner with the leaders building medtech in the LSI Europe 2024\, taking place in Sintra\, Portugal on 16–20 September!  \nIn 2023\, the event convened 750 executives from emerging companies\, venture capital and private equity firms\, family offices\, global strategics\, professional service providers\, and more.
URL:https://healthcapitalhelsinki.fi/event/lsi-europe-2024/
CATEGORIES:Events
END:VEVENT
END:VCALENDAR