BEGIN:VCALENDAR
VERSION:2.0
PRODID:-//Health Capital Helsinki - ECPv6.15.20//NONSGML v1.0//EN
CALSCALE:GREGORIAN
METHOD:PUBLISH
X-ORIGINAL-URL:https://healthcapitalhelsinki.fi
X-WR-CALDESC:Events for Health Capital Helsinki
REFRESH-INTERVAL;VALUE=DURATION:PT1H
X-Robots-Tag:noindex
X-PUBLISHED-TTL:PT1H
BEGIN:VTIMEZONE
TZID:Europe/Helsinki
BEGIN:DAYLIGHT
TZOFFSETFROM:+0200
TZOFFSETTO:+0300
TZNAME:EEST
DTSTART:20220327T010000
END:DAYLIGHT
BEGIN:STANDARD
TZOFFSETFROM:+0300
TZOFFSETTO:+0200
TZNAME:EET
DTSTART:20221030T010000
END:STANDARD
BEGIN:DAYLIGHT
TZOFFSETFROM:+0200
TZOFFSETTO:+0300
TZNAME:EEST
DTSTART:20230326T010000
END:DAYLIGHT
BEGIN:STANDARD
TZOFFSETFROM:+0300
TZOFFSETTO:+0200
TZNAME:EET
DTSTART:20231029T010000
END:STANDARD
BEGIN:DAYLIGHT
TZOFFSETFROM:+0200
TZOFFSETTO:+0300
TZNAME:EEST
DTSTART:20240331T010000
END:DAYLIGHT
BEGIN:STANDARD
TZOFFSETFROM:+0300
TZOFFSETTO:+0200
TZNAME:EET
DTSTART:20241027T010000
END:STANDARD
END:VTIMEZONE
BEGIN:VEVENT
DTSTART;VALUE=DATE:20230531
DTEND;VALUE=DATE:20230601
DTSTAMP:20260419T123436
CREATED:20220812T123430Z
LAST-MODIFIED:20220812T123430Z
UID:20211-1685491200-1685577599@healthcapitalhelsinki.fi
SUMMARY:AstraZeneca\'s mentoring program for Finnish health startups
DESCRIPTION:AstraZeneca and Business Tampere are offering a mentoring program for health technology and life science startup companies from all around Finland. \nAstraZeneca offers ”one-off\” business mentoring sessions for selected startups that are aspiring business and collaboration with the pharma industry.  The selected startup companies will have a chance to meet dedicated AstraZeneca mentors representing a wide range of industry expertise. This is a great networking opportunity with experts from one of the world’s biggest pharma companies. \nApplications are now open!
URL:https://healthcapitalhelsinki.fi/event/astrazenecas-mentoring-program-for-finnish-health-startups/
CATEGORIES:Opportunities
END:VEVENT
BEGIN:VEVENT
DTSTART;VALUE=DATE:20230531
DTEND;VALUE=DATE:20230601
DTSTAMP:20260419T123436
CREATED:20220204T131159Z
LAST-MODIFIED:20220204T131159Z
UID:19285-1685491200-1685577599@healthcapitalhelsinki.fi
SUMMARY:EIT Health Programmes
DESCRIPTION:Do you want to connect with a vast network of experts\, access new markets and finance or learn new skills? EIT Health has a wide range of programs for students\, healthcare professionals\, entrepreneurs\, or anything in between.  \n\nCheck out the programmes and application deadlines (from March to end-May\, 2023)
URL:https://healthcapitalhelsinki.fi/event/eit-health-open-calls-for-startups-and-entrepreneurs/
CATEGORIES:Opportunities
ATTACH;FMTTYPE=image/jpeg:https://healthcapitalhelsinki.fi/wp-content/uploads/2021/02/eit-health.jpg
END:VEVENT
BEGIN:VEVENT
DTSTART;VALUE=DATE:20230531
DTEND;VALUE=DATE:20230601
DTSTAMP:20260419T123436
CREATED:20230228T100047Z
LAST-MODIFIED:20230228T100047Z
UID:21441-1685491200-1685577599@healthcapitalhelsinki.fi
SUMMARY:Hire an international student from the Aalto University School of Business for an internship
DESCRIPTION:There is a shocking shortage of competent employees in many fields in Finland\, so employers compete for university students not only once their graduate but also during their studies. The Aalto University School of Business attracts talented foreign students who are looking to get in touch with the world of work in Finland and who\, on the other hand\, offer a solution to the labour shortage. \nAct now and hire an international student from the Aalto University School of Business for an internship! Hiring an international student as an intern offers an easy and risk-free way for your company to try out international recruitment. \nIn addition\, small and medium-sized enterprises\, non-profit organisations and state organisations can receive a subsidy from the Aalto University School of Business for the salary costs of an international student\, if necessary. \nRead more
URL:https://healthcapitalhelsinki.fi/event/hire-an-international-student-from-the-aalto-university-school-of-business-for-an-internship/
CATEGORIES:Opportunities
ATTACH;FMTTYPE=image/png:https://healthcapitalhelsinki.fi/wp-content/uploads/2014/07/logo_aalto_bw.png
END:VEVENT
BEGIN:VEVENT
DTSTART;TZID=Europe/Helsinki:20230531T144500
DTEND;TZID=Europe/Helsinki:20230531T170000
DTSTAMP:20260419T123436
CREATED:20230524T104245Z
LAST-MODIFIED:20230524T104245Z
UID:21904-1685544300-1685552400@healthcapitalhelsinki.fi
SUMMARY:Webinar: Let\'s get your business started!
DESCRIPTION:Organiser: Health Proof Helsinki \nThe webinar offers tools and advice for getting your business up and running. You are welcome to participate in the whole webinar or choose the topics that interest you the most. \nAgenda:\n14:45 Welcome and introduction: Pekka Kahri\, HUS and Sanna Hartman\, City of Helsinki\n15:00 Financing instruments: Renne Kaseva\, Business Finland\n15:25 Ethical guidelines and research permits: Laura Pitkäranta\, Metropolia UAS\n15:50 Regulation of medical devices: Mikael Soini and Sakari Lukkarinen\, Metropolia UAS\n16:15 Case Villa Manus: Marisa Nikkonen\, Villa Manus and Kaarina Pirilä\, Metropolia UAS\n16:35 Nordic Proof Introduction \nRegister now
URL:https://healthcapitalhelsinki.fi/event/webinar-lets-get-your-business-started/
CATEGORIES:Events
ATTACH;FMTTYPE=image/jpeg:https://healthcapitalhelsinki.fi/wp-content/uploads/2023/05/Health-Proof-Helsinki-logo.jpg
END:VEVENT
END:VCALENDAR