BEGIN:VCALENDAR
VERSION:2.0
PRODID:-//Health Capital Helsinki - ECPv6.15.20//NONSGML v1.0//EN
CALSCALE:GREGORIAN
METHOD:PUBLISH
X-ORIGINAL-URL:https://healthcapitalhelsinki.fi
X-WR-CALDESC:Events for Health Capital Helsinki
REFRESH-INTERVAL;VALUE=DURATION:PT1H
X-Robots-Tag:noindex
X-PUBLISHED-TTL:PT1H
BEGIN:VTIMEZONE
TZID:Europe/Helsinki
BEGIN:DAYLIGHT
TZOFFSETFROM:+0200
TZOFFSETTO:+0300
TZNAME:EEST
DTSTART:20220327T010000
END:DAYLIGHT
BEGIN:STANDARD
TZOFFSETFROM:+0300
TZOFFSETTO:+0200
TZNAME:EET
DTSTART:20221030T010000
END:STANDARD
BEGIN:DAYLIGHT
TZOFFSETFROM:+0200
TZOFFSETTO:+0300
TZNAME:EEST
DTSTART:20230326T010000
END:DAYLIGHT
BEGIN:STANDARD
TZOFFSETFROM:+0300
TZOFFSETTO:+0200
TZNAME:EET
DTSTART:20231029T010000
END:STANDARD
BEGIN:DAYLIGHT
TZOFFSETFROM:+0200
TZOFFSETTO:+0300
TZNAME:EEST
DTSTART:20240331T010000
END:DAYLIGHT
BEGIN:STANDARD
TZOFFSETFROM:+0300
TZOFFSETTO:+0200
TZNAME:EET
DTSTART:20241027T010000
END:STANDARD
END:VTIMEZONE
BEGIN:VEVENT
DTSTART;TZID=Europe/Helsinki:20230530T081500
DTEND;TZID=Europe/Helsinki:20230530T130000
DTSTAMP:20260419T123437
CREATED:20230414T150819Z
LAST-MODIFIED:20230414T150819Z
UID:21728-1685434500-1685451600@healthcapitalhelsinki.fi
SUMMARY:How to invest in Health & Life Sciences – Successful exits in Life Sciences & Biopharma
DESCRIPTION:Organiser: Business Finland\, Business Finland Venture Capital and Health Capital Helsinki \nGet inspiration to invest in health & life sciences and network with entrepreneurs\, investors and industry specialists! \nThis year’s How to invest in Health & Life Sciences event is all about exits. You’ll get to: \n\nHear three successful entrepreneurs share their experiences of starting\, growing and exiting their businesses\, working with venture capital investors\, and the role those investors played in their journey.\nFollow a panel discussion with top-tier European venture capital investors from HealthCap\, Medicxi and Sunstone Life Science Ventures sharing their secrets to success.\nGain valuable insights on different exit strategies\, pros and cons of each strategy\, and navigating in the challenging market environment.\n\nThe event is a must-attend for investors\, entrepreneurs and industry specialists interested in the health & life sciences industry. You will have the opportunity to network and connect with people passionate about operating and investing in this sector. \nThe event is free-of-charge but seats are limited. Read more and register now!
URL:https://healthcapitalhelsinki.fi/event/how-to-invest-in-health/
CATEGORIES:Events
ATTACH;FMTTYPE=image/jpeg:https://healthcapitalhelsinki.fi/wp-content/uploads/2023/04/How-to-invest-in-health-banner.jpg
END:VEVENT
END:VCALENDAR