BEGIN:VCALENDAR
VERSION:2.0
PRODID:-//Health Capital Helsinki - ECPv6.15.20//NONSGML v1.0//EN
CALSCALE:GREGORIAN
METHOD:PUBLISH
X-ORIGINAL-URL:https://healthcapitalhelsinki.fi
X-WR-CALDESC:Events for Health Capital Helsinki
REFRESH-INTERVAL;VALUE=DURATION:PT1H
X-Robots-Tag:noindex
X-PUBLISHED-TTL:PT1H
BEGIN:VTIMEZONE
TZID:Europe/Helsinki
BEGIN:DAYLIGHT
TZOFFSETFROM:+0200
TZOFFSETTO:+0300
TZNAME:EEST
DTSTART:20220327T010000
END:DAYLIGHT
BEGIN:STANDARD
TZOFFSETFROM:+0300
TZOFFSETTO:+0200
TZNAME:EET
DTSTART:20221030T010000
END:STANDARD
BEGIN:DAYLIGHT
TZOFFSETFROM:+0200
TZOFFSETTO:+0300
TZNAME:EEST
DTSTART:20230326T010000
END:DAYLIGHT
BEGIN:STANDARD
TZOFFSETFROM:+0300
TZOFFSETTO:+0200
TZNAME:EET
DTSTART:20231029T010000
END:STANDARD
BEGIN:DAYLIGHT
TZOFFSETFROM:+0200
TZOFFSETTO:+0300
TZNAME:EEST
DTSTART:20240331T010000
END:DAYLIGHT
BEGIN:STANDARD
TZOFFSETFROM:+0300
TZOFFSETTO:+0200
TZNAME:EET
DTSTART:20241027T010000
END:STANDARD
END:VTIMEZONE
BEGIN:VEVENT
DTSTART;VALUE=DATE:20230522
DTEND;VALUE=DATE:20230523
DTSTAMP:20260419T140058
CREATED:20230331T151429Z
LAST-MODIFIED:20230331T151429Z
UID:21627-1684713600-1684799999@healthcapitalhelsinki.fi
SUMMARY:Healthcare InnoMatch 2023
DESCRIPTION:CHISEL Healthcare InnoMatch 2023 is looking for SMEs and startups with near market-ready\, scalable\, end-to-end solutions to reshape preventive care for a healthier population. Successful start-ups/SMEs will obtain funding support of up to S$400\,000 to test bed their solutions in the healthcare environment\, with the support of Singapore’s healthcare clusters. \nHealthcare InnoMatch is an initiative of CHI (Centre for Healthcare Innovation\, Singapore) under its CHI Start-up Enterprise Link (CHISEL). Deadline for applications is 22 May. \nApply now \n 
URL:https://healthcapitalhelsinki.fi/event/healthcare-innomatch-2023-information-sessions/
CATEGORIES:Opportunities
END:VEVENT
BEGIN:VEVENT
DTSTART;VALUE=DATE:20230522
DTEND;VALUE=DATE:20230526
DTSTAMP:20260419T140058
CREATED:20230228T102035Z
LAST-MODIFIED:20230228T102035Z
UID:21450-1684713600-1685059199@healthcapitalhelsinki.fi
SUMMARY:Vitalis
DESCRIPTION:The Nordic region features world-class healthcare and research institutions\, highly skilled hardware and software expertise\, a thriving industry and a strong startup scene. Vitalis eHealth event\, organised in Gotherburg\, Sweden\, is a meeting point for everyone working strategically or operatively with business development and eHealth issues within healthcare and welfare. \nNotice also the Nordic network meeting\, organised by Business Finland\, at Vitalis on 24 May! More info here.
URL:https://healthcapitalhelsinki.fi/event/vitalis/
CATEGORIES:Events
ATTACH;FMTTYPE=image/png:https://healthcapitalhelsinki.fi/wp-content/uploads/2020/02/Vitalis2020.png
END:VEVENT
BEGIN:VEVENT
DTSTART;TZID=Europe/Helsinki:20230522T120000
DTEND;TZID=Europe/Helsinki:20230522T160000
DTSTAMP:20260419T140058
CREATED:20230502T125844Z
LAST-MODIFIED:20230502T125844Z
UID:21794-1684756800-1684771200@healthcapitalhelsinki.fi
SUMMARY:Helsinki kutsuu yritykset visioimaan lisää hyvinvointia Helsinkiin
DESCRIPTION:Helsinki haluaa olla kaupunki\, jossa edellytykset liikkuvaan elämään kohenevat niin\, että kaupunkilaisten terveys paranee. Yritysten rooli liikkumattomuuden ehkäisyssä on tulevaisuudessa merkittävä ja yhteistyötä julkisen ja yksityisen sektorin välillä tuleekin tiivistää. Terveys-\, hyvinvointi- ja liikunta-alan yritykset sekä TKI-toimijat\, tervetuloa luomaan visiota liikkuvasta Helsingistä kaupungintalon Tapahtumatorille! \nMillaisia ratkaisuja yrityksesi tarjoaa liikkumattomuuden kasvavaan haasteeseen? Kuinka lisäisit helsinkiläisten liikettä ja hyvinvointia ikään katsomatta? Millaista yhteistyötä yrityksesi kaipaa Helsingin kaupungin kanssa? \nTapahtuman ohjelma ja ilmoittautuminen
URL:https://healthcapitalhelsinki.fi/event/hyvinvointia-helsinkiin/
CATEGORIES:Events
ATTACH;FMTTYPE=image/png:https://healthcapitalhelsinki.fi/wp-content/uploads/2023/05/Helsinki_kehystunnus_600x275.png
END:VEVENT
BEGIN:VEVENT
DTSTART;TZID=Europe/Helsinki:20230522T160000
DTEND;TZID=Europe/Helsinki:20230522T173000
DTSTAMP:20260419T140058
CREATED:20230502T125146Z
LAST-MODIFIED:20230502T125146Z
UID:21790-1684771200-1684776600@healthcapitalhelsinki.fi
SUMMARY:Health Talks: Artificial Intelligence & Antibiotic Resistance
DESCRIPTION:Organiser: Terkko Health Hub and the Global Antibiotics Resistance Foundation (TGARF) \nThe revolution of collecting digitalised health data created an increasing amount of data that can help to develop better healthcare and innovative solutions for patients and healthcare professionals. \nInnovative companies are using new methods\, with software (AI) and hardware\, to collect and use this health data for developing solutions to curb antimicrobial resistance (AMR) or using the data for Patient Information systems. \nThis Health Talks session will discussion how some companies are using those new methods in relation to AMR\, and the effect of AMR in general. \nThe event will take place as hybrid. See the agenda and register to join the event at Terkko Health Hub or to recieve the Zoom link to follow the streaming.
URL:https://healthcapitalhelsinki.fi/event/health-talks-ai-and-antibiotic-resistance/
CATEGORIES:Events
ATTACH;FMTTYPE=image/jpeg:https://healthcapitalhelsinki.fi/wp-content/uploads/2023/05/Health-Talks-May-2023.jpeg
END:VEVENT
END:VCALENDAR