BEGIN:VCALENDAR
VERSION:2.0
PRODID:-//Health Capital Helsinki - ECPv6.15.20//NONSGML v1.0//EN
CALSCALE:GREGORIAN
METHOD:PUBLISH
X-WR-CALNAME:Health Capital Helsinki
X-ORIGINAL-URL:https://healthcapitalhelsinki.fi
X-WR-CALDESC:Events for Health Capital Helsinki
REFRESH-INTERVAL;VALUE=DURATION:PT1H
X-Robots-Tag:noindex
X-PUBLISHED-TTL:PT1H
BEGIN:VTIMEZONE
TZID:Europe/Helsinki
BEGIN:DAYLIGHT
TZOFFSETFROM:+0200
TZOFFSETTO:+0300
TZNAME:EEST
DTSTART:20220327T010000
END:DAYLIGHT
BEGIN:STANDARD
TZOFFSETFROM:+0300
TZOFFSETTO:+0200
TZNAME:EET
DTSTART:20221030T010000
END:STANDARD
BEGIN:DAYLIGHT
TZOFFSETFROM:+0200
TZOFFSETTO:+0300
TZNAME:EEST
DTSTART:20230326T010000
END:DAYLIGHT
BEGIN:STANDARD
TZOFFSETFROM:+0300
TZOFFSETTO:+0200
TZNAME:EET
DTSTART:20231029T010000
END:STANDARD
BEGIN:DAYLIGHT
TZOFFSETFROM:+0200
TZOFFSETTO:+0300
TZNAME:EEST
DTSTART:20240331T010000
END:DAYLIGHT
BEGIN:STANDARD
TZOFFSETFROM:+0300
TZOFFSETTO:+0200
TZNAME:EET
DTSTART:20241027T010000
END:STANDARD
END:VTIMEZONE
BEGIN:VEVENT
DTSTART;TZID=Europe/Helsinki:20230509T080000
DTEND;TZID=Europe/Helsinki:20230509T091500
DTSTAMP:20260419T140101
CREATED:20230413T100655Z
LAST-MODIFIED:20230413T100655Z
UID:21720-1683619200-1683623700@healthcapitalhelsinki.fi
SUMMARY:Health Tuesday: Health Incubators
DESCRIPTION:Organiser: Business Finland \nHealth Incubators are accelerating health innovations and have strong international connections and networks. \nJoin online Health Tuesday to learn about the activities and plans of three incubation centers – Health Incubator Helsinki\, SPARK Finland and BioInnovation Institute (BII) –  and collaboration opportunities with them. In addition\, you\’ll hear startup perspective by Tuomo Pentikäinen\, CEO at VEIL.AI. \nRegister here
URL:https://healthcapitalhelsinki.fi/event/health-tuesday-health-incubators/
CATEGORIES:Events
ATTACH;FMTTYPE=image/jpeg:https://healthcapitalhelsinki.fi/wp-content/uploads/2023/02/Business-Finland-logo-w500.jpg
END:VEVENT
BEGIN:VEVENT
DTSTART;TZID=Europe/Helsinki:20230509T130000
DTEND;TZID=Europe/Helsinki:20230509T160000
DTSTAMP:20260419T140101
CREATED:20230315T145933Z
LAST-MODIFIED:20230315T145933Z
UID:21513-1683637200-1683648000@healthcapitalhelsinki.fi
SUMMARY:Medtech Regulatory Seminar
DESCRIPTION:Organiser: Finnish Business Angels Network FiBAN and Healthtech Finland \nWelcome to the Medtech Regulatory Seminar to hear about the new updates and regulations in the sector as well as two medtech startup cases. \nProgramme: \n\nOpening words: Harry Brade\, business angel\, and Topi Laakso\, Deal Flow Manager at FiBAN\nPrerequisites and regulations to consider when entering a market – Sandra Liede\, Senior Legal Specialist\, Healthtech Finland\, & Nelli Karhu\, Senior Inspector\, Finnish Medicines Agency Fimea\nStartup cases: Sooma Oy and Uniogen Oy\nThe importance of board work in terms of success – Hallituspartnerit
URL:https://healthcapitalhelsinki.fi/event/medtech-regulatory-seminar/
CATEGORIES:Events
ATTACH;FMTTYPE=image/jpeg:https://healthcapitalhelsinki.fi/wp-content/uploads/2023/03/fiban-medtech_5.jpeg
END:VEVENT
END:VCALENDAR