BEGIN:VCALENDAR
VERSION:2.0
PRODID:-//Health Capital Helsinki - ECPv6.15.20//NONSGML v1.0//EN
CALSCALE:GREGORIAN
METHOD:PUBLISH
X-ORIGINAL-URL:https://healthcapitalhelsinki.fi
X-WR-CALDESC:Events for Health Capital Helsinki
REFRESH-INTERVAL;VALUE=DURATION:PT1H
X-Robots-Tag:noindex
X-PUBLISHED-TTL:PT1H
BEGIN:VTIMEZONE
TZID:Europe/Helsinki
BEGIN:DAYLIGHT
TZOFFSETFROM:+0200
TZOFFSETTO:+0300
TZNAME:EEST
DTSTART:20220327T010000
END:DAYLIGHT
BEGIN:STANDARD
TZOFFSETFROM:+0300
TZOFFSETTO:+0200
TZNAME:EET
DTSTART:20221030T010000
END:STANDARD
BEGIN:DAYLIGHT
TZOFFSETFROM:+0200
TZOFFSETTO:+0300
TZNAME:EEST
DTSTART:20230326T010000
END:DAYLIGHT
BEGIN:STANDARD
TZOFFSETFROM:+0300
TZOFFSETTO:+0200
TZNAME:EET
DTSTART:20231029T010000
END:STANDARD
BEGIN:DAYLIGHT
TZOFFSETFROM:+0200
TZOFFSETTO:+0300
TZNAME:EEST
DTSTART:20240331T010000
END:DAYLIGHT
BEGIN:STANDARD
TZOFFSETFROM:+0300
TZOFFSETTO:+0200
TZNAME:EET
DTSTART:20241027T010000
END:STANDARD
END:VTIMEZONE
BEGIN:VEVENT
DTSTART;VALUE=DATE:20230502
DTEND;VALUE=DATE:20230503
DTSTAMP:20260419T140100
CREATED:20230316T134133Z
LAST-MODIFIED:20230316T134133Z
UID:21533-1682985600-1683071999@healthcapitalhelsinki.fi
SUMMARY:EIT Health Catapult: fast-tracking Europe’s best startups
DESCRIPTION:EIT Health introduces a unique competition and training programme\, Catapult\, that showcases life since and health tech start-ups to leading experts and investors across Europe. \nThroughout the programme\, start-ups will receive intensive training as they build their credibility and visibility through pan-European exposure. \nThe winner will get: \n\n€30.000 and in-kind industry prizes\nVisibility on New York Nasdaq Tower\nNetworking\n360 C training\n\nCheck out the criteria and apply by 2 May! \n 
URL:https://healthcapitalhelsinki.fi/event/eit-health-catapult-fast-tracking-europes-best-startups/
CATEGORIES:Opportunities
ATTACH;FMTTYPE=image/jpeg:https://healthcapitalhelsinki.fi/wp-content/uploads/2021/02/eit-health.jpg
END:VEVENT
BEGIN:VEVENT
DTSTART;VALUE=DATE:20230502
DTEND;VALUE=DATE:20230503
DTSTAMP:20260419T140100
CREATED:20230424T112934Z
LAST-MODIFIED:20230424T112934Z
UID:21747-1682985600-1683071999@healthcapitalhelsinki.fi
SUMMARY:Call for companies with solutions for children\'s health
DESCRIPTION:Each year\, EIT Health Wild Card programme invites startup teams who are not afraid to take risks to develop an innovative solution for a specific health challenge. \nThe 2023 Challenge: Children\’s Health\nTogether with Sant Joan de Deu Hospital (SJD) and its innovation hub i4KIDS\, the 2023 Wild Card programme seeks to accelerate children-centric innovations that make real impact in children’s lives. \nWild Card is open to teams of entrepreneurs\, startups or SMEs that: \n\nAddress an unmet need for children’s health\nHave a TRL 3-6\nHave a team of two-to–five founders\, of whom at least two should participate in the programme\n\nRead more and apply by 2 May
URL:https://healthcapitalhelsinki.fi/event/eit-health-wild-card/
CATEGORIES:Opportunities
ATTACH;FMTTYPE=image/jpeg:https://healthcapitalhelsinki.fi/wp-content/uploads/2021/02/eit-health.jpg
END:VEVENT
END:VCALENDAR