BEGIN:VCALENDAR
VERSION:2.0
PRODID:-//Health Capital Helsinki - ECPv6.15.20//NONSGML v1.0//EN
CALSCALE:GREGORIAN
METHOD:PUBLISH
X-ORIGINAL-URL:https://healthcapitalhelsinki.fi
X-WR-CALDESC:Events for Health Capital Helsinki
REFRESH-INTERVAL;VALUE=DURATION:PT1H
X-Robots-Tag:noindex
X-PUBLISHED-TTL:PT1H
BEGIN:VTIMEZONE
TZID:Europe/Helsinki
BEGIN:DAYLIGHT
TZOFFSETFROM:+0200
TZOFFSETTO:+0300
TZNAME:EEST
DTSTART:20220327T010000
END:DAYLIGHT
BEGIN:STANDARD
TZOFFSETFROM:+0300
TZOFFSETTO:+0200
TZNAME:EET
DTSTART:20221030T010000
END:STANDARD
BEGIN:DAYLIGHT
TZOFFSETFROM:+0200
TZOFFSETTO:+0300
TZNAME:EEST
DTSTART:20230326T010000
END:DAYLIGHT
BEGIN:STANDARD
TZOFFSETFROM:+0300
TZOFFSETTO:+0200
TZNAME:EET
DTSTART:20231029T010000
END:STANDARD
BEGIN:DAYLIGHT
TZOFFSETFROM:+0200
TZOFFSETTO:+0300
TZNAME:EEST
DTSTART:20240331T010000
END:DAYLIGHT
BEGIN:STANDARD
TZOFFSETFROM:+0300
TZOFFSETTO:+0200
TZNAME:EET
DTSTART:20241027T010000
END:STANDARD
END:VTIMEZONE
BEGIN:VEVENT
DTSTART;VALUE=DATE:20230425
DTEND;VALUE=DATE:20230428
DTSTAMP:20260419T153153
CREATED:20230109T110013Z
LAST-MODIFIED:20230109T110013Z
UID:21003-1682380800-1682639999@healthcapitalhelsinki.fi
SUMMARY:The Digital Health Industry Exhibition DMEA
DESCRIPTION:The Digital Health Industry Exhibition DMEA in Berlin is the largest gathering of digital healthcare and trade professionals in the DACH region. It is visited by administrative directors\, doctors and nurses from German\, Austrian and Swiss hospitals\, clinics and medical institutions. In 2022\, DMEA had more than 500 exhibitors and was visited by over 11\,000 healthcare professionals. In 2023\, DMEA takes place on 25–27 April. \nBusiness Finland is organising a Finland pavilion at DMEA.
URL:https://healthcapitalhelsinki.fi/event/the-digital-health-industry-exhibition-dmea/
CATEGORIES:Events
END:VEVENT
END:VCALENDAR