BEGIN:VCALENDAR
VERSION:2.0
PRODID:-//Health Capital Helsinki - ECPv6.15.20//NONSGML v1.0//EN
CALSCALE:GREGORIAN
METHOD:PUBLISH
X-ORIGINAL-URL:https://healthcapitalhelsinki.fi
X-WR-CALDESC:Events for Health Capital Helsinki
REFRESH-INTERVAL;VALUE=DURATION:PT1H
X-Robots-Tag:noindex
X-PUBLISHED-TTL:PT1H
BEGIN:VTIMEZONE
TZID:Europe/Helsinki
BEGIN:DAYLIGHT
TZOFFSETFROM:+0200
TZOFFSETTO:+0300
TZNAME:EEST
DTSTART:20220327T010000
END:DAYLIGHT
BEGIN:STANDARD
TZOFFSETFROM:+0300
TZOFFSETTO:+0200
TZNAME:EET
DTSTART:20221030T010000
END:STANDARD
BEGIN:DAYLIGHT
TZOFFSETFROM:+0200
TZOFFSETTO:+0300
TZNAME:EEST
DTSTART:20230326T010000
END:DAYLIGHT
BEGIN:STANDARD
TZOFFSETFROM:+0300
TZOFFSETTO:+0200
TZNAME:EET
DTSTART:20231029T010000
END:STANDARD
BEGIN:DAYLIGHT
TZOFFSETFROM:+0200
TZOFFSETTO:+0300
TZNAME:EEST
DTSTART:20240331T010000
END:DAYLIGHT
BEGIN:STANDARD
TZOFFSETFROM:+0300
TZOFFSETTO:+0200
TZNAME:EET
DTSTART:20241027T010000
END:STANDARD
END:VTIMEZONE
BEGIN:VEVENT
DTSTART;VALUE=DATE:20230414
DTEND;VALUE=DATE:20230415
DTSTAMP:20260419T153154
CREATED:20230302T102637Z
LAST-MODIFIED:20230302T102637Z
UID:21458-1681430400-1681516799@healthcapitalhelsinki.fi
SUMMARY:Digital Wellbeing Sprint looking for company partners
DESCRIPTION:Companies\, do you need fresh\, out-of-the-box thinking related to your digital services for health and wellbeing? \nDigital Wellbeing Sprint is an intensive course organised by Laurea\, Haaga-Helia and Metropolia University of Applied Sciences on 23-30 May 2023. The course is based on open innovation and co-creation methods. Project includes seven intensive working days when students in multidisciplinary teams create future digital services for health and wellbeing sector. Teams generate ideas and test user-friendly digital solutions for partner organisations. \nWould your company be one of those partners? The deadline for final challenges from companies is 14 April. More information on the Digital Wellbeing Spint website and here: DWS23_Summary_for_companies \nContact: Project Manager Viljami Osada\, viljami.osada@laurea.fi\, 050 327 3049\nDigital Wellbeing Sprint is organised using remote access.
URL:https://healthcapitalhelsinki.fi/event/digital-wellbeing-sprint-looking-for-company-partners/
CATEGORIES:Opportunities
ATTACH;FMTTYPE=image/jpeg:https://healthcapitalhelsinki.fi/wp-content/uploads/2023/03/Design-Wellbeing-Sprint-2023.jpg
END:VEVENT
END:VCALENDAR