BEGIN:VCALENDAR
VERSION:2.0
PRODID:-//Health Capital Helsinki - ECPv6.15.20//NONSGML v1.0//EN
CALSCALE:GREGORIAN
METHOD:PUBLISH
X-ORIGINAL-URL:https://healthcapitalhelsinki.fi
X-WR-CALDESC:Events for Health Capital Helsinki
REFRESH-INTERVAL;VALUE=DURATION:PT1H
X-Robots-Tag:noindex
X-PUBLISHED-TTL:PT1H
BEGIN:VTIMEZONE
TZID:Europe/Helsinki
BEGIN:DAYLIGHT
TZOFFSETFROM:+0200
TZOFFSETTO:+0300
TZNAME:EEST
DTSTART:20220327T010000
END:DAYLIGHT
BEGIN:STANDARD
TZOFFSETFROM:+0300
TZOFFSETTO:+0200
TZNAME:EET
DTSTART:20221030T010000
END:STANDARD
BEGIN:DAYLIGHT
TZOFFSETFROM:+0200
TZOFFSETTO:+0300
TZNAME:EEST
DTSTART:20230326T010000
END:DAYLIGHT
BEGIN:STANDARD
TZOFFSETFROM:+0300
TZOFFSETTO:+0200
TZNAME:EET
DTSTART:20231029T010000
END:STANDARD
BEGIN:DAYLIGHT
TZOFFSETFROM:+0200
TZOFFSETTO:+0300
TZNAME:EEST
DTSTART:20240331T010000
END:DAYLIGHT
BEGIN:STANDARD
TZOFFSETFROM:+0300
TZOFFSETTO:+0200
TZNAME:EET
DTSTART:20241027T010000
END:STANDARD
END:VTIMEZONE
BEGIN:VEVENT
DTSTART;TZID=Europe/Helsinki:20230404T090000
DTEND;TZID=Europe/Helsinki:20230404T110000
DTSTAMP:20260419T153154
CREATED:20230314T113545Z
LAST-MODIFIED:20230314T113545Z
UID:21480-1680598800-1680606000@healthcapitalhelsinki.fi
SUMMARY:Finnish AI Region launch event
DESCRIPTION:Finnish AI Region (FAIR) is building a new artificial intelligence ecosystem in Finland\, which will accelerate the business of SMEs through automation and digitization based on artificial intelligence. Join us for the kick-off event of FAIR on 4 April and learn about the extensive\, free services for SMEs of this new European Digital Innovation Hub (EDIH)! \nFAIR’s technological focus is on AI\, but at the same time it also offers expertise in the field of extended reality (XR)\, cyber security\, funding search and high-performance computing. The services are primarily free for SMEs. \nLearn more & register
URL:https://healthcapitalhelsinki.fi/event/finnish-ai-region-launch-event/
CATEGORIES:Events
ATTACH;FMTTYPE=image/jpeg:https://healthcapitalhelsinki.fi/wp-content/uploads/2023/03/FAIR-image.jpeg
END:VEVENT
BEGIN:VEVENT
DTSTART;TZID=Europe/Helsinki:20230404T130000
DTEND;TZID=Europe/Helsinki:20230404T153000
DTSTAMP:20260419T153154
CREATED:20230315T144808Z
LAST-MODIFIED:20230315T144808Z
UID:21510-1680613200-1680622200@healthcapitalhelsinki.fi
SUMMARY:Health Tuesday: Uuden ajan B2B-myynti
DESCRIPTION:Järjestäjä: Business Finland \nMenestyvässä myynnissä koko organisaatio tekee yhdessä töitä asiakkaan eteen\, mutta lopulta myynti on kuitenkin yksilölaji. Kaikki lähtee sinun mielenmaisemastasi. Tule mukaan Health Tuesday -tapahtumaan kuulemaan kattava läpileikkaus B2B-myynnin mielenkiintoisesta maailmasta ja Business Finlandin tarjoamista työkaluista myynnin kehittämiseen. \nTilaisuus on myös erinomainen verkottumismahdollisuus. Ilmoittaudu mukaan heti\, sillä paikkoja on rajatusti! Huomaathan että tapahtuman kieli on suomi ja se järjestetään vain fyysisenä tapahtumana.
URL:https://healthcapitalhelsinki.fi/event/health-tuesday-uuden-ajan-b2b-myynti/
CATEGORIES:Events
ATTACH;FMTTYPE=image/jpeg:https://healthcapitalhelsinki.fi/wp-content/uploads/2023/02/Business-Finland-logo-w500.jpg
END:VEVENT
END:VCALENDAR