BEGIN:VCALENDAR
VERSION:2.0
PRODID:-//Health Capital Helsinki - ECPv6.15.20//NONSGML v1.0//EN
CALSCALE:GREGORIAN
METHOD:PUBLISH
X-ORIGINAL-URL:https://healthcapitalhelsinki.fi
X-WR-CALDESC:Events for Health Capital Helsinki
REFRESH-INTERVAL;VALUE=DURATION:PT1H
X-Robots-Tag:noindex
X-PUBLISHED-TTL:PT1H
BEGIN:VTIMEZONE
TZID:Europe/Helsinki
BEGIN:DAYLIGHT
TZOFFSETFROM:+0200
TZOFFSETTO:+0300
TZNAME:EEST
DTSTART:20220327T010000
END:DAYLIGHT
BEGIN:STANDARD
TZOFFSETFROM:+0300
TZOFFSETTO:+0200
TZNAME:EET
DTSTART:20221030T010000
END:STANDARD
BEGIN:DAYLIGHT
TZOFFSETFROM:+0200
TZOFFSETTO:+0300
TZNAME:EEST
DTSTART:20230326T010000
END:DAYLIGHT
BEGIN:STANDARD
TZOFFSETFROM:+0300
TZOFFSETTO:+0200
TZNAME:EET
DTSTART:20231029T010000
END:STANDARD
BEGIN:DAYLIGHT
TZOFFSETFROM:+0200
TZOFFSETTO:+0300
TZNAME:EEST
DTSTART:20240331T010000
END:DAYLIGHT
BEGIN:STANDARD
TZOFFSETFROM:+0300
TZOFFSETTO:+0200
TZNAME:EET
DTSTART:20241027T010000
END:STANDARD
END:VTIMEZONE
BEGIN:VEVENT
DTSTART;VALUE=DATE:20230330
DTEND;VALUE=DATE:20230331
DTSTAMP:20260419T153153
CREATED:20221207T134343Z
LAST-MODIFIED:20221207T134343Z
UID:20902-1680134400-1680220799@healthcapitalhelsinki.fi
SUMMARY:Swiss Nordic Bio 2023
DESCRIPTION:Swiss Nordic Bio is a high-level partnering and investor conference aimed at connecting healthcare innovations\, investor and industry. \n\nThe conference is the number one platform that gathers life science professionals from Switzerland and the Nordic countries under one roof.\nThe conference is organised by the Nordic countries in cooperation with Swiss partners.\n\nRead more and register by 9 March\, OR go one step further: pitch your company’s innovation\, plans and objectives to the Swiss Nordic Bio audience.
URL:https://healthcapitalhelsinki.fi/event/swiss-nordic-bio-2023/
CATEGORIES:Events
END:VEVENT
BEGIN:VEVENT
DTSTART;VALUE=DATE:20230330
DTEND;VALUE=DATE:20230401
DTSTAMP:20260419T153153
CREATED:20230302T110448Z
LAST-MODIFIED:20230302T110448Z
UID:21466-1680134400-1680307199@healthcapitalhelsinki.fi
SUMMARY:Ecosystem Exchange: Life Sciences\, in London & Cambridge
DESCRIPTION:Are you a Nordic health-\, med- or biotech scaleup looking to learn more about the UK?  The Swedish Chamber of Commerce\, British Embassy Stockholm and Department for Business and Trade\, present Ecosystem Exchange: Life Sciences 2023\, in London & Cambridge 30-31 March. \nIn a two-day programme\, the participating businesses will be introduced to the British ecosystem within health-\, med- and biotech\, connecting entrepreneurs\, stakeholders\, investors and industry partners. \nThere will be a pre-selection\, and 7-12 companies are selected to participate. \nLearn more and register interest here
URL:https://healthcapitalhelsinki.fi/event/ecosystem-exchange-life-sciences-in-london-cambridge/
CATEGORIES:Opportunities
ATTACH;FMTTYPE=image/jpeg:https://healthcapitalhelsinki.fi/wp-content/uploads/2023/03/Ecosystem-Exchange-Life-Sciences.jpeg
END:VEVENT
END:VCALENDAR