BEGIN:VCALENDAR
VERSION:2.0
PRODID:-//Health Capital Helsinki - ECPv6.15.20//NONSGML v1.0//EN
CALSCALE:GREGORIAN
METHOD:PUBLISH
X-WR-CALNAME:Health Capital Helsinki
X-ORIGINAL-URL:https://healthcapitalhelsinki.fi
X-WR-CALDESC:Events for Health Capital Helsinki
REFRESH-INTERVAL;VALUE=DURATION:PT1H
X-Robots-Tag:noindex
X-PUBLISHED-TTL:PT1H
BEGIN:VTIMEZONE
TZID:Europe/Helsinki
BEGIN:DAYLIGHT
TZOFFSETFROM:+0200
TZOFFSETTO:+0300
TZNAME:EEST
DTSTART:20220327T010000
END:DAYLIGHT
BEGIN:STANDARD
TZOFFSETFROM:+0300
TZOFFSETTO:+0200
TZNAME:EET
DTSTART:20221030T010000
END:STANDARD
BEGIN:DAYLIGHT
TZOFFSETFROM:+0200
TZOFFSETTO:+0300
TZNAME:EEST
DTSTART:20230326T010000
END:DAYLIGHT
BEGIN:STANDARD
TZOFFSETFROM:+0300
TZOFFSETTO:+0200
TZNAME:EET
DTSTART:20231029T010000
END:STANDARD
BEGIN:DAYLIGHT
TZOFFSETFROM:+0200
TZOFFSETTO:+0300
TZNAME:EEST
DTSTART:20240331T010000
END:DAYLIGHT
BEGIN:STANDARD
TZOFFSETFROM:+0300
TZOFFSETTO:+0200
TZNAME:EET
DTSTART:20241027T010000
END:STANDARD
END:VTIMEZONE
BEGIN:VEVENT
DTSTART;VALUE=DATE:20230321
DTEND;VALUE=DATE:20230322
DTSTAMP:20260419T171300
CREATED:20230228T095049Z
LAST-MODIFIED:20230228T095049Z
UID:21437-1679356800-1679443199@healthcapitalhelsinki.fi
SUMMARY:Kasvu Open: Digital Health Kasvupolku
DESCRIPTION:Kasvu Openin Digital Health Kasvupolku on maksuton sparrausohjelma terveys- ja hyvinvointialan yrityksille.Yritys voi toimia esimerkiksi digitaalisten terveyspalveluiden\, data-analytiikan tai koneoppimisen ja diagnostiikan parissa. \nYrityksiltä toivotaan rahoitusvalmiutta sekä uusia\, innovatiivisia toimintatapoja silloinkin kun liiketoiminta on perinteistä. \nOhjelma yhdistää yrittäjät\, sparraajat ja yhteistyökumppanit\, tavoitteena synnyttää uusia ideoita ja kontakteja yritysten kehittymisen moottoriksi. \nHae mukaan 21.3. mennessä!
URL:https://healthcapitalhelsinki.fi/event/kasvu-open-digital-health-kasvupolku/
CATEGORIES:Opportunities
ATTACH;FMTTYPE=image/jpeg:https://healthcapitalhelsinki.fi/wp-content/uploads/2023/02/Kasvu-Open-Digital-Health-Kasvupolku.jpeg
END:VEVENT
END:VCALENDAR