BEGIN:VCALENDAR
VERSION:2.0
PRODID:-//Health Capital Helsinki - ECPv6.15.20//NONSGML v1.0//EN
CALSCALE:GREGORIAN
METHOD:PUBLISH
X-WR-CALNAME:Health Capital Helsinki
X-ORIGINAL-URL:https://healthcapitalhelsinki.fi
X-WR-CALDESC:Events for Health Capital Helsinki
REFRESH-INTERVAL;VALUE=DURATION:PT1H
X-Robots-Tag:noindex
X-PUBLISHED-TTL:PT1H
BEGIN:VTIMEZONE
TZID:Europe/Helsinki
BEGIN:DAYLIGHT
TZOFFSETFROM:+0200
TZOFFSETTO:+0300
TZNAME:EEST
DTSTART:20220327T010000
END:DAYLIGHT
BEGIN:STANDARD
TZOFFSETFROM:+0300
TZOFFSETTO:+0200
TZNAME:EET
DTSTART:20221030T010000
END:STANDARD
BEGIN:DAYLIGHT
TZOFFSETFROM:+0200
TZOFFSETTO:+0300
TZNAME:EEST
DTSTART:20230326T010000
END:DAYLIGHT
BEGIN:STANDARD
TZOFFSETFROM:+0300
TZOFFSETTO:+0200
TZNAME:EET
DTSTART:20231029T010000
END:STANDARD
BEGIN:DAYLIGHT
TZOFFSETFROM:+0200
TZOFFSETTO:+0300
TZNAME:EEST
DTSTART:20240331T010000
END:DAYLIGHT
BEGIN:STANDARD
TZOFFSETFROM:+0300
TZOFFSETTO:+0200
TZNAME:EET
DTSTART:20241027T010000
END:STANDARD
END:VTIMEZONE
BEGIN:VEVENT
DTSTART;VALUE=DATE:20230315
DTEND;VALUE=DATE:20230318
DTSTAMP:20260419T170052
CREATED:20230110T101552Z
LAST-MODIFIED:20230110T101552Z
UID:21021-1678838400-1679097599@healthcapitalhelsinki.fi
SUMMARY:sTARTUp Day 2023
DESCRIPTION:sTARTUp Day is the most startup-minded business festival\, bringing together startups\, traditional entrepreneurs\, investors\, innovators\, and students. The aim of the event is to connect like-minded people and celebrate entrepreneurship in the smart city of Tartu\, Estonia.
URL:https://healthcapitalhelsinki.fi/event/startup-day-2023/
CATEGORIES:Events
ATTACH;FMTTYPE=image/jpeg:https://healthcapitalhelsinki.fi/wp-content/uploads/2023/01/sTARTUp-Day-Logo.jpg
END:VEVENT
BEGIN:VEVENT
DTSTART;TZID=Europe/Helsinki:20230317T110000
DTEND;TZID=Europe/Helsinki:20230317T130000
DTSTAMP:20260419T170052
CREATED:20230214T105009Z
LAST-MODIFIED:20230214T105009Z
UID:21193-1679050800-1679058000@healthcapitalhelsinki.fi
SUMMARY:Get to know Nordic Proof testbed consortium
DESCRIPTION:Organiser: Nordic Proof \nIn this event you will get an introduction to the Nordic Proof test consortium and the services they can provide. You might be one of the six companies getting the opportunity to discuss your needs directly with relevant Nordic Proof partners. \nThe Nordic Proof partners will share case stories giving insight on the capabilities the various test facilities can provide you as a medtech or e-health company. You are much welcome to the webinar if you want to learn more about Nordic Proof\, or if you are a health tech company in need of access to test facilities. Companies can also benefit from the opportunity to have separate meetings with Nordic Proof partners after the webinar\, where you can discuss your test needs or get some new perspectives on challenges related to your development process. Also companies already in contact with Nordic Proof are urged to benefit from this opportunity.
URL:https://healthcapitalhelsinki.fi/event/get-to-know-nordic-proof-testbed-consortium/
CATEGORIES:Opportunities
ATTACH;FMTTYPE=image/jpeg:https://healthcapitalhelsinki.fi/wp-content/uploads/2020/01/NordicProof-1.jpg
END:VEVENT
END:VCALENDAR