BEGIN:VCALENDAR
VERSION:2.0
PRODID:-//Health Capital Helsinki - ECPv6.15.20//NONSGML v1.0//EN
CALSCALE:GREGORIAN
METHOD:PUBLISH
X-WR-CALNAME:Health Capital Helsinki
X-ORIGINAL-URL:https://healthcapitalhelsinki.fi
X-WR-CALDESC:Events for Health Capital Helsinki
REFRESH-INTERVAL;VALUE=DURATION:PT1H
X-Robots-Tag:noindex
X-PUBLISHED-TTL:PT1H
BEGIN:VTIMEZONE
TZID:Europe/Helsinki
BEGIN:DAYLIGHT
TZOFFSETFROM:+0200
TZOFFSETTO:+0300
TZNAME:EEST
DTSTART:20220327T010000
END:DAYLIGHT
BEGIN:STANDARD
TZOFFSETFROM:+0300
TZOFFSETTO:+0200
TZNAME:EET
DTSTART:20221030T010000
END:STANDARD
BEGIN:DAYLIGHT
TZOFFSETFROM:+0200
TZOFFSETTO:+0300
TZNAME:EEST
DTSTART:20230326T010000
END:DAYLIGHT
BEGIN:STANDARD
TZOFFSETFROM:+0300
TZOFFSETTO:+0200
TZNAME:EET
DTSTART:20231029T010000
END:STANDARD
BEGIN:DAYLIGHT
TZOFFSETFROM:+0200
TZOFFSETTO:+0300
TZNAME:EEST
DTSTART:20240331T010000
END:DAYLIGHT
BEGIN:STANDARD
TZOFFSETFROM:+0300
TZOFFSETTO:+0200
TZNAME:EET
DTSTART:20241027T010000
END:STANDARD
END:VTIMEZONE
BEGIN:VEVENT
DTSTART;VALUE=DATE:20230307
DTEND;VALUE=DATE:20230310
DTSTAMP:20260419T170051
CREATED:20230221T100056Z
LAST-MODIFIED:20230221T100056Z
UID:21265-1678147200-1678406399@healthcapitalhelsinki.fi
SUMMARY:Online reverse pitch: Meet Japanese companies seeking European startups
DESCRIPTION:Meet Japanese companies seeking open innovation opportunities with European startups! \nThis 3-day event by JETRO Europe Innovation will allow you to learn and connect with 9 Japanese companies with a technology scouting hub or branch office in Europe. They will reverse pitch to find partnership opportunities with startups in the region. After the sessions\, participating startups can request 1-on-1 meetings with the companies. \nReverse pitching companies: Astellas Europe\, Shionogi Europe\, FUJIFILM Open Innovation Europe\, Dynamic Map Platform\,  Venture Lab NGK SPARK PLUG CO.\, LTD.\, NEC Corporation\, F. C.C Co.\, Ltd\, Mitsubishi Corporation\, ENEOS \nProgram details\nSign up by 28 February
URL:https://healthcapitalhelsinki.fi/event/online-reverse-pitch-meet-japanese-companies-seeking-european-startups/
CATEGORIES:Opportunities
ATTACH;FMTTYPE=image/jpeg:https://healthcapitalhelsinki.fi/wp-content/uploads/2023/02/Online-reverse-pitch-Japan.jpeg
END:VEVENT
END:VCALENDAR