BEGIN:VCALENDAR
VERSION:2.0
PRODID:-//Health Capital Helsinki - ECPv6.15.20//NONSGML v1.0//EN
CALSCALE:GREGORIAN
METHOD:PUBLISH
X-ORIGINAL-URL:https://healthcapitalhelsinki.fi
X-WR-CALDESC:Events for Health Capital Helsinki
REFRESH-INTERVAL;VALUE=DURATION:PT1H
X-Robots-Tag:noindex
X-PUBLISHED-TTL:PT1H
BEGIN:VTIMEZONE
TZID:Europe/Helsinki
BEGIN:DAYLIGHT
TZOFFSETFROM:+0200
TZOFFSETTO:+0300
TZNAME:EEST
DTSTART:20220327T010000
END:DAYLIGHT
BEGIN:STANDARD
TZOFFSETFROM:+0300
TZOFFSETTO:+0200
TZNAME:EET
DTSTART:20221030T010000
END:STANDARD
BEGIN:DAYLIGHT
TZOFFSETFROM:+0200
TZOFFSETTO:+0300
TZNAME:EEST
DTSTART:20230326T010000
END:DAYLIGHT
BEGIN:STANDARD
TZOFFSETFROM:+0300
TZOFFSETTO:+0200
TZNAME:EET
DTSTART:20231029T010000
END:STANDARD
BEGIN:DAYLIGHT
TZOFFSETFROM:+0200
TZOFFSETTO:+0300
TZNAME:EEST
DTSTART:20240331T010000
END:DAYLIGHT
BEGIN:STANDARD
TZOFFSETFROM:+0300
TZOFFSETTO:+0200
TZNAME:EET
DTSTART:20241027T010000
END:STANDARD
END:VTIMEZONE
BEGIN:VEVENT
DTSTART;VALUE=DATE:20230301
DTEND;VALUE=DATE:20230303
DTSTAMP:20260419T170046
CREATED:20230217T114136Z
LAST-MODIFIED:20230217T114136Z
UID:21229-1677628800-1677801599@healthcapitalhelsinki.fi
SUMMARY:UK Life Sciences Market Entry Virtual 1-2-1 Connector Workshop
DESCRIPTION:Organiser: GTM Global with partners \nExclusive Access to the UK Healthtech and Healthcare Markets \nWith an annual market of over £80 billion\, the UK is the perfect launch pad for ambitious Nordic medtech devices\, digital health\, pharma\, biopharma\, CRO and academic companies to expand internationally. Success in the UK is then often a platform to scale up in the US too! \nGTM Global is hosting a suite of Virtual Market Entry Lifesciences Workshops for Healthtech and Healthcare companies from Sweden\, Denmark\, Norway\, and Finland – to land and expand in the UK. \nReserve your virtual slot to get 1-to-1 connector meetings with specialist UK advisers from London\, Edinburgh\, Manchester\, Leeds\, Oxford\, Cambridge and Gloucester. \nRead more and register either for the workshop either on 1 eller 2 March. The cost is £99 per company. \n 
URL:https://healthcapitalhelsinki.fi/event/uk-life-sciences-market-entry-virtual-1-2-1-connector-workshop/
CATEGORIES:Opportunities
END:VEVENT
END:VCALENDAR