BEGIN:VCALENDAR
VERSION:2.0
PRODID:-//Health Capital Helsinki - ECPv6.15.20//NONSGML v1.0//EN
CALSCALE:GREGORIAN
METHOD:PUBLISH
X-WR-CALNAME:Health Capital Helsinki
X-ORIGINAL-URL:https://healthcapitalhelsinki.fi
X-WR-CALDESC:Events for Health Capital Helsinki
REFRESH-INTERVAL;VALUE=DURATION:PT1H
X-Robots-Tag:noindex
X-PUBLISHED-TTL:PT1H
BEGIN:VTIMEZONE
TZID:Europe/Helsinki
BEGIN:DAYLIGHT
TZOFFSETFROM:+0200
TZOFFSETTO:+0300
TZNAME:EEST
DTSTART:20220327T010000
END:DAYLIGHT
BEGIN:STANDARD
TZOFFSETFROM:+0300
TZOFFSETTO:+0200
TZNAME:EET
DTSTART:20221030T010000
END:STANDARD
BEGIN:DAYLIGHT
TZOFFSETFROM:+0200
TZOFFSETTO:+0300
TZNAME:EEST
DTSTART:20230326T010000
END:DAYLIGHT
BEGIN:STANDARD
TZOFFSETFROM:+0300
TZOFFSETTO:+0200
TZNAME:EET
DTSTART:20231029T010000
END:STANDARD
BEGIN:DAYLIGHT
TZOFFSETFROM:+0200
TZOFFSETTO:+0300
TZNAME:EEST
DTSTART:20240331T010000
END:DAYLIGHT
BEGIN:STANDARD
TZOFFSETFROM:+0300
TZOFFSETTO:+0200
TZNAME:EET
DTSTART:20241027T010000
END:STANDARD
END:VTIMEZONE
BEGIN:VEVENT
DTSTART;VALUE=DATE:20230228
DTEND;VALUE=DATE:20230301
DTSTAMP:20260419T170051
CREATED:20230109T110029Z
LAST-MODIFIED:20230109T110029Z
UID:21006-1677542400-1677628799@healthcapitalhelsinki.fi
SUMMARY:The Digital Health Industry Exhibition DMEA
DESCRIPTION:The Digital Health Industry Exhibition DMEA in Berlin is the largest gathering of digital healthcare and trade professionals in the DACH region. It is visited by administrative directors\, doctors and nurses from German\, Austrian and Swiss hospitals\, clinics and medical institutions. In 2022\, DMEA had more than 500 exhibitors and was visited by over 11\,000 healthcare professionals. In 2023\, DMEA takes place on 25–27 April. \nBusiness Finland is organising a Finland pavilion at DMEA.
URL:https://healthcapitalhelsinki.fi/event/the-digital-health-industry-exhibition-dmea-copy/
CATEGORIES:Opportunities
END:VEVENT
BEGIN:VEVENT
DTSTART;TZID=Europe/Helsinki:20230228T180000
DTEND;TZID=Europe/Helsinki:20230228T190000
DTSTAMP:20260419T170051
CREATED:20230220T100957Z
LAST-MODIFIED:20230220T100957Z
UID:21232-1677607200-1677610800@healthcapitalhelsinki.fi
SUMMARY:Webinar: Partner with Bayer
DESCRIPTION:Meet Bayer\’s EMEA Partnering Team: Collaborate To Cure Hub EMEA \nPassionate about bringing innovation to patients? Are you working on the next breakthrough project in healthcare? Are you researching and innovating in Cell & Gene Therapy\, Oncology\, Immunology\, Ophthalmology\, Cardiovascular Diseases\, Women’s Health\, Radiology\, or Digital Health? \nBayer wants to hear from you! Connect with Bayer\’s EMEA Partnering Team at one of their meet & greet partnering webinars hosted by the Bayer Collaborate to Cure Hub EMEA. \nChoose one of the dates: 28 February / 24 March / 20 April \nRegister\nBayer global partnering info
URL:https://healthcapitalhelsinki.fi/event/webinar-partner-with-bayer/
CATEGORIES:Opportunities
ATTACH;FMTTYPE=image/jpeg:https://healthcapitalhelsinki.fi/wp-content/uploads/2023/02/Meet-Bayer.jpg
END:VEVENT
END:VCALENDAR