BEGIN:VCALENDAR
VERSION:2.0
PRODID:-//Health Capital Helsinki - ECPv6.15.20//NONSGML v1.0//EN
CALSCALE:GREGORIAN
METHOD:PUBLISH
X-WR-CALNAME:Health Capital Helsinki
X-ORIGINAL-URL:https://healthcapitalhelsinki.fi
X-WR-CALDESC:Events for Health Capital Helsinki
REFRESH-INTERVAL;VALUE=DURATION:PT1H
X-Robots-Tag:noindex
X-PUBLISHED-TTL:PT1H
BEGIN:VTIMEZONE
TZID:Europe/Helsinki
BEGIN:DAYLIGHT
TZOFFSETFROM:+0200
TZOFFSETTO:+0300
TZNAME:EEST
DTSTART:20220327T010000
END:DAYLIGHT
BEGIN:STANDARD
TZOFFSETFROM:+0300
TZOFFSETTO:+0200
TZNAME:EET
DTSTART:20221030T010000
END:STANDARD
BEGIN:DAYLIGHT
TZOFFSETFROM:+0200
TZOFFSETTO:+0300
TZNAME:EEST
DTSTART:20230326T010000
END:DAYLIGHT
BEGIN:STANDARD
TZOFFSETFROM:+0300
TZOFFSETTO:+0200
TZNAME:EET
DTSTART:20231029T010000
END:STANDARD
BEGIN:DAYLIGHT
TZOFFSETFROM:+0200
TZOFFSETTO:+0300
TZNAME:EEST
DTSTART:20240331T010000
END:DAYLIGHT
BEGIN:STANDARD
TZOFFSETFROM:+0300
TZOFFSETTO:+0200
TZNAME:EET
DTSTART:20241027T010000
END:STANDARD
END:VTIMEZONE
BEGIN:VEVENT
DTSTART;VALUE=DATE:20230125
DTEND;VALUE=DATE:20230126
DTSTAMP:20260419T200305
CREATED:20221207T133122Z
LAST-MODIFIED:20221207T133122Z
UID:20894-1674604800-1674691199@healthcapitalhelsinki.fi
SUMMARY:Team Finland visit to the UK
DESCRIPTION:Digital health has been a focus in the UK for several years and Covid-19 has boosted it even further. The UK is currently building shared health and care records across primary\, secondary\, and social care. UK also has the “largest in decades” hospital investment program\, aiming to build altogether 48 new hospitals by 2030\, many of which will be retrofitting. Both of these investments open up various opportunities for Finnish companies. \nTeam Finland business delegation will visit the UK on 1-2 March 2023. The visit will offer an opportunity to gain and increase market knowledge\, to learn about partners and decision makers\, and how to access the UK market. By participating the delegation\, you can build and grow your own valuable network in the UK. \nRead more and register by 25 January
URL:https://healthcapitalhelsinki.fi/event/team-finland-visit-to-the-uk-2/
CATEGORIES:Opportunities
ATTACH;FMTTYPE=image/jpeg:https://healthcapitalhelsinki.fi/wp-content/uploads/2018/08/Team-Finland-logo.jpg
END:VEVENT
END:VCALENDAR