BEGIN:VCALENDAR
VERSION:2.0
PRODID:-//Health Capital Helsinki - ECPv6.15.20//NONSGML v1.0//EN
CALSCALE:GREGORIAN
METHOD:PUBLISH
X-ORIGINAL-URL:https://healthcapitalhelsinki.fi
X-WR-CALDESC:Events for Health Capital Helsinki
REFRESH-INTERVAL;VALUE=DURATION:PT1H
X-Robots-Tag:noindex
X-PUBLISHED-TTL:PT1H
BEGIN:VTIMEZONE
TZID:Europe/Helsinki
BEGIN:DAYLIGHT
TZOFFSETFROM:+0200
TZOFFSETTO:+0300
TZNAME:EEST
DTSTART:20220327T010000
END:DAYLIGHT
BEGIN:STANDARD
TZOFFSETFROM:+0300
TZOFFSETTO:+0200
TZNAME:EET
DTSTART:20221030T010000
END:STANDARD
BEGIN:DAYLIGHT
TZOFFSETFROM:+0200
TZOFFSETTO:+0300
TZNAME:EEST
DTSTART:20230326T010000
END:DAYLIGHT
BEGIN:STANDARD
TZOFFSETFROM:+0300
TZOFFSETTO:+0200
TZNAME:EET
DTSTART:20231029T010000
END:STANDARD
BEGIN:DAYLIGHT
TZOFFSETFROM:+0200
TZOFFSETTO:+0300
TZNAME:EEST
DTSTART:20240331T010000
END:DAYLIGHT
BEGIN:STANDARD
TZOFFSETFROM:+0300
TZOFFSETTO:+0200
TZNAME:EET
DTSTART:20241027T010000
END:STANDARD
END:VTIMEZONE
BEGIN:VEVENT
DTSTART;TZID=Europe/Helsinki:20230123T100000
DTEND;TZID=Europe/Helsinki:20230123T120000
DTSTAMP:20260419T200303
CREATED:20221207T132527Z
LAST-MODIFIED:20221207T132527Z
UID:20891-1674468000-1674475200@healthcapitalhelsinki.fi
SUMMARY:Nordic Health Lab: Accessing the Danish healthcare sector
DESCRIPTION:Organiser: Business Finland and Nordic Health Lab \nJoin the free webinar on 23 January to hear more about the Nordic Health Lab and how they can help Finnish healthtech companies access the Danish healthcare sector. \nBusiness Finland is partnering with Copenhagen-based Nordic Health Lab to strengthen sustainable healthcare innovation across the Nordics. The aim is to facilitate Finnish healthtech companies\’ access and understanding of the Danish public healthcare sector.
URL:https://healthcapitalhelsinki.fi/event/nordic-health-lab-accessing-the-danish-healthcare-sector/
CATEGORIES:Events
END:VEVENT
END:VCALENDAR