BEGIN:VCALENDAR
VERSION:2.0
PRODID:-//Health Capital Helsinki - ECPv6.15.20//NONSGML v1.0//EN
CALSCALE:GREGORIAN
METHOD:PUBLISH
X-ORIGINAL-URL:https://healthcapitalhelsinki.fi
X-WR-CALDESC:Events for Health Capital Helsinki
REFRESH-INTERVAL;VALUE=DURATION:PT1H
X-Robots-Tag:noindex
X-PUBLISHED-TTL:PT1H
BEGIN:VTIMEZONE
TZID:Europe/Helsinki
BEGIN:DAYLIGHT
TZOFFSETFROM:+0200
TZOFFSETTO:+0300
TZNAME:EEST
DTSTART:20220327T010000
END:DAYLIGHT
BEGIN:STANDARD
TZOFFSETFROM:+0300
TZOFFSETTO:+0200
TZNAME:EET
DTSTART:20221030T010000
END:STANDARD
BEGIN:DAYLIGHT
TZOFFSETFROM:+0200
TZOFFSETTO:+0300
TZNAME:EEST
DTSTART:20230326T010000
END:DAYLIGHT
BEGIN:STANDARD
TZOFFSETFROM:+0300
TZOFFSETTO:+0200
TZNAME:EET
DTSTART:20231029T010000
END:STANDARD
BEGIN:DAYLIGHT
TZOFFSETFROM:+0200
TZOFFSETTO:+0300
TZNAME:EEST
DTSTART:20240331T010000
END:DAYLIGHT
BEGIN:STANDARD
TZOFFSETFROM:+0300
TZOFFSETTO:+0200
TZNAME:EET
DTSTART:20241027T010000
END:STANDARD
END:VTIMEZONE
BEGIN:VEVENT
DTSTART;TZID=Europe/Helsinki:20230118T130000
DTEND;TZID=Europe/Helsinki:20230118T170000
DTSTAMP:20260419T200303
CREATED:20221221T140511Z
LAST-MODIFIED:20221221T140511Z
UID:20939-1674046800-1674061200@healthcapitalhelsinki.fi
SUMMARY:CleverHealth Network Annual Event
DESCRIPTION:Interactive physical event for all CleverHealth Network ecosystem members and external partners. \nCome and hear fresh results of the ending projects\, Home dialysis\, Acute leukemia and Gestational diabetes\, plans of new starting projects\, insights by HUS\, Fujitsu\, Aiforia and Roche in panel discussion regarding “How to make business with health care data”\, and of course\, bring your own ideas to the discussion. \nSee the agenda and register here!
URL:https://healthcapitalhelsinki.fi/event/cleverhealth-network-annual-event/
CATEGORIES:Events
ATTACH;FMTTYPE=image/png:https://healthcapitalhelsinki.fi/wp-content/uploads/2018/04/CleverHealthNetwork.png
END:VEVENT
END:VCALENDAR