BEGIN:VCALENDAR
VERSION:2.0
PRODID:-//Health Capital Helsinki - ECPv6.15.20//NONSGML v1.0//EN
CALSCALE:GREGORIAN
METHOD:PUBLISH
X-WR-CALNAME:Health Capital Helsinki
X-ORIGINAL-URL:https://healthcapitalhelsinki.fi
X-WR-CALDESC:Events for Health Capital Helsinki
REFRESH-INTERVAL;VALUE=DURATION:PT1H
X-Robots-Tag:noindex
X-PUBLISHED-TTL:PT1H
BEGIN:VTIMEZONE
TZID:Europe/Helsinki
BEGIN:DAYLIGHT
TZOFFSETFROM:+0200
TZOFFSETTO:+0300
TZNAME:EEST
DTSTART:20220327T010000
END:DAYLIGHT
BEGIN:STANDARD
TZOFFSETFROM:+0300
TZOFFSETTO:+0200
TZNAME:EET
DTSTART:20221030T010000
END:STANDARD
BEGIN:DAYLIGHT
TZOFFSETFROM:+0200
TZOFFSETTO:+0300
TZNAME:EEST
DTSTART:20230326T010000
END:DAYLIGHT
BEGIN:STANDARD
TZOFFSETFROM:+0300
TZOFFSETTO:+0200
TZNAME:EET
DTSTART:20231029T010000
END:STANDARD
BEGIN:DAYLIGHT
TZOFFSETFROM:+0200
TZOFFSETTO:+0300
TZNAME:EEST
DTSTART:20240331T010000
END:DAYLIGHT
BEGIN:STANDARD
TZOFFSETFROM:+0300
TZOFFSETTO:+0200
TZNAME:EET
DTSTART:20241027T010000
END:STANDARD
END:VTIMEZONE
BEGIN:VEVENT
DTSTART;VALUE=DATE:20230112
DTEND;VALUE=DATE:20230113
DTSTAMP:20260419T200305
CREATED:20230105T110150Z
LAST-MODIFIED:20230105T110150Z
UID:20986-1673481600-1673567999@healthcapitalhelsinki.fi
SUMMARY:Call for companies with smart clothing\, fabrics or electronic skin solutions
DESCRIPTION:City of Helsinki’s health and social services and Forum Virium Helsinki are calling for companies with smart clothing\, fabrics or electronic skin solutions for a co-creation collaboration of 3-6 months. \nRead more (in Finnish) and send a description of your solution by 12 January! \nAll companies that have submitted their description will get a meeting with City of Helsinki’s health and social services\, and the chosen technology will get €10\,000 and a pilot with the City.
URL:https://healthcapitalhelsinki.fi/event/call-for-companies-with-smart-clothing-fabrics-or-electronic-skin-solutions/
CATEGORIES:Opportunities
END:VEVENT
BEGIN:VEVENT
DTSTART;VALUE=DATE:20230112
DTEND;VALUE=DATE:20230113
DTSTAMP:20260419T200305
CREATED:20230105T110235Z
LAST-MODIFIED:20230105T110235Z
UID:20989-1673481600-1673567999@healthcapitalhelsinki.fi
SUMMARY:Call for companies with social and assistive robots
DESCRIPTION:City of Helsinki’s health and social services and Forum Virium Helsinki are calling for companies with social and assistive robots for a co-creation collaboration of 3-6 months. \nRead more (in Finnish) and send a description of your solution by 12 January! \nAll companies that have submitted their description will get a meeting with City of Helsinki’s health and social services\, and the chosen technology will get €10\,000 and a pilot with the City.
URL:https://healthcapitalhelsinki.fi/event/call-for-companies-with-smart-clothing-fabrics-or-electronic-skin-solutions-copy/
CATEGORIES:Opportunities
END:VEVENT
END:VCALENDAR