BEGIN:VCALENDAR
VERSION:2.0
PRODID:-//Health Capital Helsinki - ECPv6.15.20//NONSGML v1.0//EN
CALSCALE:GREGORIAN
METHOD:PUBLISH
X-WR-CALNAME:Health Capital Helsinki
X-ORIGINAL-URL:https://healthcapitalhelsinki.fi
X-WR-CALDESC:Events for Health Capital Helsinki
REFRESH-INTERVAL;VALUE=DURATION:PT1H
X-Robots-Tag:noindex
X-PUBLISHED-TTL:PT1H
BEGIN:VTIMEZONE
TZID:Europe/Helsinki
BEGIN:DAYLIGHT
TZOFFSETFROM:+0200
TZOFFSETTO:+0300
TZNAME:EEST
DTSTART:20210328T010000
END:DAYLIGHT
BEGIN:STANDARD
TZOFFSETFROM:+0300
TZOFFSETTO:+0200
TZNAME:EET
DTSTART:20211031T010000
END:STANDARD
BEGIN:DAYLIGHT
TZOFFSETFROM:+0200
TZOFFSETTO:+0300
TZNAME:EEST
DTSTART:20220327T010000
END:DAYLIGHT
BEGIN:STANDARD
TZOFFSETFROM:+0300
TZOFFSETTO:+0200
TZNAME:EET
DTSTART:20221030T010000
END:STANDARD
BEGIN:DAYLIGHT
TZOFFSETFROM:+0200
TZOFFSETTO:+0300
TZNAME:EEST
DTSTART:20230326T010000
END:DAYLIGHT
BEGIN:STANDARD
TZOFFSETFROM:+0300
TZOFFSETTO:+0200
TZNAME:EET
DTSTART:20231029T010000
END:STANDARD
END:VTIMEZONE
BEGIN:VEVENT
DTSTART;VALUE=DATE:20221120
DTEND;VALUE=DATE:20221121
DTSTAMP:20260419T230606
CREATED:20221027T154145Z
LAST-MODIFIED:20221027T154145Z
UID:20655-1668902400-1668988799@healthcapitalhelsinki.fi
SUMMARY:Health Proof Helsinki: Productization workshop
DESCRIPTION:Entrepreneur in the health sector\, want to co-create productization path for your idea/product/service with experts? \nWelcome to participate in the first Health Proof Helsinki company workshop! Experts from Business Finland\, Health Capital Helsinki\, Health Incubator Helsinki and Health Proof Helsinki can exchange ideas with you on topics such as: funding\, regulation\, ethical guidelines/research permits\, growth potential and international potential\, test and research environments\, discussing your idea… \nIn addition\, you have a unique opportunity to visit the simulation hospital facilities at Metropolia University of Applied Sciences. \nSign up for the free-of-charge workshop by 20 November. Selected companies will be informed on 22 November. The workshop is held at Metropolia University of Applied Sciences\’ Myllypuro campus in Helsinki.
URL:https://healthcapitalhelsinki.fi/event/health-proof-helsinki-tuotteistamisen-workshop-yrityksille-in-finnish/
CATEGORIES:Opportunities
ATTACH;FMTTYPE=image/jpeg:https://healthcapitalhelsinki.fi/wp-content/uploads/2022/10/Health-Proof-Helsinki-Tuotteistamisen-workshop.jpeg
END:VEVENT
END:VCALENDAR