BEGIN:VCALENDAR
VERSION:2.0
PRODID:-//Health Capital Helsinki - ECPv6.15.20//NONSGML v1.0//EN
CALSCALE:GREGORIAN
METHOD:PUBLISH
X-WR-CALNAME:Health Capital Helsinki
X-ORIGINAL-URL:https://healthcapitalhelsinki.fi
X-WR-CALDESC:Events for Health Capital Helsinki
REFRESH-INTERVAL;VALUE=DURATION:PT1H
X-Robots-Tag:noindex
X-PUBLISHED-TTL:PT1H
BEGIN:VTIMEZONE
TZID:Europe/Helsinki
BEGIN:DAYLIGHT
TZOFFSETFROM:+0200
TZOFFSETTO:+0300
TZNAME:EEST
DTSTART:20210328T010000
END:DAYLIGHT
BEGIN:STANDARD
TZOFFSETFROM:+0300
TZOFFSETTO:+0200
TZNAME:EET
DTSTART:20211031T010000
END:STANDARD
BEGIN:DAYLIGHT
TZOFFSETFROM:+0200
TZOFFSETTO:+0300
TZNAME:EEST
DTSTART:20220327T010000
END:DAYLIGHT
BEGIN:STANDARD
TZOFFSETFROM:+0300
TZOFFSETTO:+0200
TZNAME:EET
DTSTART:20221030T010000
END:STANDARD
BEGIN:DAYLIGHT
TZOFFSETFROM:+0200
TZOFFSETTO:+0300
TZNAME:EEST
DTSTART:20230326T010000
END:DAYLIGHT
BEGIN:STANDARD
TZOFFSETFROM:+0300
TZOFFSETTO:+0200
TZNAME:EET
DTSTART:20231029T010000
END:STANDARD
END:VTIMEZONE
BEGIN:VEVENT
DTSTART;TZID=Europe/Helsinki:20221014T090000
DTEND;TZID=Europe/Helsinki:20221014T113000
DTSTAMP:20260420T002925
CREATED:20220923T105304Z
LAST-MODIFIED:20220923T105304Z
UID:20477-1665738000-1665747000@healthcapitalhelsinki.fi
SUMMARY:AI Webinar & Ideathon on Preventive Health Care
DESCRIPTION:Organiser: DT4Regions – network and Helsinki-Uusimaa Regional Council \nSmart use of AI powered health data contents is a great opportunity to improve public health system efficacy. For preventive healthcare\, AI can improve the accuracy and quality of treatment\, or slower the development of disease or even prevent some health issues occurring. \nTo find the new solutions for preventive healthcare we need the power of crows and cocreation. Join the movement\, be part of the solution for future health! \nBy the initiative of The European Parliament\, DT4Regions – network and Helsinki-Uusimaa Regional Council organises four ideathon session on Artificial Intelligence Potential in Preventive Healthcare: \n14 October 9-11.30 EET At DIAK University of Applied Sciences in Helsinki. The event is hybrid\, you can participate in-house or via Teams. \nThe ideas we be recycled and combined with new ones during the following sprint series: \n\n25 October 9-11.30 CET Online only\, focus in Denmark.\n28 October 9-11.30 CET Online only\, focus in Sweden.\n31 October 9-11.30 CET Online only\, focus in Norway.
URL:https://healthcapitalhelsinki.fi/event/ai-webinar-ideathon-on-preventive-health-care/
CATEGORIES:Events
END:VEVENT
BEGIN:VEVENT
DTSTART;TZID=Europe/Helsinki:20221014T090000
DTEND;TZID=Europe/Helsinki:20221014T120000
DTSTAMP:20260420T002925
CREATED:20220929T114636Z
LAST-MODIFIED:20220929T114636Z
UID:20502-1665738000-1665748800@healthcapitalhelsinki.fi
SUMMARY:Helsingin info ikäihmisten liikkumisen ja hyvinvoinnin parissa toimiville yrityksille (in Finnish)
DESCRIPTION:Järjestäjä: Helsingin kaupunki \nHelsingin kaupunki kutsuu ikäihmisten liikkumisen ja hyvinvoinnin parissa toimivia yrityksiä ja muita aiheesta kiinnostuneita kuulemaan ja keskustelemaan kaupungin tarjoamista yrityspalveluista ja kokeilutoiminnasta 14.10. \nEsittelyssä ovat Helsingin kaupungin liikkumisohjelma\, Testbed-kokeilualustatoiminta sekä NewCo Helsingin kasvuyritystiimin palvelut. Lisäksi tilaisuudessa kuullaan esityksiä kokeiluja toteuttaneilta yrityksiltä. \nIlmoittaudu nyt mukaan tapaamaan asiantuntijoita ja verkostoitumaan muiden toimijoiden kanssa!
URL:https://healthcapitalhelsinki.fi/event/infotilaisuus-ikaihmisten-liikkumisen-ja-hyvinvoinnin-parissa-toimiville-yrityksille-in-finnish/
CATEGORIES:Events
ATTACH;FMTTYPE=image/png:https://healthcapitalhelsinki.fi/wp-content/uploads/2018/04/Helsinki-logo-black_small-02-02-1-scaled.png
END:VEVENT
END:VCALENDAR