BEGIN:VCALENDAR
VERSION:2.0
PRODID:-//Health Capital Helsinki - ECPv6.15.20//NONSGML v1.0//EN
CALSCALE:GREGORIAN
METHOD:PUBLISH
X-WR-CALNAME:Health Capital Helsinki
X-ORIGINAL-URL:https://healthcapitalhelsinki.fi
X-WR-CALDESC:Events for Health Capital Helsinki
REFRESH-INTERVAL;VALUE=DURATION:PT1H
X-Robots-Tag:noindex
X-PUBLISHED-TTL:PT1H
BEGIN:VTIMEZONE
TZID:Europe/Helsinki
BEGIN:DAYLIGHT
TZOFFSETFROM:+0200
TZOFFSETTO:+0300
TZNAME:EEST
DTSTART:20210328T010000
END:DAYLIGHT
BEGIN:STANDARD
TZOFFSETFROM:+0300
TZOFFSETTO:+0200
TZNAME:EET
DTSTART:20211031T010000
END:STANDARD
BEGIN:DAYLIGHT
TZOFFSETFROM:+0200
TZOFFSETTO:+0300
TZNAME:EEST
DTSTART:20220327T010000
END:DAYLIGHT
BEGIN:STANDARD
TZOFFSETFROM:+0300
TZOFFSETTO:+0200
TZNAME:EET
DTSTART:20221030T010000
END:STANDARD
BEGIN:DAYLIGHT
TZOFFSETFROM:+0200
TZOFFSETTO:+0300
TZNAME:EEST
DTSTART:20230326T010000
END:DAYLIGHT
BEGIN:STANDARD
TZOFFSETFROM:+0300
TZOFFSETTO:+0200
TZNAME:EET
DTSTART:20231029T010000
END:STANDARD
END:VTIMEZONE
BEGIN:VEVENT
DTSTART;VALUE=DATE:20221004
DTEND;VALUE=DATE:20221006
DTSTAMP:20260420T002925
CREATED:20220812T124016Z
LAST-MODIFIED:20220812T124016Z
UID:20214-1664841600-1665014399@healthcapitalhelsinki.fi
SUMMARY:4th Digital Health Society Summit 2022
DESCRIPTION:Organiser: Digital Health Society (DHS) \nThe 2-Day free Virtual Summit promotes the latest thought leadership of the DHS\, showcases innovation\, research\, European funded projects and addresses the latest digital and data challenges facing digital health. \nThe Summit will focus on the topic “Data & Digital services to support the recovery of health systems across the globe” which is one of the 3 themes of the Global Health Connector Partnership Flagship events in 2022 in the US (Boston\, Las Vegas and Washington)\, India (New Delhi)\, Africa (Kenya)\, Spain (Barcelona) and Switzerland. The DHS Summit will build on almost 1000 registrations from 68 countries across the globe.
URL:https://healthcapitalhelsinki.fi/event/4th-digital-health-society-summit-2022/
CATEGORIES:Events
ATTACH;FMTTYPE=image/png:https://healthcapitalhelsinki.fi/wp-content/uploads/2022/08/DHSS-22.png
END:VEVENT
BEGIN:VEVENT
DTSTART;TZID=Europe/Helsinki:20221004T080000
DTEND;TZID=Europe/Helsinki:20221004T090000
DTSTAMP:20260420T002925
CREATED:20220913T111228Z
LAST-MODIFIED:20220913T111228Z
UID:20436-1664870400-1664874000@healthcapitalhelsinki.fi
SUMMARY:Health Tuesday: Boosting growth with Team Finland funding
DESCRIPTION:Organiser: Business Finland \nSeveral governmental organizations provide public funding for growth companies. Are you familiar with the possibilities provided by these organizations? Do you know the differences between their services? \nJoin next Health Tuesday and learn how ELY centers\, Finnvera and Business Finland can support companies on their way towards growth and internationalization.
URL:https://healthcapitalhelsinki.fi/event/health-tuesday-boosting-growth-with-team-finland-funding/
CATEGORIES:Events
END:VEVENT
BEGIN:VEVENT
DTSTART;TZID=Europe/Helsinki:20221004T143000
DTEND;TZID=Europe/Helsinki:20221004T160000
DTSTAMP:20260420T002925
CREATED:20220908T114039Z
LAST-MODIFIED:20220908T114039Z
UID:20400-1664893800-1664899200@healthcapitalhelsinki.fi
SUMMARY:Founder\, Entrepreneur\, Licensee: Comparing alternative paths toward commercializing research results
DESCRIPTION:Organiser: Aalto University\, HiLIFE (the University of Helsinki) and Terkko Health Hub \nWelcome to the next event from the Health Talks series\, comparing alternative paths toward commercializing research results. \nOftentimes\, scientists may believe that participating in research commercialization and entrepreneurship means giving up one’s research career. However\, this does not need to be so. \nIn the event\, you will hear the story of three experienced scientists who took alternative paths to commercialize their promising research results. \nSpeakers: \n\nRisto Ilmoniemi – Distinguished Professor at Aalto University and founder and former CEO of Nexstim\nVincenzo Cerullo – Professor at the Faculty of Pharmacy of the University of Helsinki and founder of Valo Therapeutics\nJussi Hepojoki – Docent and Academy Research Fellow at the Faculty of Medicine of the University of Helsinki\n\nThe event is free of charge and is organised as hybrid: both at Terkko Health Hub and online. \nRegister here! For more info check the Health Talks website.
URL:https://healthcapitalhelsinki.fi/event/founder-entrepreneur-licensee-comparing-alternative-paths-toward-commercializing-research-results/
CATEGORIES:Events
ATTACH;FMTTYPE=image/jpeg:https://healthcapitalhelsinki.fi/wp-content/uploads/2022/09/Health-Talks-Oct-2022.jpg
END:VEVENT
END:VCALENDAR