BEGIN:VCALENDAR
VERSION:2.0
PRODID:-//Health Capital Helsinki - ECPv6.15.20//NONSGML v1.0//EN
CALSCALE:GREGORIAN
METHOD:PUBLISH
X-WR-CALNAME:Health Capital Helsinki
X-ORIGINAL-URL:https://healthcapitalhelsinki.fi
X-WR-CALDESC:Events for Health Capital Helsinki
REFRESH-INTERVAL;VALUE=DURATION:PT1H
X-Robots-Tag:noindex
X-PUBLISHED-TTL:PT1H
BEGIN:VTIMEZONE
TZID:Europe/Helsinki
BEGIN:DAYLIGHT
TZOFFSETFROM:+0200
TZOFFSETTO:+0300
TZNAME:EEST
DTSTART:20210328T010000
END:DAYLIGHT
BEGIN:STANDARD
TZOFFSETFROM:+0300
TZOFFSETTO:+0200
TZNAME:EET
DTSTART:20211031T010000
END:STANDARD
BEGIN:DAYLIGHT
TZOFFSETFROM:+0200
TZOFFSETTO:+0300
TZNAME:EEST
DTSTART:20220327T010000
END:DAYLIGHT
BEGIN:STANDARD
TZOFFSETFROM:+0300
TZOFFSETTO:+0200
TZNAME:EET
DTSTART:20221030T010000
END:STANDARD
BEGIN:DAYLIGHT
TZOFFSETFROM:+0200
TZOFFSETTO:+0300
TZNAME:EEST
DTSTART:20230326T010000
END:DAYLIGHT
BEGIN:STANDARD
TZOFFSETFROM:+0300
TZOFFSETTO:+0200
TZNAME:EET
DTSTART:20231029T010000
END:STANDARD
END:VTIMEZONE
BEGIN:VEVENT
DTSTART;VALUE=DATE:20220930
DTEND;VALUE=DATE:20221001
DTSTAMP:20260420T002923
CREATED:20220912T155602Z
LAST-MODIFIED:20220912T155602Z
UID:20431-1664496000-1664582399@healthcapitalhelsinki.fi
SUMMARY:Thesis work for your company?
DESCRIPTION:Metropolia University of Applied Sciences has started a new batch of MedTech master’s programme and there are now new international master students looking for thesis topics. Does your company have a thesis topic for a student? \nThe students have a Bachelor level engineering degree\, for example from ICT\, health informatics\, automation\, electronics\, electrical engineering and industrial management\, and at least two years of working life experience as a prerequisite for admission to the master\’s program. In the master programme\, they want to deepen their knowledge\, skills and competences in medical technology to capture new career opportunities for the future. \nThe thesis topics could be related to development of medical devices\, for example\, to (but not limited to): \n\nregulatory requirements and standards\,\nsafety related usability\,\nmedical devices and their environments of use\,\nmedical device life cycle\,\nrisk or quality management\,\ninnovations processes\,\nbusiness activities\, or\nspecial research topics.\n\nMetropolia UAS is aiming that the students discuss and interview the potential company representatives and then make a proposal for the research and/or development work. \nTimeline: Research plan should be ready at the end of this year and the research and development activities would happen in spring 2023. \nDuring and after the thesis work\, master\’s degree students could be potential employees for the field of health technology. \nInterested? Please contact by 30 September:\nPäivi Haho\, paivi.haho@metropolia.fi\, tel. +358 40 167 7990\nMikael Soini\, mikael.soini@metropolia.fi\, tel. + 358 40 652 8887\nSakari Lukkarinen\, sakari.lukkarinen@metropolia.fi\, tel. +358 40 670 99 33
URL:https://healthcapitalhelsinki.fi/event/thesis-work-for-your-company/
CATEGORIES:Opportunities
ATTACH;FMTTYPE=image/png:https://healthcapitalhelsinki.fi/wp-content/uploads/2020/02/Metropolia.png
END:VEVENT
END:VCALENDAR