BEGIN:VCALENDAR
VERSION:2.0
PRODID:-//Health Capital Helsinki - ECPv6.15.20//NONSGML v1.0//EN
CALSCALE:GREGORIAN
METHOD:PUBLISH
X-WR-CALNAME:Health Capital Helsinki
X-ORIGINAL-URL:https://healthcapitalhelsinki.fi
X-WR-CALDESC:Events for Health Capital Helsinki
REFRESH-INTERVAL;VALUE=DURATION:PT1H
X-Robots-Tag:noindex
X-PUBLISHED-TTL:PT1H
BEGIN:VTIMEZONE
TZID:Europe/Helsinki
BEGIN:DAYLIGHT
TZOFFSETFROM:+0200
TZOFFSETTO:+0300
TZNAME:EEST
DTSTART:20210328T010000
END:DAYLIGHT
BEGIN:STANDARD
TZOFFSETFROM:+0300
TZOFFSETTO:+0200
TZNAME:EET
DTSTART:20211031T010000
END:STANDARD
BEGIN:DAYLIGHT
TZOFFSETFROM:+0200
TZOFFSETTO:+0300
TZNAME:EEST
DTSTART:20220327T010000
END:DAYLIGHT
BEGIN:STANDARD
TZOFFSETFROM:+0300
TZOFFSETTO:+0200
TZNAME:EET
DTSTART:20221030T010000
END:STANDARD
BEGIN:DAYLIGHT
TZOFFSETFROM:+0200
TZOFFSETTO:+0300
TZNAME:EEST
DTSTART:20230326T010000
END:DAYLIGHT
BEGIN:STANDARD
TZOFFSETFROM:+0300
TZOFFSETTO:+0200
TZNAME:EET
DTSTART:20231029T010000
END:STANDARD
END:VTIMEZONE
BEGIN:VEVENT
DTSTART;TZID=Europe/Helsinki:20220927T133000
DTEND;TZID=Europe/Helsinki:20220927T163000
DTSTAMP:20260420T002922
CREATED:20220831T160812Z
LAST-MODIFIED:20220831T160812Z
UID:20357-1664285400-1664296200@healthcapitalhelsinki.fi
SUMMARY:Seminar on future hospitals: Sweden-Finland knowledge exchange
DESCRIPTION:Organiser: Nordic Center for Sustainable Healthcare (NCSH) in Sweden and Business Finland \nEurope is investing in a greener and more digital society for a more sustainable and resilient future post-pandemic. The healthcare sector and hospitals in particular are in urgent need of modernizing to meet the future demographics challenges\, and to create growth. \nSweden and Finland are two nations in the forefront in technology and culture in designing\, building and equipping the future hospitals. In this seminar\, we learn from each other with the goal of creating stronger Nordic offers and branding globally. \nWho should attend? Finnish and Swedish stakeholders interested in knowledge exchange on state-of-the-art in Future Hospitals design and construction.
URL:https://healthcapitalhelsinki.fi/event/seminar-on-future-hospitals-sweden-finland-knowledge-exchange/
CATEGORIES:Events
END:VEVENT
END:VCALENDAR