BEGIN:VCALENDAR
VERSION:2.0
PRODID:-//Health Capital Helsinki - ECPv6.15.20//NONSGML v1.0//EN
CALSCALE:GREGORIAN
METHOD:PUBLISH
X-ORIGINAL-URL:https://healthcapitalhelsinki.fi
X-WR-CALDESC:Events for Health Capital Helsinki
REFRESH-INTERVAL;VALUE=DURATION:PT1H
X-Robots-Tag:noindex
X-PUBLISHED-TTL:PT1H
BEGIN:VTIMEZONE
TZID:Europe/Helsinki
BEGIN:DAYLIGHT
TZOFFSETFROM:+0200
TZOFFSETTO:+0300
TZNAME:EEST
DTSTART:20210328T010000
END:DAYLIGHT
BEGIN:STANDARD
TZOFFSETFROM:+0300
TZOFFSETTO:+0200
TZNAME:EET
DTSTART:20211031T010000
END:STANDARD
BEGIN:DAYLIGHT
TZOFFSETFROM:+0200
TZOFFSETTO:+0300
TZNAME:EEST
DTSTART:20220327T010000
END:DAYLIGHT
BEGIN:STANDARD
TZOFFSETFROM:+0300
TZOFFSETTO:+0200
TZNAME:EET
DTSTART:20221030T010000
END:STANDARD
BEGIN:DAYLIGHT
TZOFFSETFROM:+0200
TZOFFSETTO:+0300
TZNAME:EEST
DTSTART:20230326T010000
END:DAYLIGHT
BEGIN:STANDARD
TZOFFSETFROM:+0300
TZOFFSETTO:+0200
TZNAME:EET
DTSTART:20231029T010000
END:STANDARD
END:VTIMEZONE
BEGIN:VEVENT
DTSTART;VALUE=DATE:20220914
DTEND;VALUE=DATE:20220916
DTSTAMP:20260420T015134
CREATED:20220805T141811Z
LAST-MODIFIED:20220805T141811Z
UID:20174-1663113600-1663286399@healthcapitalhelsinki.fi
SUMMARY:HealthBIO seminar and partnering event
DESCRIPTION:Organiser: Turku Business Region\, Health Turku and EEN \nWelcome to HealthBIO 2022 event! \n\nHealthBIO Seminar\, 14 September at 10.30-16.00 (Presidentti auditorium\, BioCity\, Tykistökatu 6\, Turku)\nConfirmed speakers include: Marcel van Duin (Organon)\, Pekka Simula (Innovestor Ventures)\, Jyrki Liljeroos (National Drug Development Centre)\, Juhana Rauramo (HyTest)\nHealthBIO Get together\, 14 September\, at 18.30-22.00 (Scandic Hamburger Börs\, Kauppiaskatu 6\, Turku)\nHealthBIO 2022 Partnering Event and Pitching Competition\, 15 September (SparkUp premises\, ElektroCity\, Tykistökatu 4\, Turku) and 20 September (online)\n\nRegister for the events by 6 September.
URL:https://healthcapitalhelsinki.fi/event/healthbio-seminar-and-partnering-event/
CATEGORIES:Events
ATTACH;FMTTYPE=image/jpeg:https://healthcapitalhelsinki.fi/wp-content/uploads/2020/08/HEALTHBIO_vaaka.jpg
END:VEVENT
BEGIN:VEVENT
DTSTART;TZID=Europe/Helsinki:20220915T120000
DTEND;TZID=Europe/Helsinki:20220915T133000
DTSTAMP:20260420T015134
CREATED:20220831T160304Z
LAST-MODIFIED:20220831T160304Z
UID:20351-1663243200-1663248600@healthcapitalhelsinki.fi
SUMMARY:Healthcare sector investments & transformation in Baltic states
DESCRIPTION:Organiser: Business Finland \nFollowing Business Finland\’s introduction into healthcare RRF-related webinars last year\, now it\’s time for this event to provide deeper insights on the planned and current developments taking place in Baltic healthcare markets and the rising opportunities for Finnish companies.
URL:https://healthcapitalhelsinki.fi/event/healthcare-sector-investments-transformation-in-baltic-states/
CATEGORIES:Events
END:VEVENT
END:VCALENDAR