BEGIN:VCALENDAR
VERSION:2.0
PRODID:-//Health Capital Helsinki - ECPv6.15.20//NONSGML v1.0//EN
CALSCALE:GREGORIAN
METHOD:PUBLISH
X-ORIGINAL-URL:https://healthcapitalhelsinki.fi
X-WR-CALDESC:Events for Health Capital Helsinki
REFRESH-INTERVAL;VALUE=DURATION:PT1H
X-Robots-Tag:noindex
X-PUBLISHED-TTL:PT1H
BEGIN:VTIMEZONE
TZID:Europe/Helsinki
BEGIN:DAYLIGHT
TZOFFSETFROM:+0200
TZOFFSETTO:+0300
TZNAME:EEST
DTSTART:20210328T010000
END:DAYLIGHT
BEGIN:STANDARD
TZOFFSETFROM:+0300
TZOFFSETTO:+0200
TZNAME:EET
DTSTART:20211031T010000
END:STANDARD
BEGIN:DAYLIGHT
TZOFFSETFROM:+0200
TZOFFSETTO:+0300
TZNAME:EEST
DTSTART:20220327T010000
END:DAYLIGHT
BEGIN:STANDARD
TZOFFSETFROM:+0300
TZOFFSETTO:+0200
TZNAME:EET
DTSTART:20221030T010000
END:STANDARD
BEGIN:DAYLIGHT
TZOFFSETFROM:+0200
TZOFFSETTO:+0300
TZNAME:EEST
DTSTART:20230326T010000
END:DAYLIGHT
BEGIN:STANDARD
TZOFFSETFROM:+0300
TZOFFSETTO:+0200
TZNAME:EET
DTSTART:20231029T010000
END:STANDARD
END:VTIMEZONE
BEGIN:VEVENT
DTSTART;VALUE=DATE:20220911
DTEND;VALUE=DATE:20220912
DTSTAMP:20260420T015135
CREATED:20220621T112835Z
LAST-MODIFIED:20220621T112835Z
UID:20088-1662854400-1662940799@healthcapitalhelsinki.fi
SUMMARY:Terkko Health X pre-incubator programme
DESCRIPTION:The health industry needs new innovative solutions – is your team the one to provide them? Terkko Health X\, an ambitious pre-incubator programme for health and life sciences\, takes place from 24 September until 4 November 2022. \nThe programme is targeted for early stage teams with ambition to create impactful solutions that solve real healthcare problems. You bring the ideas – we help you build up the right skills and capabilities to take your health and life science concept into the market. Application period for the programme is from 15 August until 11 September 2022. \nThe programme aims at supporting entrepreneurship based in Finland. Terkko Health X is co-organized by Terkko Health Hub and Helsinki Think Company. This year\, the programme is also officially part of the University of Helsinki’s Helsinki Incubators.
URL:https://healthcapitalhelsinki.fi/event/terkko-health-x-pre-incubator-programme/
CATEGORIES:Opportunities
END:VEVENT
END:VCALENDAR