BEGIN:VCALENDAR
VERSION:2.0
PRODID:-//Health Capital Helsinki - ECPv6.15.20//NONSGML v1.0//EN
CALSCALE:GREGORIAN
METHOD:PUBLISH
X-ORIGINAL-URL:https://healthcapitalhelsinki.fi
X-WR-CALDESC:Events for Health Capital Helsinki
REFRESH-INTERVAL;VALUE=DURATION:PT1H
X-Robots-Tag:noindex
X-PUBLISHED-TTL:PT1H
BEGIN:VTIMEZONE
TZID:Europe/Helsinki
BEGIN:DAYLIGHT
TZOFFSETFROM:+0200
TZOFFSETTO:+0300
TZNAME:EEST
DTSTART:20210328T010000
END:DAYLIGHT
BEGIN:STANDARD
TZOFFSETFROM:+0300
TZOFFSETTO:+0200
TZNAME:EET
DTSTART:20211031T010000
END:STANDARD
BEGIN:DAYLIGHT
TZOFFSETFROM:+0200
TZOFFSETTO:+0300
TZNAME:EEST
DTSTART:20220327T010000
END:DAYLIGHT
BEGIN:STANDARD
TZOFFSETFROM:+0300
TZOFFSETTO:+0200
TZNAME:EET
DTSTART:20221030T010000
END:STANDARD
BEGIN:DAYLIGHT
TZOFFSETFROM:+0200
TZOFFSETTO:+0300
TZNAME:EEST
DTSTART:20230326T010000
END:DAYLIGHT
BEGIN:STANDARD
TZOFFSETFROM:+0300
TZOFFSETTO:+0200
TZNAME:EET
DTSTART:20231029T010000
END:STANDARD
END:VTIMEZONE
BEGIN:VEVENT
DTSTART;TZID=Europe/Helsinki:20220901T160000
DTEND;TZID=Europe/Helsinki:20220901T173000
DTSTAMP:20260420T015136
CREATED:20220812T122258Z
LAST-MODIFIED:20220812T122258Z
UID:20208-1662048000-1662053400@healthcapitalhelsinki.fi
SUMMARY:UK accelerator \"Propel@YH Nordic\" intro webinar
DESCRIPTION:Looking towards the UK market and want to gain six months’ worth of market research\, networking\, and market development support in just one week? Join the introductory webinar of the Propel@YH Nordic Boot Camp accelerator on 1 September. \nPropel@YH Nordic Boot Camp is a tailor-made accelerator program for Nordic-based companies who want to bring their products to the UK healthcare market. The program builds on the success of an accelerator program organized by the Yorkshire and Humber Academic Health Science Network (AHSN) since 2019\, and gives Nordic innovators access to five days of intensive support\, knowledge and engagement with UK healthcare experts. \nRead more and sign up for the intro webinar!
URL:https://healthcapitalhelsinki.fi/event/uk-accelerator-propelyh-nordic-intro-webinar/
CATEGORIES:Opportunities
END:VEVENT
END:VCALENDAR