BEGIN:VCALENDAR
VERSION:2.0
PRODID:-//Health Capital Helsinki - ECPv6.15.20//NONSGML v1.0//EN
CALSCALE:GREGORIAN
METHOD:PUBLISH
X-ORIGINAL-URL:https://healthcapitalhelsinki.fi
X-WR-CALDESC:Events for Health Capital Helsinki
REFRESH-INTERVAL;VALUE=DURATION:PT1H
X-Robots-Tag:noindex
X-PUBLISHED-TTL:PT1H
BEGIN:VTIMEZONE
TZID:Europe/Helsinki
BEGIN:DAYLIGHT
TZOFFSETFROM:+0200
TZOFFSETTO:+0300
TZNAME:EEST
DTSTART:20210328T010000
END:DAYLIGHT
BEGIN:STANDARD
TZOFFSETFROM:+0300
TZOFFSETTO:+0200
TZNAME:EET
DTSTART:20211031T010000
END:STANDARD
BEGIN:DAYLIGHT
TZOFFSETFROM:+0200
TZOFFSETTO:+0300
TZNAME:EEST
DTSTART:20220327T010000
END:DAYLIGHT
BEGIN:STANDARD
TZOFFSETFROM:+0300
TZOFFSETTO:+0200
TZNAME:EET
DTSTART:20221030T010000
END:STANDARD
BEGIN:DAYLIGHT
TZOFFSETFROM:+0200
TZOFFSETTO:+0300
TZNAME:EEST
DTSTART:20230326T010000
END:DAYLIGHT
BEGIN:STANDARD
TZOFFSETFROM:+0300
TZOFFSETTO:+0200
TZNAME:EET
DTSTART:20231029T010000
END:STANDARD
END:VTIMEZONE
BEGIN:VEVENT
DTSTART;VALUE=DATE:20220826
DTEND;VALUE=DATE:20220829
DTSTAMP:20260420T031758
CREATED:20220621T113622Z
LAST-MODIFIED:20220621T113622Z
UID:20095-1661472000-1661731199@healthcapitalhelsinki.fi
SUMMARY:Finnish HealthTech Delegation to Israel\, 13-15 September 2022
DESCRIPTION:Team Finland will organize a HealthTech delegation to Israel on 13-15 September\, 2022. \nObjective of the delegation is to meet the key HealthTech stakeholders including investors\, hospitals and their innovation labs like Clalit Innovation\, Assuta Hospital\, ARC Sheba\, Ichilov IMed TLV and many more!  Aim is to find validation\, pilot\, testbed and business opportunities for Finnish companies. \nCheck out the recently held info webinar recording and/or the webinar slides. \nSign up here the latest by 26 August! \nFor more information\, contact Sami Jääskeläinen\, Counsellor\, Trade and Investment\, Embassy of Finland\, Tel Aviv
URL:https://healthcapitalhelsinki.fi/event/finnish-healthtech-delegation-to-israel-13-15-september-2022-2/
CATEGORIES:Opportunities
END:VEVENT
BEGIN:VEVENT
DTSTART;VALUE=DATE:20220828
DTEND;VALUE=DATE:20220829
DTSTAMP:20260420T031758
CREATED:20220622T131947Z
LAST-MODIFIED:20220622T131947Z
UID:20098-1661644800-1661731199@healthcapitalhelsinki.fi
SUMMARY:Break into the MedTech industry with Meet&Match.Dx
DESCRIPTION:The Meet & Match.Dx programme is a challenge-based acceleration programme that connects SMEs developing breakthrough diagnostic solutions with major pharmaceutical and medical technology companies in Europe through tailored workshops\, unparalleled exposure to industry executives and decision makers and one-to-one pitching sessions\, with the aim to explore partnership opportunities. \n2022 Challenges: \n\nNon-invasive tools to measure nutrient status in children and adults in collaboration with Abbott\nAccurate\, real-time visualization of tumors during oncology resection surgeries in collaboration with Medtronic\nPoint-of-care test for allergy in collaboration with ThermoFisher Scientific\nDisruptive solutions for early disease idenification and interdisciplinary treatment of eosinophilic diseases in collaboration with GlaxoSmithKline GmbH & Co. KG\n\nWebinars to get more info about the programme and the application process: \n\n5 July\, 2022\, 11 am CET – Register here\n26 July\, 2022\, 11 am CET – Register here\n16 August\, 2022\, 11 am CET – Register here\n\nApply by 28 August!
URL:https://healthcapitalhelsinki.fi/event/break-into-the-medtech-industry-with-meetmatch-dx/
CATEGORIES:Opportunities
ATTACH;FMTTYPE=image/png:https://healthcapitalhelsinki.fi/wp-content/uploads/2022/06/meet-match.png
END:VEVENT
END:VCALENDAR