BEGIN:VCALENDAR
VERSION:2.0
PRODID:-//Health Capital Helsinki - ECPv6.15.20//NONSGML v1.0//EN
CALSCALE:GREGORIAN
METHOD:PUBLISH
X-WR-CALNAME:Health Capital Helsinki
X-ORIGINAL-URL:https://healthcapitalhelsinki.fi
X-WR-CALDESC:Events for Health Capital Helsinki
REFRESH-INTERVAL;VALUE=DURATION:PT1H
X-Robots-Tag:noindex
X-PUBLISHED-TTL:PT1H
BEGIN:VTIMEZONE
TZID:Europe/Helsinki
BEGIN:DAYLIGHT
TZOFFSETFROM:+0200
TZOFFSETTO:+0300
TZNAME:EEST
DTSTART:20210328T010000
END:DAYLIGHT
BEGIN:STANDARD
TZOFFSETFROM:+0300
TZOFFSETTO:+0200
TZNAME:EET
DTSTART:20211031T010000
END:STANDARD
BEGIN:DAYLIGHT
TZOFFSETFROM:+0200
TZOFFSETTO:+0300
TZNAME:EEST
DTSTART:20220327T010000
END:DAYLIGHT
BEGIN:STANDARD
TZOFFSETFROM:+0300
TZOFFSETTO:+0200
TZNAME:EET
DTSTART:20221030T010000
END:STANDARD
BEGIN:DAYLIGHT
TZOFFSETFROM:+0200
TZOFFSETTO:+0300
TZNAME:EEST
DTSTART:20230326T010000
END:DAYLIGHT
BEGIN:STANDARD
TZOFFSETFROM:+0300
TZOFFSETTO:+0200
TZNAME:EET
DTSTART:20231029T010000
END:STANDARD
END:VTIMEZONE
BEGIN:VEVENT
DTSTART;VALUE=DATE:20220614
DTEND;VALUE=DATE:20220617
DTSTAMP:20260420T061201
CREATED:20210409T141939Z
LAST-MODIFIED:20210409T141939Z
UID:16618-1655164800-1655423999@healthcapitalhelsinki.fi
SUMMARY:The 2022 HIMMS & Health 2.0 European Health Conference
DESCRIPTION:Organiser: HIMSS with Finnish partners \nThe 2022 HIMSS European Health Conference & Exhibition brings the European healthcare community back together in Helsinki\, Finland. It will feature HIMSS\’s knowledge\, expertise and thought leadership in healthcare digitisation\, and Accelerate Health’s network of entrepreneurs and investors showcasing the latest and most innovative health tech solutions. \nThe Finnish Pavilion\, organised by the Finnish partners of the congress\, will present Finnish companies and program\, highlighting Finland’s pioneering role in accelerating digital change. \nJoin the European healthcare community for inspiration\, innovation\, and unrivalled networking opportunities for future collaborations! \nRegister here! Use Health Capital Helsinki\’s code HEPT1 and get a 15% discount for the tickets.
URL:https://healthcapitalhelsinki.fi/event/himms-health-2-0-european-health-conference-exhibition-copy/
CATEGORIES:Events
ATTACH;FMTTYPE=image/jpeg:https://healthcapitalhelsinki.fi/wp-content/uploads/2021/04/web_xs-HIMSS22_EU_logo_shortDate_white.jpg
END:VEVENT
BEGIN:VEVENT
DTSTART;VALUE=DATE:20220615
DTEND;VALUE=DATE:20220616
DTSTAMP:20260420T061201
CREATED:20220211T105805Z
LAST-MODIFIED:20220211T105805Z
UID:19312-1655251200-1655337599@healthcapitalhelsinki.fi
SUMMARY:MedFIT 2022 Pitch Sessions
DESCRIPTION:Are you searching for the perfect place to present your innovative project or technology? Don’t miss your opportunity to pitch your innovation in front of the right audience in the MedTech\, Diagnostic and Digital Health sectors at the MedFit Pitch Sessions held on September 20–21\, 2022! \nThe selected companies will get: \n\nA 5-minute presentation timeslot in front of a jury of experts and an audience\nSpeed-mentoring from experts to boost the development of your project\nEnhanced visibility among potential partners and investors\nDedicated meeting space at the heart of the MedFIT exhibition area\nA presentation of your project on the event website and in the print programme\nThe opportunity to win and be recognised as the most innovative project in the sector\n\nFind out which pitching session is the right fit for you here and send your application by June 15th. \n 
URL:https://healthcapitalhelsinki.fi/event/medfit-pitch-sessions-2022/
CATEGORIES:Opportunities
ATTACH;FMTTYPE=image/png:https://healthcapitalhelsinki.fi/wp-content/uploads/2022/02/Nayttokuva-2022-02-11-kello-10.57.00.png
END:VEVENT
BEGIN:VEVENT
DTSTART;TZID=Europe/Helsinki:20220615T100000
DTEND;TZID=Europe/Helsinki:20220615T113000
DTSTAMP:20260420T061201
CREATED:20220607T141810Z
LAST-MODIFIED:20220607T141810Z
UID:20070-1655287200-1655292600@healthcapitalhelsinki.fi
SUMMARY:Health Talks: Planetary Health Innovation
DESCRIPTION:Organisers: HiLIFE\, INAR\, and Health Talks \nWelcome to the next event from the Health Talks series on Planetary Health. \nThe concept of planetary health is calling us to tackle the Global Challenges of the environment\, climate and human health as one interlinked whole. The health of humanity cannot thrive in an ill environment. In this Health Talks event\, we bring together science innovators who are offering solutions for clean air\, water and a resilient biodiversity\, for a healthy planet and us. \nSpeakers:\nAndrew Rebeiro-Hargrave – Chief Technology Officer of MegaSense\nDalial Freitak – Founder & Chief Science Officer of Dalan Animal Health\nMari Granström – Founder & Chief Science Activist of Origin by Ocean
URL:https://healthcapitalhelsinki.fi/event/health-talks-planetary-health-innovation/
CATEGORIES:Events
ATTACH;FMTTYPE=image/png:https://healthcapitalhelsinki.fi/wp-content/uploads/2022/06/Screenshot-2022-06-07-at-14.16.59.png
END:VEVENT
END:VCALENDAR