BEGIN:VCALENDAR
VERSION:2.0
PRODID:-//Health Capital Helsinki - ECPv6.15.20//NONSGML v1.0//EN
CALSCALE:GREGORIAN
METHOD:PUBLISH
X-ORIGINAL-URL:https://healthcapitalhelsinki.fi
X-WR-CALDESC:Events for Health Capital Helsinki
REFRESH-INTERVAL;VALUE=DURATION:PT1H
X-Robots-Tag:noindex
X-PUBLISHED-TTL:PT1H
BEGIN:VTIMEZONE
TZID:Europe/Helsinki
BEGIN:DAYLIGHT
TZOFFSETFROM:+0200
TZOFFSETTO:+0300
TZNAME:EEST
DTSTART:20210328T010000
END:DAYLIGHT
BEGIN:STANDARD
TZOFFSETFROM:+0300
TZOFFSETTO:+0200
TZNAME:EET
DTSTART:20211031T010000
END:STANDARD
BEGIN:DAYLIGHT
TZOFFSETFROM:+0200
TZOFFSETTO:+0300
TZNAME:EEST
DTSTART:20220327T010000
END:DAYLIGHT
BEGIN:STANDARD
TZOFFSETFROM:+0300
TZOFFSETTO:+0200
TZNAME:EET
DTSTART:20221030T010000
END:STANDARD
BEGIN:DAYLIGHT
TZOFFSETFROM:+0200
TZOFFSETTO:+0300
TZNAME:EEST
DTSTART:20230326T010000
END:DAYLIGHT
BEGIN:STANDARD
TZOFFSETFROM:+0300
TZOFFSETTO:+0200
TZNAME:EET
DTSTART:20231029T010000
END:STANDARD
END:VTIMEZONE
BEGIN:VEVENT
DTSTART;TZID=Europe/Helsinki:20220519T083000
DTEND;TZID=Europe/Helsinki:20220519T130000
DTSTAMP:20260420T073023
CREATED:20220425T144100Z
LAST-MODIFIED:20220425T144100Z
UID:19743-1652949000-1652965200@healthcapitalhelsinki.fi
SUMMARY:How to invest in Health & Life Sciences – Practical insights and examples
DESCRIPTION:Organiser: Business Finland\, Business Finland Venture Capital\, Health Capital Helsinki and Healthtech Finland \nHave you ever been curious about Health and Life Sciences as an investment opportunity? Now is your chance: Welcome to the How to invest in Health & Life Sciences event where specialised investors guide you through what should be taken into consideration when investing in health & life science startups and what the industry’s investment landscape looks like. \nThe free in-person event in Helsinki is aimed at Health & Life Sciences entrepreneurs\, angel investors\, institutional investors & family offices\, tech transfer specialists\, experts in the Health & Life Sciences sector\, and anyone interested in investing in Health & Life Sciences and eager to network with like-minded. \nRegister by 12 May!
URL:https://healthcapitalhelsinki.fi/event/how-to-invest-in-health-life-sciences-practical-insights-and-examples/
CATEGORIES:Events
ATTACH;FMTTYPE=image/jpeg:https://healthcapitalhelsinki.fi/wp-content/uploads/2022/04/photo-for-event-website2-scaled-1.jpg
END:VEVENT
BEGIN:VEVENT
DTSTART;TZID=Europe/Helsinki:20220519T090000
DTEND;TZID=Europe/Helsinki:20220519T103000
DTSTAMP:20260420T073023
CREATED:20220509T134302Z
LAST-MODIFIED:20220509T134302Z
UID:19813-1652950800-1652956200@healthcapitalhelsinki.fi
SUMMARY:Tekoäly töissä: Tekoäly ja palvelumuotoilu - miten asiakasymmärrystä voidaan rikastaa tekoälyllä (in Finnish)
DESCRIPTION:Järjestäjä: AI-TIE – Tekoälyinnovaatioekosysteemillä kilpailukykyä PK-yrityksille -hanke \nTekoäly töissä -sarjan kevään toisessa webinaarissa pureudutaan tapoihin\, joilla tekoäly voi tukea asiakaskeskeisten palvelujen kehittämistä. Tilaisuuden alustajana on Juha Kronqvist Hellonista. Juha Kronqvist puhuu tilaisuudessa otsikolla ”Keinoäly muotoilijoiden palveluksessa”. Alustuksessaan hän tuo esiin\, miten keinoäly mahdollistaa uuden sukupolven suunnittelijoiden työtä\, saa aikaan vaikuttavampia asiakaskokemuksia sekä mahdollistaa ajan käytön niihin asioihin joissa ihmiset ovat parhaimmillaan. \nIlmoittaudu mukaan 17.5. mennessä! Tilaisuus on maksuton. \nTekoäly töissä on yrityksille suunnattu webinaarisarja\, jossa rakennetaan ymmärrystä tekoälyn mahdollisuuksista liiketoiminnan digitalisoinnissa\, toiminnan digitalisoinnin sujuvasta käyttöönotosta\, tekoälyyn ja dataan liittyvästä sääntelystä\, teknologiamurroksen johtamiseen.
URL:https://healthcapitalhelsinki.fi/event/tekoaly-ja-palvelumuotoilu-miten-asiakasymmarrysta-voidaan-rikastaa-tekoalylla-in-finnish/
CATEGORIES:Events
ATTACH;FMTTYPE=image/png:https://healthcapitalhelsinki.fi/wp-content/uploads/2021/11/Nayttokuva-2021-11-02-kello-11.59.20.png
END:VEVENT
BEGIN:VEVENT
DTSTART;TZID=Europe/Helsinki:20220519T090000
DTEND;TZID=Europe/Helsinki:20220519T150000
DTSTAMP:20260420T073023
CREATED:20220504T155909Z
LAST-MODIFIED:20220504T155909Z
UID:19804-1652950800-1652972400@healthcapitalhelsinki.fi
SUMMARY:Czech-Finnish Nanotechnology in Healthtech Day
DESCRIPTION:Organiser: Embassy of the Czech Republic \nWelcome to the Embassy of the Czech Republic to meet and network with Czech companies and to explore new and exciting business opportunities in nanotechnology! \nModerated by Dr. Johana Kuncova-Kallio\, UPM-Kymmene Corp.\, Director\, UPM Biomedicals \n9-12:30\nOpening speech of the Czech Ambassador\, H.E. Adam Vojtěch\nPresentations\, Q&A\n12.30-13.30 Networking lunch\n13.30-15.00 B2B negotiations \nRegister here
URL:https://healthcapitalhelsinki.fi/event/czech-finnish-nanotechnology-in-healthtech-day/
CATEGORIES:Events
END:VEVENT
END:VCALENDAR