BEGIN:VCALENDAR
VERSION:2.0
PRODID:-//Health Capital Helsinki - ECPv6.15.20//NONSGML v1.0//EN
CALSCALE:GREGORIAN
METHOD:PUBLISH
X-WR-CALNAME:Health Capital Helsinki
X-ORIGINAL-URL:https://healthcapitalhelsinki.fi
X-WR-CALDESC:Events for Health Capital Helsinki
REFRESH-INTERVAL;VALUE=DURATION:PT1H
X-Robots-Tag:noindex
X-PUBLISHED-TTL:PT1H
BEGIN:VTIMEZONE
TZID:Europe/Helsinki
BEGIN:DAYLIGHT
TZOFFSETFROM:+0200
TZOFFSETTO:+0300
TZNAME:EEST
DTSTART:20210328T010000
END:DAYLIGHT
BEGIN:STANDARD
TZOFFSETFROM:+0300
TZOFFSETTO:+0200
TZNAME:EET
DTSTART:20211031T010000
END:STANDARD
BEGIN:DAYLIGHT
TZOFFSETFROM:+0200
TZOFFSETTO:+0300
TZNAME:EEST
DTSTART:20220327T010000
END:DAYLIGHT
BEGIN:STANDARD
TZOFFSETFROM:+0300
TZOFFSETTO:+0200
TZNAME:EET
DTSTART:20221030T010000
END:STANDARD
BEGIN:DAYLIGHT
TZOFFSETFROM:+0200
TZOFFSETTO:+0300
TZNAME:EEST
DTSTART:20230326T010000
END:DAYLIGHT
BEGIN:STANDARD
TZOFFSETFROM:+0300
TZOFFSETTO:+0200
TZNAME:EET
DTSTART:20231029T010000
END:STANDARD
END:VTIMEZONE
BEGIN:VEVENT
DTSTART;VALUE=DATE:20220511
DTEND;VALUE=DATE:20220512
DTSTAMP:20260420T073009
CREATED:20220408T113746Z
LAST-MODIFIED:20220408T113746Z
UID:19653-1652227200-1652313599@healthcapitalhelsinki.fi
SUMMARY:Nordea Investor Speed Dating for Finnish Startups
DESCRIPTION:Nordea Investor Speed Dating is a virtual matchmaking event for high-growth startups and scaleups seeking the right investor. On June 1st\, Nordea Startup and Growth will organise an event aimed at Finnish early-stage startups that are looking for funding (pre-seed/seed round\, round size 50–500k€). \nGot interested? Please submit your application by 11 May 2022\, here – and be ready to make this event the most efficient 2\,5 hours of your year! \nYou can read more about the event concept here.
URL:https://healthcapitalhelsinki.fi/event/nordea-investor-speed-dating-for-finnish-startups/
CATEGORIES:Opportunities
END:VEVENT
BEGIN:VEVENT
DTSTART;VALUE=DATE:20220511
DTEND;VALUE=DATE:20220514
DTSTAMP:20260420T073009
CREATED:20220429T111938Z
LAST-MODIFIED:20220429T111938Z
UID:19794-1652227200-1652486399@healthcapitalhelsinki.fi
SUMMARY:Nordic Health Summit Japan
DESCRIPTION:Organiser: Business Sweden Asia-Pacific\, The Trade Council (Royal Danish Embassy in Tokyo)\, Business Finland\, Business Iceland\, Innovasjon Norge and Nordic Innovation House Tokyo \nCalling all Nordic health startups and growth companies interested in Japanese markets! Nordic Health Summit Japan is a brand new hybrid matchmaking summit to connect Nordic companies with Japanese pharmaceutical companies\, investors\, medical device makers\, and more during May 11-13th.  \nJoin the event and gain: \n\nInsights on the Japanese healthcare market and digitalisation \nMatchmaking opportunities with stakeholders in Japan’s healthcare market \nNetworking opportunities with other Nordic health startups and growth companies\n\nRead more and register here.
URL:https://healthcapitalhelsinki.fi/event/nordic-health-summit-japan/
CATEGORIES:Events
ATTACH;FMTTYPE=image/png:https://healthcapitalhelsinki.fi/wp-content/uploads/2022/04/Nayttokuva-2022-04-29-kello-11.16.49.png
END:VEVENT
END:VCALENDAR