BEGIN:VCALENDAR
VERSION:2.0
PRODID:-//Health Capital Helsinki - ECPv6.15.20//NONSGML v1.0//EN
CALSCALE:GREGORIAN
METHOD:PUBLISH
X-ORIGINAL-URL:https://healthcapitalhelsinki.fi
X-WR-CALDESC:Events for Health Capital Helsinki
REFRESH-INTERVAL;VALUE=DURATION:PT1H
X-Robots-Tag:noindex
X-PUBLISHED-TTL:PT1H
BEGIN:VTIMEZONE
TZID:Europe/Helsinki
BEGIN:DAYLIGHT
TZOFFSETFROM:+0200
TZOFFSETTO:+0300
TZNAME:EEST
DTSTART:20210328T010000
END:DAYLIGHT
BEGIN:STANDARD
TZOFFSETFROM:+0300
TZOFFSETTO:+0200
TZNAME:EET
DTSTART:20211031T010000
END:STANDARD
BEGIN:DAYLIGHT
TZOFFSETFROM:+0200
TZOFFSETTO:+0300
TZNAME:EEST
DTSTART:20220327T010000
END:DAYLIGHT
BEGIN:STANDARD
TZOFFSETFROM:+0300
TZOFFSETTO:+0200
TZNAME:EET
DTSTART:20221030T010000
END:STANDARD
BEGIN:DAYLIGHT
TZOFFSETFROM:+0200
TZOFFSETTO:+0300
TZNAME:EEST
DTSTART:20230326T010000
END:DAYLIGHT
BEGIN:STANDARD
TZOFFSETFROM:+0300
TZOFFSETTO:+0200
TZNAME:EET
DTSTART:20231029T010000
END:STANDARD
END:VTIMEZONE
BEGIN:VEVENT
DTSTART;VALUE=DATE:20220508
DTEND;VALUE=DATE:20220509
DTSTAMP:20260420T073008
CREATED:20220427T134844Z
LAST-MODIFIED:20220427T134844Z
UID:19760-1651968000-1652054399@healthcapitalhelsinki.fi
SUMMARY:Call for applications: Cancer Partnering Day
DESCRIPTION:Call for applications: Finnish companies and research organisations in the field of cancer\, you are invited to apply for Business Finland’s Cancer Partnering Day! \nThe partnering & matchmaking event takes place on 5 October 2022 with the goal to create meaningful connections between Finnish innovators in cancer and global pharmaceutical companies that are active in cancer innovation. \nDon\’t miss this exceptional opportunity to meet the global R&D and BD decision-makers from 11 leading pharmaceutical companies! \nApply by 8 May!
URL:https://healthcapitalhelsinki.fi/event/call-for-applications-cancer-partnering-day/
CATEGORIES:Opportunities
ATTACH;FMTTYPE=image/webp:https://healthcapitalhelsinki.fi/wp-content/uploads/2022/04/cancer-partnering-day-picture-2.webp
END:VEVENT
END:VCALENDAR