BEGIN:VCALENDAR
VERSION:2.0
PRODID:-//Health Capital Helsinki - ECPv6.15.20//NONSGML v1.0//EN
CALSCALE:GREGORIAN
METHOD:PUBLISH
X-ORIGINAL-URL:https://healthcapitalhelsinki.fi
X-WR-CALDESC:Events for Health Capital Helsinki
REFRESH-INTERVAL;VALUE=DURATION:PT1H
X-Robots-Tag:noindex
X-PUBLISHED-TTL:PT1H
BEGIN:VTIMEZONE
TZID:Europe/Helsinki
BEGIN:DAYLIGHT
TZOFFSETFROM:+0200
TZOFFSETTO:+0300
TZNAME:EEST
DTSTART:20210328T010000
END:DAYLIGHT
BEGIN:STANDARD
TZOFFSETFROM:+0300
TZOFFSETTO:+0200
TZNAME:EET
DTSTART:20211031T010000
END:STANDARD
BEGIN:DAYLIGHT
TZOFFSETFROM:+0200
TZOFFSETTO:+0300
TZNAME:EEST
DTSTART:20220327T010000
END:DAYLIGHT
BEGIN:STANDARD
TZOFFSETFROM:+0300
TZOFFSETTO:+0200
TZNAME:EET
DTSTART:20221030T010000
END:STANDARD
BEGIN:DAYLIGHT
TZOFFSETFROM:+0200
TZOFFSETTO:+0300
TZNAME:EEST
DTSTART:20230326T010000
END:DAYLIGHT
BEGIN:STANDARD
TZOFFSETFROM:+0300
TZOFFSETTO:+0200
TZNAME:EET
DTSTART:20231029T010000
END:STANDARD
END:VTIMEZONE
BEGIN:VEVENT
DTSTART;TZID=Europe/Helsinki:20220422T120000
DTEND;TZID=Europe/Helsinki:20220422T133000
DTSTAMP:20260420T085128
CREATED:20220411T090450Z
LAST-MODIFIED:20220411T090450Z
UID:19700-1650628800-1650634200@healthcapitalhelsinki.fi
SUMMARY:Webinar: France invests massively in digitalization of healthcare
DESCRIPTION:Organiser: Business Finland \nFrance has introduced a €19bn investment plan in healthcare\, as part of the national €100bn RRF plan. Funds will go to transforming healthcare services\, modernizing facilities and also to digitalization of the healthcare system and services. \nFinnish health solution providers are invited to this webinar to learn more about the investment plan\, its priorities\, what opportunities it presents to digital health solution and technology providers\, and how Finnish companies could tap into the growing digital health market in France. \nProgram and registration
URL:https://healthcapitalhelsinki.fi/event/webinar-france-invests-massively-in-digitalization-of-healthcare/
CATEGORIES:Events
END:VEVENT
END:VCALENDAR