BEGIN:VCALENDAR
VERSION:2.0
PRODID:-//Health Capital Helsinki - ECPv6.15.20//NONSGML v1.0//EN
CALSCALE:GREGORIAN
METHOD:PUBLISH
X-ORIGINAL-URL:https://healthcapitalhelsinki.fi
X-WR-CALDESC:Events for Health Capital Helsinki
REFRESH-INTERVAL;VALUE=DURATION:PT1H
X-Robots-Tag:noindex
X-PUBLISHED-TTL:PT1H
BEGIN:VTIMEZONE
TZID:Europe/Helsinki
BEGIN:DAYLIGHT
TZOFFSETFROM:+0200
TZOFFSETTO:+0300
TZNAME:EEST
DTSTART:20210328T010000
END:DAYLIGHT
BEGIN:STANDARD
TZOFFSETFROM:+0300
TZOFFSETTO:+0200
TZNAME:EET
DTSTART:20211031T010000
END:STANDARD
BEGIN:DAYLIGHT
TZOFFSETFROM:+0200
TZOFFSETTO:+0300
TZNAME:EEST
DTSTART:20220327T010000
END:DAYLIGHT
BEGIN:STANDARD
TZOFFSETFROM:+0300
TZOFFSETTO:+0200
TZNAME:EET
DTSTART:20221030T010000
END:STANDARD
BEGIN:DAYLIGHT
TZOFFSETFROM:+0200
TZOFFSETTO:+0300
TZNAME:EEST
DTSTART:20230326T010000
END:DAYLIGHT
BEGIN:STANDARD
TZOFFSETFROM:+0300
TZOFFSETTO:+0200
TZNAME:EET
DTSTART:20231029T010000
END:STANDARD
END:VTIMEZONE
BEGIN:VEVENT
DTSTART;VALUE=DATE:20220420
DTEND;VALUE=DATE:20220422
DTSTAMP:20260420T085038
CREATED:20211102T105731Z
LAST-MODIFIED:20211102T105731Z
UID:18737-1650412800-1650585599@healthcapitalhelsinki.fi
SUMMARY:Labquality Days 2022
DESCRIPTION:Organiser: Labquality \nRegister for one of the largest annual international congresses in Scandinavia focusing on quality in laboratory medicine and medical devices! Labquality Days 2022 gathers medical laboratory and quality management professionals together to exchange ideas and meet colleagues in Helsinki. The main theme for the 2022 congress is “Forerunner in Quality for 50+ Years”. The sub-themes consist of Past and Future of EQA\, QC & Regulation and Quality Systems in Laboratory Medicine. \n 
URL:https://healthcapitalhelsinki.fi/event/labquality-days-2022/
CATEGORIES:Events
ATTACH;FMTTYPE=image/jpeg:https://healthcapitalhelsinki.fi/wp-content/uploads/2021/11/Labquality-Days-2022.jpeg
END:VEVENT
BEGIN:VEVENT
DTSTART;TZID=Europe/Helsinki:20220421T090000
DTEND;TZID=Europe/Helsinki:20220421T123000
DTSTAMP:20260420T085038
CREATED:20220305T121150Z
LAST-MODIFIED:20220305T121150Z
UID:19457-1650531600-1650544200@healthcapitalhelsinki.fi
SUMMARY:Käytettävyys terveydenhuollon tietojärjestelmissä -koulutus (in Finnish)
DESCRIPTION:Järjestäjä: Clinipower Finland Oy \nKäytettävyyssuunnittelu ja -testaus ovat avainasemassa terveysteknologiaohjelmistojen menestyksessä ja turvallisessa käytössä. Terveydenhuollon tietojärjestelmissä erityispiirteinä ovat mm. erilaisten käyttäjäryhmien määrä\, tietojärjestelmien modulaarisuus\, integroitavuus ja konfiguroitavuus.Tietojärjestelmätuotteen käytettävyyssuunnittelu vaatii erilaista strategiaa verrattuna laitetuotteeseen. \nClinipower Finlandin järjestämässä koulutuksessa perehdytään käytettävyyssuunnitteluun osana toimivaa tuotekehitystä – keskittyen terveydenhuollon tietojärjestelmiin\, jotka luokitellaan lääkinnällisiksi laitteiksi. Koulutuksessa käsitellään käytettävyysprosessia myös jo markkinoilla olevien legacy-järjestelmien osalta. Asiasisällön omaksuminen tapahtuu koulutuksen ja käytännöllisten harjoitusten kautta. \nLue lisää tapahtumasivulta ja ilmoittaudu mukaan! Koulutus on maksullinen.
URL:https://healthcapitalhelsinki.fi/event/kaytettavyys-terveydenhuollon-tietojarjestelmissa/
CATEGORIES:Events
ATTACH;FMTTYPE=image/png:https://healthcapitalhelsinki.fi/wp-content/uploads/2022/03/Kaytettavyys-terveydenhuollon-tietojarjestelmissa-1200x628px.png
END:VEVENT
BEGIN:VEVENT
DTSTART;TZID=Europe/Helsinki:20220421T120000
DTEND;TZID=Europe/Helsinki:20220421T133000
DTSTAMP:20260420T085038
CREATED:20220408T114333Z
LAST-MODIFIED:20220408T114333Z
UID:19656-1650542400-1650547800@healthcapitalhelsinki.fi
SUMMARY:Webinar: PiPPi Community of Practice Official Launch
DESCRIPTION:Organiser: Platform for Innovation of Procurement and Procurement of Innovation (PiPPi)  \nEuropean arena for joint innovation in healthcare\, PiPPi\, welcomes everybody with an interest in identifying unmet needs\, challenges and opportunities in healthcare to join its platform. You now have an opportunity to take part in the official launch of the PiPPi Community of Practice and start collaborating with the new community! Register for the webinar\, taking place on 21 April here. \n 
URL:https://healthcapitalhelsinki.fi/event/pippi-community-of-practice-official-launch/
CATEGORIES:Events
END:VEVENT
END:VCALENDAR