BEGIN:VCALENDAR
VERSION:2.0
PRODID:-//Health Capital Helsinki - ECPv6.15.20//NONSGML v1.0//EN
CALSCALE:GREGORIAN
METHOD:PUBLISH
X-ORIGINAL-URL:https://healthcapitalhelsinki.fi
X-WR-CALDESC:Events for Health Capital Helsinki
REFRESH-INTERVAL;VALUE=DURATION:PT1H
X-Robots-Tag:noindex
X-PUBLISHED-TTL:PT1H
BEGIN:VTIMEZONE
TZID:Europe/Helsinki
BEGIN:DAYLIGHT
TZOFFSETFROM:+0200
TZOFFSETTO:+0300
TZNAME:EEST
DTSTART:20210328T010000
END:DAYLIGHT
BEGIN:STANDARD
TZOFFSETFROM:+0300
TZOFFSETTO:+0200
TZNAME:EET
DTSTART:20211031T010000
END:STANDARD
BEGIN:DAYLIGHT
TZOFFSETFROM:+0200
TZOFFSETTO:+0300
TZNAME:EEST
DTSTART:20220327T010000
END:DAYLIGHT
BEGIN:STANDARD
TZOFFSETFROM:+0300
TZOFFSETTO:+0200
TZNAME:EET
DTSTART:20221030T010000
END:STANDARD
BEGIN:DAYLIGHT
TZOFFSETFROM:+0200
TZOFFSETTO:+0300
TZNAME:EEST
DTSTART:20230326T010000
END:DAYLIGHT
BEGIN:STANDARD
TZOFFSETFROM:+0300
TZOFFSETTO:+0200
TZNAME:EET
DTSTART:20231029T010000
END:STANDARD
END:VTIMEZONE
BEGIN:VEVENT
DTSTART;VALUE=DATE:20220420
DTEND;VALUE=DATE:20220421
DTSTAMP:20260420T085129
CREATED:20220408T113505Z
LAST-MODIFIED:20220408T113505Z
UID:19650-1650412800-1650499199@healthcapitalhelsinki.fi
SUMMARY:Nordea Investor Speed Dating for Scaleups
DESCRIPTION:Nordea Investor Speed Dating is a virtual matchmaking event for high-growth startups and scaleups seeking the right investor. This event\, taking place on 15 May\, is aimed at scaleups looking for funding (A series and beyond). \nGot interested? Please submit your application by April 20\, 2022\, here – and be ready to make this event the most efficient 2\,5 hours of your year! \nYou can read more about the event concept here. \n 
URL:https://healthcapitalhelsinki.fi/event/nordea-investor-speed-dating-for-scaleups/
CATEGORIES:Opportunities
END:VEVENT
BEGIN:VEVENT
DTSTART;VALUE=DATE:20220420
DTEND;VALUE=DATE:20220422
DTSTAMP:20260420T085130
CREATED:20211102T105731Z
LAST-MODIFIED:20211102T105731Z
UID:18737-1650412800-1650585599@healthcapitalhelsinki.fi
SUMMARY:Labquality Days 2022
DESCRIPTION:Organiser: Labquality \nRegister for one of the largest annual international congresses in Scandinavia focusing on quality in laboratory medicine and medical devices! Labquality Days 2022 gathers medical laboratory and quality management professionals together to exchange ideas and meet colleagues in Helsinki. The main theme for the 2022 congress is “Forerunner in Quality for 50+ Years”. The sub-themes consist of Past and Future of EQA\, QC & Regulation and Quality Systems in Laboratory Medicine. \n 
URL:https://healthcapitalhelsinki.fi/event/labquality-days-2022/
CATEGORIES:Events
ATTACH;FMTTYPE=image/jpeg:https://healthcapitalhelsinki.fi/wp-content/uploads/2021/11/Labquality-Days-2022.jpeg
END:VEVENT
END:VCALENDAR