BEGIN:VCALENDAR
VERSION:2.0
PRODID:-//Health Capital Helsinki - ECPv6.15.20//NONSGML v1.0//EN
CALSCALE:GREGORIAN
METHOD:PUBLISH
X-WR-CALNAME:Health Capital Helsinki
X-ORIGINAL-URL:https://healthcapitalhelsinki.fi
X-WR-CALDESC:Events for Health Capital Helsinki
REFRESH-INTERVAL;VALUE=DURATION:PT1H
X-Robots-Tag:noindex
X-PUBLISHED-TTL:PT1H
BEGIN:VTIMEZONE
TZID:Europe/Helsinki
BEGIN:DAYLIGHT
TZOFFSETFROM:+0200
TZOFFSETTO:+0300
TZNAME:EEST
DTSTART:20210328T010000
END:DAYLIGHT
BEGIN:STANDARD
TZOFFSETFROM:+0300
TZOFFSETTO:+0200
TZNAME:EET
DTSTART:20211031T010000
END:STANDARD
BEGIN:DAYLIGHT
TZOFFSETFROM:+0200
TZOFFSETTO:+0300
TZNAME:EEST
DTSTART:20220327T010000
END:DAYLIGHT
BEGIN:STANDARD
TZOFFSETFROM:+0300
TZOFFSETTO:+0200
TZNAME:EET
DTSTART:20221030T010000
END:STANDARD
BEGIN:DAYLIGHT
TZOFFSETFROM:+0200
TZOFFSETTO:+0300
TZNAME:EEST
DTSTART:20230326T010000
END:DAYLIGHT
BEGIN:STANDARD
TZOFFSETFROM:+0300
TZOFFSETTO:+0200
TZNAME:EET
DTSTART:20231029T010000
END:STANDARD
END:VTIMEZONE
BEGIN:VEVENT
DTSTART;TZID=Europe/Helsinki:20220407T140000
DTEND;TZID=Europe/Helsinki:20220407T160000
DTSTAMP:20260420T085048
CREATED:20220328T150430Z
LAST-MODIFIED:20220328T150430Z
UID:19583-1649340000-1649347200@healthcapitalhelsinki.fi
SUMMARY:Finnish Bioindustries Forum
DESCRIPTION:Organiser: Finnish Bioindustries \nTheme: Trends in Life Science Funding\nRegister by 31 March! \nAgenda: \nStartups: what gets funded today?\nFounding partner Timo Ahopelto\, Lifeline Ventures \nHow to get funding for life science startups?\nPartner Pekka Simula\, Innovestor Life Science \nFrom start-up to global pharma integration\nHead of Business Development\, Maarit Merla\, Forendo Pharma Ltd \nThe funding path of Aiforia – from university to IPO\nCOO Kaisa Helminen\, Aiforia Technologies Plc/ Aiforia Inc. \nPanel discussion and summary
URL:https://healthcapitalhelsinki.fi/event/bioteollisuus-forum-seminar/
END:VEVENT
END:VCALENDAR