BEGIN:VCALENDAR
VERSION:2.0
PRODID:-//Health Capital Helsinki - ECPv6.15.20//NONSGML v1.0//EN
CALSCALE:GREGORIAN
METHOD:PUBLISH
X-ORIGINAL-URL:https://healthcapitalhelsinki.fi
X-WR-CALDESC:Events for Health Capital Helsinki
REFRESH-INTERVAL;VALUE=DURATION:PT1H
X-Robots-Tag:noindex
X-PUBLISHED-TTL:PT1H
BEGIN:VTIMEZONE
TZID:Europe/Helsinki
BEGIN:DAYLIGHT
TZOFFSETFROM:+0200
TZOFFSETTO:+0300
TZNAME:EEST
DTSTART:20210328T010000
END:DAYLIGHT
BEGIN:STANDARD
TZOFFSETFROM:+0300
TZOFFSETTO:+0200
TZNAME:EET
DTSTART:20211031T010000
END:STANDARD
BEGIN:DAYLIGHT
TZOFFSETFROM:+0200
TZOFFSETTO:+0300
TZNAME:EEST
DTSTART:20220327T010000
END:DAYLIGHT
BEGIN:STANDARD
TZOFFSETFROM:+0300
TZOFFSETTO:+0200
TZNAME:EET
DTSTART:20221030T010000
END:STANDARD
BEGIN:DAYLIGHT
TZOFFSETFROM:+0200
TZOFFSETTO:+0300
TZNAME:EEST
DTSTART:20230326T010000
END:DAYLIGHT
BEGIN:STANDARD
TZOFFSETFROM:+0300
TZOFFSETTO:+0200
TZNAME:EET
DTSTART:20231029T010000
END:STANDARD
END:VTIMEZONE
BEGIN:VEVENT
DTSTART;TZID=Europe/Helsinki:20220405T080000
DTEND;TZID=Europe/Helsinki:20220405T090000
DTSTAMP:20260420T085129
CREATED:20220305T123256Z
LAST-MODIFIED:20220305T123256Z
UID:19468-1649145600-1649149200@healthcapitalhelsinki.fi
SUMMARY:Health Tuesday: Personalized Nutrition in the Data Era – New Ways to Promote Health and Wellbeing
DESCRIPTION:What kind of opportunities the growing amount of personalised data from smart devices and other sources can offer when promoting healthy eating habits? Join this Health Tuesday webinar on 5 April to learn more about the promise of personalised nutrition in the data era! \nThe speakers of the event include Jenni Lappi (VTT)\, Minna Storm\, (University of Turku)\,  Jyrki Schroderus (Polar Electro) and Katri Hallamaa (Valio). The event will end with a Q&A session.  \n 
URL:https://healthcapitalhelsinki.fi/event/health-tuesday-personalized-nutrition-in-the-data-era/
CATEGORIES:Events
END:VEVENT
END:VCALENDAR