BEGIN:VCALENDAR
VERSION:2.0
PRODID:-//Health Capital Helsinki - ECPv6.15.20//NONSGML v1.0//EN
CALSCALE:GREGORIAN
METHOD:PUBLISH
X-ORIGINAL-URL:https://healthcapitalhelsinki.fi
X-WR-CALDESC:Events for Health Capital Helsinki
REFRESH-INTERVAL;VALUE=DURATION:PT1H
X-Robots-Tag:noindex
X-PUBLISHED-TTL:PT1H
BEGIN:VTIMEZONE
TZID:Europe/Helsinki
BEGIN:DAYLIGHT
TZOFFSETFROM:+0200
TZOFFSETTO:+0300
TZNAME:EEST
DTSTART:20210328T010000
END:DAYLIGHT
BEGIN:STANDARD
TZOFFSETFROM:+0300
TZOFFSETTO:+0200
TZNAME:EET
DTSTART:20211031T010000
END:STANDARD
BEGIN:DAYLIGHT
TZOFFSETFROM:+0200
TZOFFSETTO:+0300
TZNAME:EEST
DTSTART:20220327T010000
END:DAYLIGHT
BEGIN:STANDARD
TZOFFSETFROM:+0300
TZOFFSETTO:+0200
TZNAME:EET
DTSTART:20221030T010000
END:STANDARD
BEGIN:DAYLIGHT
TZOFFSETFROM:+0200
TZOFFSETTO:+0300
TZNAME:EEST
DTSTART:20230326T010000
END:DAYLIGHT
BEGIN:STANDARD
TZOFFSETFROM:+0300
TZOFFSETTO:+0200
TZNAME:EET
DTSTART:20231029T010000
END:STANDARD
END:VTIMEZONE
BEGIN:VEVENT
DTSTART;VALUE=DATE:20220331
DTEND;VALUE=DATE:20220401
DTSTAMP:20260420T085124
CREATED:20220207T144515Z
LAST-MODIFIED:20220207T144515Z
UID:19303-1648684800-1648771199@healthcapitalhelsinki.fi
SUMMARY:Health Incubator Helsinki is looking for promising health startups
DESCRIPTION:Health Incubator Helsinki is a long-term\, customised business incubator program for research-based growth companies operating in the health sector. Approximately 10-12 teams will be selected for the program starting in April. \nHealth Incubator Helsinki offers \n\nLong-term (up to 3 years) business development support\nIndividually tailored coaching and mentoring\nAdvice on regulatory\, intellectual property\, commercial and fundraising strategies\nInvaluable networking opportunities with investors\, established healthcare industry experts\, advisors and entrepreneurs\nPeer support and office and co-working space at Terkko Health Hub\, in close proximity of HUS Helsinki University Hospital\, Helsinki\n\nFind out more if the program would be right fit for you\, and apply by 31 March! (Edit. The deadline has been extended from 13 March to 31 March.)
URL:https://healthcapitalhelsinki.fi/event/health-incubator-helsinki-is-looking-for-promising-health-startups/
CATEGORIES:Opportunities
ATTACH;FMTTYPE=image/png:https://healthcapitalhelsinki.fi/wp-content/uploads/2020/03/Helsinki-Health-Incubator_logo_rgb.png
END:VEVENT
END:VCALENDAR