BEGIN:VCALENDAR
VERSION:2.0
PRODID:-//Health Capital Helsinki - ECPv6.15.20//NONSGML v1.0//EN
CALSCALE:GREGORIAN
METHOD:PUBLISH
X-ORIGINAL-URL:https://healthcapitalhelsinki.fi
X-WR-CALDESC:Events for Health Capital Helsinki
REFRESH-INTERVAL;VALUE=DURATION:PT1H
X-Robots-Tag:noindex
X-PUBLISHED-TTL:PT1H
BEGIN:VTIMEZONE
TZID:Europe/Helsinki
BEGIN:DAYLIGHT
TZOFFSETFROM:+0200
TZOFFSETTO:+0300
TZNAME:EEST
DTSTART:20210328T010000
END:DAYLIGHT
BEGIN:STANDARD
TZOFFSETFROM:+0300
TZOFFSETTO:+0200
TZNAME:EET
DTSTART:20211031T010000
END:STANDARD
BEGIN:DAYLIGHT
TZOFFSETFROM:+0200
TZOFFSETTO:+0300
TZNAME:EEST
DTSTART:20220327T010000
END:DAYLIGHT
BEGIN:STANDARD
TZOFFSETFROM:+0300
TZOFFSETTO:+0200
TZNAME:EET
DTSTART:20221030T010000
END:STANDARD
BEGIN:DAYLIGHT
TZOFFSETFROM:+0200
TZOFFSETTO:+0300
TZNAME:EEST
DTSTART:20230326T010000
END:DAYLIGHT
BEGIN:STANDARD
TZOFFSETFROM:+0300
TZOFFSETTO:+0200
TZNAME:EET
DTSTART:20231029T010000
END:STANDARD
END:VTIMEZONE
BEGIN:VEVENT
DTSTART;TZID=Europe/Helsinki:20220322T100000
DTEND;TZID=Europe/Helsinki:20220322T120000
DTSTAMP:20260420T102105
CREATED:20220307T084704Z
LAST-MODIFIED:20220307T084704Z
UID:19471-1647943200-1647950400@healthcapitalhelsinki.fi
SUMMARY:MedTech Pricing and Reimbursement System webinar
DESCRIPTION:Organiser: Turku Science Park Ltd \nMedTech products’ pricing and reimbursement (P&R) processes\, if any\, vary widely across Europe and for example in the United States. In addition\, market access routes for MedTech products differs and this also applies to private and public sector practices by country. \nThe awareness of these issues is important as companies may face many challenges in this field. Therefore\, you are welcome to join this webinar dedicated to both Medical Device\, In Vitro Diagnostic and eHealth related products. The webinar presents Finland\, Germany\, the United Kingdom\, France\, and the United States as examples. \nThis webinar is intended for start-ups and R&D companies who need information on various market entry routes and channels that may involve Health technology assessment (HTA) and reimbursement of healthcare systems. The webinar is also for companies that want to expand their understanding of systems in different countries. Register by 8 March!
URL:https://healthcapitalhelsinki.fi/event/medtech-pricing-and-reimbursement-system-webinar/
CATEGORIES:Events
END:VEVENT
END:VCALENDAR